Workbook

Sheet BSG Monthly Results
A1: # | B1: System | C1: Bot | D1: Staking | E1: Total Points | F1: Monthly Average | G1: Monthly High | H1: Monthly Low | I1: Winning Months | J1: Months of data | K1: Winning Months % | L1: No. of Markets | M1: Market Win Rate | N1: ROI | P1: {=TRANSPOSE('BSG Bot Results'!A1:A200)} -> Date | Q1: 2022-10-22 | R1: 2022-11-16 | S1: 2022-12-23 | T1: 2023-1-17 | U1: 2023-2-21 | V1: 2023-3-17 | W1: 2023-4-17 | X1: 2023-5-15 | Y1: 2023-6-19 | Z1: 2023-7-22 | AA1: 2023-8-22 | AB1: 2023-9-18 | AC1: 2023-10-17 | AD1: 2023-11-17 | AE1: 2023-12-18 | AF1: 2024-1-16 | AG1: 2024-2-18 | AH1: 2024-3-18 | AI1: 2024-4-16 | AJ1: 2024-5-20 | AK1: 2024-6-23 | AL1: 2024-7-23 | AM1: 2024-8-17 | AN1: 2024-9-12 | AO1: 2024-10-16 | AP1: 2024-11-18 | AQ1: 2024-12-18 | AR1: 2025-01-19 | AS1: 2025-02-15 | AT1: 2025-03-18 | AU1: 2025-04-16 | AV1: 2025-05-16 | AW1: 2025-06-16 | AX1: 2025-07-15 | AY1: 2025-08-13 | AZ1: 2025-09-15 | BA1: 2025-10-15 | BB1: 2025-11-14 | BC1: 2025-12-15 | BD1: 2026-1-13 | BE1: 2026-2-13 | BF1: 2026-3-17 | BG1: 0 | BH1: 0 | BI1: 0 | BJ1: 0 | BK1: 0 | BL1: 0 | BM1: 0 | BN1: 0 | BO1: 0 | BP1: 0 | BQ1: 0 | BR1: 0 | BS1: 0 | BT1: 0 | BU1: 0 | BV1: 0 | BW1: 0 | BX1: 0 | BY1: 0 | BZ1: 0 | CA1: 0 | CB1: 0 | CC1: 0 | CD1: 0 | CE1: 0 | CF1: 0 | CG1: 0 | CH1: 0 | CI1: 0 | CJ1: 0 | CK1: 0 | CL1: 0 | CM1: 0 | CN1: 0 | CO1: 0 | CP1: 0 | CQ1: 0 | CR1: 0 | CS1: 0 | CT1: 0 | CU1: 0 | CV1: 0 | CW1: 0 | CX1: 0 | CY1: 0 | CZ1: 0 | DA1: 0 | DB1: 0 | DC1: 0 | DD1: 0 | DE1: 0 | DF1: 0 | DG1: 0 | DH1: 0 | DI1: 0 | DJ1: 0 | DK1: 0 | DL1: 0 | DM1: 0 | DN1: 0 | DO1: 0 | DP1: 0 | DQ1: 0 | DR1: 0 | DS1: 0 | DT1: 0 | DU1: 0 | DV1: 0 | DW1: 0 | DX1: 0 | DY1: 0 | DZ1: 0 | EA1: 0 | EB1: 0 | EC1: 0 | ED1: 0 | EE1: 0 | EF1: 0 | EG1: 0 | EH1: 0 | EI1: 0 | EJ1: 0 | EK1: 0 | EL1: 0 | EM1: 0 | EN1: 0 | EO1: 0 | EP1: 0 | EQ1: 0 | ER1: 0 | ES1: 0 | ET1: 0 | EU1: 0 | EV1: 0 | EW1: 0 | EX1: 0 | EY1: 0 | EZ1: 0 | FA1: 0 | FB1: 0 | FC1: 0 | FD1: 0 | FE1: 0 | FF1: 0 | FG1: 0 | FH1: 0 | FI1: 0 | FJ1: 0 | FK1: 0 | FL1: 0 | FM1: 0 | FN1: 0 | FO1: 0 | FP1: 0 | FQ1: 0 | FR1: 0 | FS1: 0 | FT1: 0 | FU1: 0 | FV1: 0 | FW1: 0 | FX1: 0 | FY1: 0 | FZ1: 0 | GA1: 0 | GB1: 0 | GC1: 0 | GD1: 0 | GE1: 0 | GF1: 0 | GG1: 0 | GH1: 0 | GI1: 0 | GJ1: 0 | GK1: 0 | GL1: 0 | GM1: 0 | GN1: 0 | GO1: 0 | GP1: 0 | GQ1: 0 | GR1: 0 | GS1: 0 | GT1: 0 | GU1: 0 | GV1: 0 | GW1: 0 | GX1: 0 | GY1: 0 | GZ1: 0 | HA1: 0 | HB1: 0 | HC1: 0 | HD1: 0 | HE1: 0 | HF1: 0 | HG1: 0
A2: 3 | B2: BSG Draws | C2: A2.3 £1 LS FT Draw 10m TS triggered | D2: Level Stakes | E2: =SUM(Q2:BF2) -> 105.6 | F2: =E2/J2 -> 11.733333 | G2: =MAX(Q2:BF2) -> 48.6 | H2: =MIN(Q2:BF2) -> -19.05 | I2: =COUNTIF(Q2:BF2, ">0") -> 7 | J2: =COUNTIF(R2:BF2, "<>0") -> 9 | K2: =I2/J2 -> 0.77777778 | L2: =('BSG Bot Results'!CE43) -> 1683 | M2: ='BSG Bot Results'!CG43 -> 0.35710042 | N2: ='BSG Bot Results'!CH43 -> 0.062745098 | P2: {=TRANSPOSE('BSG Bot Results'!CI1:CI200)} -> A2.3 £1 LS FT Draw 10m TS triggered | Q2: 0 | R2: 0 | S2: 0 | T2: 0 | U2: 0 | V2: 0 | W2: 0 | X2: 0 | Y2: 0 | Z2: 0 | AA2: 0 | AB2: 0 | AC2: 0 | AD2: 0 | AE2: 0 | AF2: 0 | AG2: 0 | AH2: 0 | AI2: 0 | AJ2: 0 | AK2: 0 | AL2: 0 | AM2: 0 | AN2: 0 | AO2: 0 | AP2: 0 | AQ2: 0 | AR2: 0 | AS2: 0 | AT2: 0 | AU2: 0 | AV2: 0 | AW2: 0 | AX2: 0.38 | AY2: 18.93 | AZ2: 16.07 | BA2: 31.92 | BB2: 4.79 | BC2: -19.05 | BD2: -4.81 | BE2: 48.6 | BF2: 8.77 | BG2: 0 | BH2: 0 | BI2: 0 | BJ2: 0 | BK2: 0 | BL2: 0 | BM2: 0 | BN2: 0 | BO2: 0 | BP2: 0 | BQ2: 0 | BR2: 0 | BS2: 0 | BT2: 0 | BU2: 0 | BV2: 0 | BW2: 0 | BX2: 0 | BY2: 0 | BZ2: 0 | CA2: 0 | CB2: 0 | CC2: 0 | CD2: 0 | CE2: 0 | CF2: 0 | CG2: 0 | CH2: 0 | CI2: 0 | CJ2: 0 | CK2: 0 | CL2: 0 | CM2: 0 | CN2: 0 | CO2: 0 | CP2: 0 | CQ2: 0 | CR2: 0 | CS2: 0 | CT2: 0 | CU2: 0 | CV2: 0 | CW2: 0 | CX2: 0 | CY2: 0 | CZ2: 0 | DA2: 0 | DB2: 0 | DC2: 0 | DD2: 0 | DE2: 0 | DF2: 0 | DG2: 0 | DH2: 0 | DI2: 0 | DJ2: 0 | DK2: 0 | DL2: 0 | DM2: 0 | DN2: 0 | DO2: 0 | DP2: 0 | DQ2: 0 | DR2: 0 | DS2: 0 | DT2: 0 | DU2: 0 | DV2: 0 | DW2: 0 | DX2: 0 | DY2: 0 | DZ2: 0 | EA2: 0 | EB2: 0 | EC2: 0 | ED2: 0 | EE2: 0 | EF2: 0 | EG2: 0 | EH2: 0 | EI2: 0 | EJ2: 0 | EK2: 0 | EL2: 0 | EM2: 0 | EN2: 0 | EO2: 0 | EP2: 0 | EQ2: 0 | ER2: 0 | ES2: 0 | ET2: 0 | EU2: 0 | EV2: 0 | EW2: 0 | EX2: 0 | EY2: 0 | EZ2: 0 | FA2: 0 | FB2: 0 | FC2: 0 | FD2: 0 | FE2: 0 | FF2: 0 | FG2: 0 | FH2: 0 | FI2: 0 | FJ2: 0 | FK2: 0 | FL2: 0 | FM2: 0 | FN2: 0 | FO2: 0 | FP2: 0 | FQ2: 0 | FR2: 0 | FS2: 0 | FT2: 0 | FU2: 0 | FV2: 0 | FW2: 0 | FX2: 0 | FY2: 0 | FZ2: 0 | GA2: 0 | GB2: 0 | GC2: 0 | GD2: 0 | GE2: 0 | GF2: 0 | GG2: 0 | GH2: 0 | GI2: 0 | GJ2: 0 | GK2: 0 | GL2: 0 | GM2: 0 | GN2: 0 | GO2: 0 | GP2: 0 | GQ2: 0 | GR2: 0 | GS2: 0 | GT2: 0 | GU2: 0 | GV2: 0 | GW2: 0 | GX2: 0 | GY2: 0 | GZ2: 0 | HA2: 0 | HB2: 0 | HC2: 0 | HD2: 0 | HE2: 0 | HF2: 0 | HG2: 0
A3: 7 | B3: BSG Draws | C3: A2.4.3 £1 LS FT Draw 10m TS H@1.5 | D3: Level Stakes | E3: =SUM(Q3:BF3) -> 52.24 | F3: =E3/J3 -> 5.8044444 | G3: =MAX(Q3:BF3) -> 23.86 | H3: =MIN(Q3:BF3) -> -13.73 | I3: =COUNTIF(Q3:BF3, ">0") -> 6 | J3: =COUNTIF(R3:BF3, "<>0") -> 9 | K3: =I3/J3 -> 0.66666667 | L3: =('BSG Bot Results'!EA43) -> 1683 | M3: ='BSG Bot Results'!EC43 -> 0.4818776 | N3: ='BSG Bot Results'!ED43 -> 0.03103981 | P3: {=TRANSPOSE('BSG Bot Results'!EE1:EE200)} -> A2.05 W100 FT Draw 10m H@1.5 (4t) | Q3: 0 | R3: 0 | S3: 0 | T3: 0 | U3: 0 | V3: 0 | W3: 0 | X3: 0 | Y3: 0 | Z3: 0 | AA3: 0 | AB3: 0 | AC3: 0 | AD3: 0 | AE3: 0 | AF3: 0 | AG3: 0 | AH3: 0 | AI3: 0 | AJ3: 0 | AK3: 0 | AL3: 0 | AM3: 0 | AN3: 0 | AO3: 0 | AP3: 0 | AQ3: 0 | AR3: 0 | AS3: 0 | AT3: 0 | AU3: 0 | AV3: 0 | AW3: 0 | AX3: 23.86 | AY3: 19.27 | AZ3: 4.31 | BA3: 12.56 | BB3: -9.7 | BC3: -3.41 | BD3: -13.73 | BE3: 17.72 | BF3: 1.36 | BG3: 0 | BH3: 0 | BI3: 0 | BJ3: 0 | BK3: 0 | BL3: 0 | BM3: 0 | BN3: 0 | BO3: 0 | BP3: 0 | BQ3: 0 | BR3: 0 | BS3: 0 | BT3: 0 | BU3: 0 | BV3: 0 | BW3: 0 | BX3: 0 | BY3: 0 | BZ3: 0 | CA3: 0 | CB3: 0 | CC3: 0 | CD3: 0 | CE3: 0 | CF3: 0 | CG3: 0 | CH3: 0 | CI3: 0 | CJ3: 0 | CK3: 0 | CL3: 0 | CM3: 0 | CN3: 0 | CO3: 0 | CP3: 0 | CQ3: 0 | CR3: 0 | CS3: 0 | CT3: 0 | CU3: 0 | CV3: 0 | CW3: 0 | CX3: 0 | CY3: 0 | CZ3: 0 | DA3: 0 | DB3: 0 | DC3: 0 | DD3: 0 | DE3: 0 | DF3: 0 | DG3: 0 | DH3: 0 | DI3: 0 | DJ3: 0 | DK3: 0 | DL3: 0 | DM3: 0 | DN3: 0 | DO3: 0 | DP3: 0 | DQ3: 0 | DR3: 0 | DS3: 0 | DT3: 0 | DU3: 0 | DV3: 0 | DW3: 0 | DX3: 0 | DY3: 0 | DZ3: 0 | EA3: 0 | EB3: 0 | EC3: 0 | ED3: 0 | EE3: 0 | EF3: 0 | EG3: 0 | EH3: 0 | EI3: 0 | EJ3: 0 | EK3: 0 | EL3: 0 | EM3: 0 | EN3: 0 | EO3: 0 | EP3: 0 | EQ3: 0 | ER3: 0 | ES3: 0 | ET3: 0 | EU3: 0 | EV3: 0 | EW3: 0 | EX3: 0 | EY3: 0 | EZ3: 0 | FA3: 0 | FB3: 0 | FC3: 0 | FD3: 0 | FE3: 0 | FF3: 0 | FG3: 0 | FH3: 0 | FI3: 0 | FJ3: 0 | FK3: 0 | FL3: 0 | FM3: 0 | FN3: 0 | FO3: 0 | FP3: 0 | FQ3: 0 | FR3: 0 | FS3: 0 | FT3: 0 | FU3: 0 | FV3: 0 | FW3: 0 | FX3: 0 | FY3: 0 | FZ3: 0 | GA3: 0 | GB3: 0 | GC3: 0 | GD3: 0 | GE3: 0 | GF3: 0 | GG3: 0 | GH3: 0 | GI3: 0 | GJ3: 0 | GK3: 0 | GL3: 0 | GM3: 0 | GN3: 0 | GO3: 0 | GP3: 0 | GQ3: 0 | GR3: 0 | GS3: 0 | GT3: 0 | GU3: 0 | GV3: 0 | GW3: 0 | GX3: 0 | GY3: 0 | GZ3: 0 | HA3: 0 | HB3: 0 | HC3: 0 | HD3: 0 | HE3: 0 | HF3: 0 | HG3: 0
A4: 6 | B4: BSG Draws | C4: A2.4.2 £1 LS FT Draw 10m TS H@80m | D4: Level Stakes | E4: =SUM(Q4:BF4) -> 51.76 | F4: =E4/J4 -> 5.7511111 | G4: =MAX(Q4:BF4) -> 33.62 | H4: =MIN(Q4:BF4) -> -14.1 | I4: =COUNTIF(Q4:BF4, ">0") -> 4 | J4: =COUNTIF(R4:BF4, "<>0") -> 9 | K4: =I4/J4 -> 0.44444444 | L4: =('BSG Bot Results'!DO43) -> 1683 | M4: ='BSG Bot Results'!DQ43 -> 0.45216875 | N4: ='BSG Bot Results'!DR43 -> 0.030754605 | P4: {=TRANSPOSE('BSG Bot Results'!DS1:DS200)} -> A2.4.2 £1 LS FT Draw 10m TS H@80m | Q4: 0 | R4: 0 | S4: 0 | T4: 0 | U4: 0 | V4: 0 | W4: 0 | X4: 0 | Y4: 0 | Z4: 0 | AA4: 0 | AB4: 0 | AC4: 0 | AD4: 0 | AE4: 0 | AF4: 0 | AG4: 0 | AH4: 0 | AI4: 0 | AJ4: 0 | AK4: 0 | AL4: 0 | AM4: 0 | AN4: 0 | AO4: 0 | AP4: 0 | AQ4: 0 | AR4: 0 | AS4: 0 | AT4: 0 | AU4: 0 | AV4: 0 | AW4: 0 | AX4: 8.46 | AY4: 9.08 | AZ4: -4.34 | BA4: 28.73 | BB4: -1.36 | BC4: -14.1 | BD4: -4.62 | BE4: 33.62 | BF4: -3.71 | BG4: 0 | BH4: 0 | BI4: 0 | BJ4: 0 | BK4: 0 | BL4: 0 | BM4: 0 | BN4: 0 | BO4: 0 | BP4: 0 | BQ4: 0 | BR4: 0 | BS4: 0 | BT4: 0 | BU4: 0 | BV4: 0 | BW4: 0 | BX4: 0 | BY4: 0 | BZ4: 0 | CA4: 0 | CB4: 0 | CC4: 0 | CD4: 0 | CE4: 0 | CF4: 0 | CG4: 0 | CH4: 0 | CI4: 0 | CJ4: 0 | CK4: 0 | CL4: 0 | CM4: 0 | CN4: 0 | CO4: 0 | CP4: 0 | CQ4: 0 | CR4: 0 | CS4: 0 | CT4: 0 | CU4: 0 | CV4: 0 | CW4: 0 | CX4: 0 | CY4: 0 | CZ4: 0 | DA4: 0 | DB4: 0 | DC4: 0 | DD4: 0 | DE4: 0 | DF4: 0 | DG4: 0 | DH4: 0 | DI4: 0 | DJ4: 0 | DK4: 0 | DL4: 0 | DM4: 0 | DN4: 0 | DO4: 0 | DP4: 0 | DQ4: 0 | DR4: 0 | DS4: 0 | DT4: 0 | DU4: 0 | DV4: 0 | DW4: 0 | DX4: 0 | DY4: 0 | DZ4: 0 | EA4: 0 | EB4: 0 | EC4: 0 | ED4: 0 | EE4: 0 | EF4: 0 | EG4: 0 | EH4: 0 | EI4: 0 | EJ4: 0 | EK4: 0 | EL4: 0 | EM4: 0 | EN4: 0 | EO4: 0 | EP4: 0 | EQ4: 0 | ER4: 0 | ES4: 0 | ET4: 0 | EU4: 0 | EV4: 0 | EW4: 0 | EX4: 0 | EY4: 0 | EZ4: 0 | FA4: 0 | FB4: 0 | FC4: 0 | FD4: 0 | FE4: 0 | FF4: 0 | FG4: 0 | FH4: 0 | FI4: 0 | FJ4: 0 | FK4: 0 | FL4: 0 | FM4: 0 | FN4: 0 | FO4: 0 | FP4: 0 | FQ4: 0 | FR4: 0 | FS4: 0 | FT4: 0 | FU4: 0 | FV4: 0 | FW4: 0 | FX4: 0 | FY4: 0 | FZ4: 0 | GA4: 0 | GB4: 0 | GC4: 0 | GD4: 0 | GE4: 0 | GF4: 0 | GG4: 0 | GH4: 0 | GI4: 0 | GJ4: 0 | GK4: 0 | GL4: 0 | GM4: 0 | GN4: 0 | GO4: 0 | GP4: 0 | GQ4: 0 | GR4: 0 | GS4: 0 | GT4: 0 | GU4: 0 | GV4: 0 | GW4: 0 | GX4: 0 | GY4: 0 | GZ4: 0 | HA4: 0 | HB4: 0 | HC4: 0 | HD4: 0 | HE4: 0 | HF4: 0 | HG4: 0
A5: 2 | B5: BSG Draws | C5: A2.02 £1 LS FT Draw Opp. | D5: Level Stakes | E5: =SUM(Q5:BF5) -> 256.69 | F5: =E5/J5 -> 6.2607317 | G5: =MAX(Q5:BF5) -> 55.15 | H5: =MIN(Q5:BF5) -> -32.13 | I5: =COUNTIF(Q5:BF5, ">0") -> 24 | J5: =COUNTIF(R5:BF5, "<>0") -> 41 | K5: =I5/J5 -> 0.58536585 | L5: =('BSG Bot Results'!AJ43) -> 2022 | M5: ='BSG Bot Results'!AK43 -> 0.31837506 | N5: ='BSG Bot Results'!AL43 -> 0.040417257 | P5: {=TRANSPOSE('BSG Bot Results'!AM1:AM200)} -> A2.02 £1 LS FT Draw Opp. | Q5: 0 | R5: 35.07 | S5: 41.62 | T5: -13.75 | U5: 16.61 | V5: 34.82 | W5: 26.38 | X5: 3.25 | Y5: 33.6 | Z5: 5.62 | AA5: -19.45 | AB5: 28.35 | AC5: 42.87 | AD5: 1.47 | AE5: -15.37 | AF5: 4.11 | AG5: 9.16 | AH5: 55.15 | AI5: 26.65 | AJ5: -0.1 | AK5: -9.42 | AL5: -8.92 | AM5: -9.78 | AN5: -23.08 | AO5: -8.8 | AP5: 17.88 | AQ5: 30 | AR5: 19.46 | AS5: 20.74 | AT5: -8.49 | AU5: -32.13 | AV5: -21.39 | AW5: -16.93 | AX5: -2.12 | AY5: 7.59 | AZ5: -12.14 | BA5: 13.25 | BB5: 3.95 | BC5: -16.85 | BD5: -23.4 | BE5: 1.76 | BF5: 19.45 | BG5: 0 | BH5: 0 | BI5: 0 | BJ5: 0 | BK5: 0 | BL5: 0 | BM5: 0 | BN5: 0 | BO5: 0 | BP5: 0 | BQ5: 0 | BR5: 0 | BS5: 0 | BT5: 0 | BU5: 0 | BV5: 0 | BW5: 0 | BX5: 0 | BY5: 0 | BZ5: 0 | CA5: 0 | CB5: 0 | CC5: 0 | CD5: 0 | CE5: 0 | CF5: 0 | CG5: 0 | CH5: 0 | CI5: 0 | CJ5: 0 | CK5: 0 | CL5: 0 | CM5: 0 | CN5: 0 | CO5: 0 | CP5: 0 | CQ5: 0 | CR5: 0 | CS5: 0 | CT5: 0 | CU5: 0 | CV5: 0 | CW5: 0 | CX5: 0 | CY5: 0 | CZ5: 0 | DA5: 0 | DB5: 0 | DC5: 0 | DD5: 0 | DE5: 0 | DF5: 0 | DG5: 0 | DH5: 0 | DI5: 0 | DJ5: 0 | DK5: 0 | DL5: 0 | DM5: 0 | DN5: 0 | DO5: 0 | DP5: 0 | DQ5: 0 | DR5: 0 | DS5: 0 | DT5: 0 | DU5: 0 | DV5: 0 | DW5: 0 | DX5: 0 | DY5: 0 | DZ5: 0 | EA5: 0 | EB5: 0 | EC5: 0 | ED5: 0 | EE5: 0 | EF5: 0 | EG5: 0 | EH5: 0 | EI5: 0 | EJ5: 0 | EK5: 0 | EL5: 0 | EM5: 0 | EN5: 0 | EO5: 0 | EP5: 0 | EQ5: 0 | ER5: 0 | ES5: 0 | ET5: 0 | EU5: 0 | EV5: 0 | EW5: 0 | EX5: 0 | EY5: 0 | EZ5: 0 | FA5: 0 | FB5: 0 | FC5: 0 | FD5: 0 | FE5: 0 | FF5: 0 | FG5: 0 | FH5: 0 | FI5: 0 | FJ5: 0 | FK5: 0 | FL5: 0 | FM5: 0 | FN5: 0 | FO5: 0 | FP5: 0 | FQ5: 0 | FR5: 0 | FS5: 0 | FT5: 0 | FU5: 0 | FV5: 0 | FW5: 0 | FX5: 0 | FY5: 0 | FZ5: 0 | GA5: 0 | GB5: 0 | GC5: 0 | GD5: 0 | GE5: 0 | GF5: 0 | GG5: 0 | GH5: 0 | GI5: 0 | GJ5: 0 | GK5: 0 | GL5: 0 | GM5: 0 | GN5: 0 | GO5: 0 | GP5: 0 | GQ5: 0 | GR5: 0 | GS5: 0 | GT5: 0 | GU5: 0 | GV5: 0 | GW5: 0 | GX5: 0 | GY5: 0 | GZ5: 0 | HA5: 0 | HB5: 0 | HC5: 0 | HD5: 0 | HE5: 0 | HF5: 0 | HG5: 0
A6: 1 | B6: BSG Draws | C6: A2.01 £1 LS FT Draw | D6: Level Stakes | E6: =SUM(Q6:BF6) -> 233.26 | F6: =E6/J6 -> 5.6892683 | G6: =MAX(Q6:BF6) -> 93.08 | H6: =MIN(Q6:BF6) -> -88.76 | I6: =COUNTIF(Q6:BF6, ">0") -> 21 | J6: =COUNTIF(R6:BF6, "<>0") -> 41 | K6: =I6/J6 -> 0.51219512 | L6: =('BSG Bot Results'!C43) -> 19635 | M6: ='BSG Bot Results'!E43 -> 0.32284186 | N6: ='BSG Bot Results'!F43 -> 0.011879806 | P6: {=TRANSPOSE('BSG Bot Results'!G1:G200)} -> A2.01 £1 LS FT Draw | Q6: 0 | R6: 32.16 | S6: 38.14 | T6: -16.16 | U6: 0.96 | V6: 50.87 | W6: 16.05 | X6: 5.48 | Y6: 60.3 | Z6: 17.76 | AA6: -23.35 | AB6: 17.6 | AC6: 36.51 | AD6: -14.59 | AE6: -0.25 | AF6: -49.25 | AG6: 62.5 | AH6: 35.27 | AI6: 93.08 | AJ6: -29.85 | AK6: -54.72 | AL6: -3.18 | AM6: -20.29 | AN6: -21.41 | AO6: -20.4 | AP6: -1.32 | AQ6: -10.75 | AR6: 24.13 | AS6: 32.467 | AT6: 42.833 | AU6: -26.41 | AV6: -24.72 | AW6: -24.72 | AX6: -25.22 | AY6: 19.2 | AZ6: -88.76 | BA6: 33.16 | BB6: -7.05 | BC6: 2.95 | BD6: -34.5 | BE6: 38.77 | BF6: 69.97 | BG6: 0 | BH6: 0 | BI6: 0 | BJ6: 0 | BK6: 0 | BL6: 0 | BM6: 0 | BN6: 0 | BO6: 0 | BP6: 0 | BQ6: 0 | BR6: 0 | BS6: 0 | BT6: 0 | BU6: 0 | BV6: 0 | BW6: 0 | BX6: 0 | BY6: 0 | BZ6: 0 | CA6: 0 | CB6: 0 | CC6: 0 | CD6: 0 | CE6: 0 | CF6: 0 | CG6: 0 | CH6: 0 | CI6: 0 | CJ6: 0 | CK6: 0 | CL6: 0 | CM6: 0 | CN6: 0 | CO6: 0 | CP6: 0 | CQ6: 0 | CR6: 0 | CS6: 0 | CT6: 0 | CU6: 0 | CV6: 0 | CW6: 0 | CX6: 0 | CY6: 0 | CZ6: 0 | DA6: 0 | DB6: 0 | DC6: 0 | DD6: 0 | DE6: 0 | DF6: 0 | DG6: 0 | DH6: 0 | DI6: 0 | DJ6: 0 | DK6: 0 | DL6: 0 | DM6: 0 | DN6: 0 | DO6: 0 | DP6: 0 | DQ6: 0 | DR6: 0 | DS6: 0 | DT6: 0 | DU6: 0 | DV6: 0 | DW6: 0 | DX6: 0 | DY6: 0 | DZ6: 0 | EA6: 0 | EB6: 0 | EC6: 0 | ED6: 0 | EE6: 0 | EF6: 0 | EG6: 0 | EH6: 0 | EI6: 0 | EJ6: 0 | EK6: 0 | EL6: 0 | EM6: 0 | EN6: 0 | EO6: 0 | EP6: 0 | EQ6: 0 | ER6: 0 | ES6: 0 | ET6: 0 | EU6: 0 | EV6: 0 | EW6: 0 | EX6: 0 | EY6: 0 | EZ6: 0 | FA6: 0 | FB6: 0 | FC6: 0 | FD6: 0 | FE6: 0 | FF6: 0 | FG6: 0 | FH6: 0 | FI6: 0 | FJ6: 0 | FK6: 0 | FL6: 0 | FM6: 0 | FN6: 0 | FO6: 0 | FP6: 0 | FQ6: 0 | FR6: 0 | FS6: 0 | FT6: 0 | FU6: 0 | FV6: 0 | FW6: 0 | FX6: 0 | FY6: 0 | FZ6: 0 | GA6: 0 | GB6: 0 | GC6: 0 | GD6: 0 | GE6: 0 | GF6: 0 | GG6: 0 | GH6: 0 | GI6: 0 | GJ6: 0 | GK6: 0 | GL6: 0 | GM6: 0 | GN6: 0 | GO6: 0 | GP6: 0 | GQ6: 0 | GR6: 0 | GS6: 0 | GT6: 0 | GU6: 0 | GV6: 0 | GW6: 0 | GX6: 0 | GY6: 0 | GZ6: 0 | HA6: 0 | HB6: 0 | HC6: 0 | HD6: 0 | HE6: 0 | HF6: 0 | HG6: 0
A7: 9 | B7: BSG Draws | C7: A7.3 £1 LS HT Draw | D7: Level Stakes | E7: =SUM(Q7:BF7) -> 78.1 | F7: =E7/J7 -> 4.88125 | G7: =MAX(Q7:BF7) -> 44.04 | H7: =MIN(Q7:BF7) -> -37.63 | I7: =COUNTIF(Q7:BF7, ">0") -> 12 | J7: =COUNTIF(R7:BF7, "<>0") -> 16 | K7: =I7/J7 -> 0.75 | L7: =('BSG Bot Results'!AV43) -> 1879 | M7: ='BSG Bot Results'!AW43 -> 0.48906819 | N7: ='BSG Bot Results'!AX43 -> 0.020327954 | P7: {=TRANSPOSE('BSG Bot Results'!AY1:AY200)} -> A7.3 £1 LS HT Draw | Q7: 0 | R7: 0 | S7: 0 | T7: 0 | U7: 0 | V7: 0 | W7: 0 | X7: 0 | Y7: 0 | Z7: 0 | AA7: 0 | AB7: 0 | AC7: 0 | AD7: 0 | AE7: 0 | AF7: 0 | AG7: 0 | AH7: 0 | AI7: 8.18 | AJ7: -28.72 | AK7: 18.47 | AL7: 4.3 | AM7: 12.28 | AN7: 18.21 | AO7: -32.72 | AP7: 0 | AQ7: 0 | AR7: 0 | AS7: 0 | AT7: 0 | AU7: 0 | AV7: 0 | AW7: 0 | AX7: 44.04 | AY7: 18.5 | AZ7: -37.63 | BA7: 10.78 | BB7: -2.46 | BC7: 5.64 | BD7: 0.96 | BE7: 29.08 | BF7: 9.19 | BG7: 0 | BH7: 0 | BI7: 0 | BJ7: 0 | BK7: 0 | BL7: 0 | BM7: 0 | BN7: 0 | BO7: 0 | BP7: 0 | BQ7: 0 | BR7: 0 | BS7: 0 | BT7: 0 | BU7: 0 | BV7: 0 | BW7: 0 | BX7: 0 | BY7: 0 | BZ7: 0 | CA7: 0 | CB7: 0 | CC7: 0 | CD7: 0 | CE7: 0 | CF7: 0 | CG7: 0 | CH7: 0 | CI7: 0 | CJ7: 0 | CK7: 0 | CL7: 0 | CM7: 0 | CN7: 0 | CO7: 0 | CP7: 0 | CQ7: 0 | CR7: 0 | CS7: 0 | CT7: 0 | CU7: 0 | CV7: 0 | CW7: 0 | CX7: 0 | CY7: 0 | CZ7: 0 | DA7: 0 | DB7: 0 | DC7: 0 | DD7: 0 | DE7: 0 | DF7: 0 | DG7: 0 | DH7: 0 | DI7: 0 | DJ7: 0 | DK7: 0 | DL7: 0 | DM7: 0 | DN7: 0 | DO7: 0 | DP7: 0 | DQ7: 0 | DR7: 0 | DS7: 0 | DT7: 0 | DU7: 0 | DV7: 0 | DW7: 0 | DX7: 0 | DY7: 0 | DZ7: 0 | EA7: 0 | EB7: 0 | EC7: 0 | ED7: 0 | EE7: 0 | EF7: 0 | EG7: 0 | EH7: 0 | EI7: 0 | EJ7: 0 | EK7: 0 | EL7: 0 | EM7: 0 | EN7: 0 | EO7: 0 | EP7: 0 | EQ7: 0 | ER7: 0 | ES7: 0 | ET7: 0 | EU7: 0 | EV7: 0 | EW7: 0 | EX7: 0 | EY7: 0 | EZ7: 0 | FA7: 0 | FB7: 0 | FC7: 0 | FD7: 0 | FE7: 0 | FF7: 0 | FG7: 0 | FH7: 0 | FI7: 0 | FJ7: 0 | FK7: 0 | FL7: 0 | FM7: 0 | FN7: 0 | FO7: 0 | FP7: 0 | FQ7: 0 | FR7: 0 | FS7: 0 | FT7: 0 | FU7: 0 | FV7: 0 | FW7: 0 | FX7: 0 | FY7: 0 | FZ7: 0 | GA7: 0 | GB7: 0 | GC7: 0 | GD7: 0 | GE7: 0 | GF7: 0 | GG7: 0 | GH7: 0 | GI7: 0 | GJ7: 0 | GK7: 0 | GL7: 0 | GM7: 0 | GN7: 0 | GO7: 0 | GP7: 0 | GQ7: 0 | GR7: 0 | GS7: 0 | GT7: 0 | GU7: 0 | GV7: 0 | GW7: 0 | GX7: 0 | GY7: 0 | GZ7: 0 | HA7: 0 | HB7: 0 | HC7: 0 | HD7: 0 | HE7: 0 | HF7: 0 | HG7: 0
A8: 4 | B8: BSG Draws | C8: A2.3.1 £1 LS FT Draw 10m Autobot | D8: Level Stakes | E8: =SUM(Q8:BF8) -> 29.55 | F8: =E8/J8 -> 3.2833333 | G8: =MAX(Q8:BF8) -> 36.19 | H8: =MIN(Q8:BF8) -> -16.75 | I8: =COUNTIF(Q8:BF8, ">0") -> 5 | J8: =COUNTIF(R8:BF8, "<>0") -> 9 | K8: =I8/J8 -> 0.55555556 | L8: =('BSG Bot Results'!CQ43) -> 2242 | M8: ='BSG Bot Results'!CS43 -> 0.31935772 | N8: ='BSG Bot Results'!CT43 -> 0.013180196 | P8: {=TRANSPOSE('BSG Bot Results'!CU1:CU200)} -> A2.3.1 £1 LS FT Draw 10m Autobot | Q8: 0 | R8: 0 | S8: 0 | T8: 0 | U8: 0 | V8: 0 | W8: 0 | X8: 0 | Y8: 0 | Z8: 0 | AA8: 0 | AB8: 0 | AC8: 0 | AD8: 0 | AE8: 0 | AF8: 0 | AG8: 0 | AH8: 0 | AI8: 0 | AJ8: 0 | AK8: 0 | AL8: 0 | AM8: 0 | AN8: 0 | AO8: 0 | AP8: 0 | AQ8: 0 | AR8: 0 | AS8: 0 | AT8: 0 | AU8: 0 | AV8: 0 | AW8: 0 | AX8: 0.12 | AY8: 36.19 | AZ8: -13.03 | BA8: 0.77 | BB8: -9.75 | BC8: 14.8 | BD8: -16.75 | BE8: 30.92 | BF8: -13.72 | BG8: 0 | BH8: 0 | BI8: 0 | BJ8: 0 | BK8: 0 | BL8: 0 | BM8: 0 | BN8: 0 | BO8: 0 | BP8: 0 | BQ8: 0 | BR8: 0 | BS8: 0 | BT8: 0 | BU8: 0 | BV8: 0 | BW8: 0 | BX8: 0 | BY8: 0 | BZ8: 0 | CA8: 0 | CB8: 0 | CC8: 0 | CD8: 0 | CE8: 0 | CF8: 0 | CG8: 0 | CH8: 0 | CI8: 0 | CJ8: 0 | CK8: 0 | CL8: 0 | CM8: 0 | CN8: 0 | CO8: 0 | CP8: 0 | CQ8: 0 | CR8: 0 | CS8: 0 | CT8: 0 | CU8: 0 | CV8: 0 | CW8: 0 | CX8: 0 | CY8: 0 | CZ8: 0 | DA8: 0 | DB8: 0 | DC8: 0 | DD8: 0 | DE8: 0 | DF8: 0 | DG8: 0 | DH8: 0 | DI8: 0 | DJ8: 0 | DK8: 0 | DL8: 0 | DM8: 0 | DN8: 0 | DO8: 0 | DP8: 0 | DQ8: 0 | DR8: 0 | DS8: 0 | DT8: 0 | DU8: 0 | DV8: 0 | DW8: 0 | DX8: 0 | DY8: 0 | DZ8: 0 | EA8: 0 | EB8: 0 | EC8: 0 | ED8: 0 | EE8: 0 | EF8: 0 | EG8: 0 | EH8: 0 | EI8: 0 | EJ8: 0 | EK8: 0 | EL8: 0 | EM8: 0 | EN8: 0 | EO8: 0 | EP8: 0 | EQ8: 0 | ER8: 0 | ES8: 0 | ET8: 0 | EU8: 0 | EV8: 0 | EW8: 0 | EX8: 0 | EY8: 0 | EZ8: 0 | FA8: 0 | FB8: 0 | FC8: 0 | FD8: 0 | FE8: 0 | FF8: 0 | FG8: 0 | FH8: 0 | FI8: 0 | FJ8: 0 | FK8: 0 | FL8: 0 | FM8: 0 | FN8: 0 | FO8: 0 | FP8: 0 | FQ8: 0 | FR8: 0 | FS8: 0 | FT8: 0 | FU8: 0 | FV8: 0 | FW8: 0 | FX8: 0 | FY8: 0 | FZ8: 0 | GA8: 0 | GB8: 0 | GC8: 0 | GD8: 0 | GE8: 0 | GF8: 0 | GG8: 0 | GH8: 0 | GI8: 0 | GJ8: 0 | GK8: 0 | GL8: 0 | GM8: 0 | GN8: 0 | GO8: 0 | GP8: 0 | GQ8: 0 | GR8: 0 | GS8: 0 | GT8: 0 | GU8: 0 | GV8: 0 | GW8: 0 | GX8: 0 | GY8: 0 | GZ8: 0 | HA8: 0 | HB8: 0 | HC8: 0 | HD8: 0 | HE8: 0 | HF8: 0 | HG8: 0
A9: 8 | B9: BSG Draws | C9: A2.4.4 £1 LS FT Draw 10m TS H@2 | D9: Level Stakes | E9: =SUM(Q9:BF9) -> 20.89 | F9: =E9/J9 -> 2.3211111 | G9: =MAX(Q9:BF9) -> 20.49 | H9: =MIN(Q9:BF9) -> -35.65 | I9: =COUNTIF(Q9:BF9, ">0") -> 6 | J9: =COUNTIF(R9:BF9, "<>0") -> 9 | K9: =I9/J9 -> 0.66666667 | L9: =('BSG Bot Results'!EM43) -> 1683 | M9: ='BSG Bot Results'!EO43 -> 0.61675579 | N9: ='BSG Bot Results'!EP43 -> 0.012412359 | P9: {=TRANSPOSE('BSG Bot Results'!EQ1:EQ200)} -> A2.4.4 £1 LS FT Draw 10m TS H@2 | Q9: 0 | R9: 0 | S9: 0 | T9: 0 | U9: 0 | V9: 0 | W9: 0 | X9: 0 | Y9: 0 | Z9: 0 | AA9: 0 | AB9: 0 | AC9: 0 | AD9: 0 | AE9: 0 | AF9: 0 | AG9: 0 | AH9: 0 | AI9: 0 | AJ9: 0 | AK9: 0 | AL9: 0 | AM9: 0 | AN9: 0 | AO9: 0 | AP9: 0 | AQ9: 0 | AR9: 0 | AS9: 0 | AT9: 0 | AU9: 0 | AV9: 0 | AW9: 0 | AX9: 7.59 | AY9: 13.8 | AZ9: 1.34 | BA9: 20.49 | BB9: -15.27 | BC9: 12.88 | BD9: -35.65 | BE9: 20.16 | BF9: -4.45 | BG9: 0 | BH9: 0 | BI9: 0 | BJ9: 0 | BK9: 0 | BL9: 0 | BM9: 0 | BN9: 0 | BO9: 0 | BP9: 0 | BQ9: 0 | BR9: 0 | BS9: 0 | BT9: 0 | BU9: 0 | BV9: 0 | BW9: 0 | BX9: 0 | BY9: 0 | BZ9: 0 | CA9: 0 | CB9: 0 | CC9: 0 | CD9: 0 | CE9: 0 | CF9: 0 | CG9: 0 | CH9: 0 | CI9: 0 | CJ9: 0 | CK9: 0 | CL9: 0 | CM9: 0 | CN9: 0 | CO9: 0 | CP9: 0 | CQ9: 0 | CR9: 0 | CS9: 0 | CT9: 0 | CU9: 0 | CV9: 0 | CW9: 0 | CX9: 0 | CY9: 0 | CZ9: 0 | DA9: 0 | DB9: 0 | DC9: 0 | DD9: 0 | DE9: 0 | DF9: 0 | DG9: 0 | DH9: 0 | DI9: 0 | DJ9: 0 | DK9: 0 | DL9: 0 | DM9: 0 | DN9: 0 | DO9: 0 | DP9: 0 | DQ9: 0 | DR9: 0 | DS9: 0 | DT9: 0 | DU9: 0 | DV9: 0 | DW9: 0 | DX9: 0 | DY9: 0 | DZ9: 0 | EA9: 0 | EB9: 0 | EC9: 0 | ED9: 0 | EE9: 0 | EF9: 0 | EG9: 0 | EH9: 0 | EI9: 0 | EJ9: 0 | EK9: 0 | EL9: 0 | EM9: 0 | EN9: 0 | EO9: 0 | EP9: 0 | EQ9: 0 | ER9: 0 | ES9: 0 | ET9: 0 | EU9: 0 | EV9: 0 | EW9: 0 | EX9: 0 | EY9: 0 | EZ9: 0 | FA9: 0 | FB9: 0 | FC9: 0 | FD9: 0 | FE9: 0 | FF9: 0 | FG9: 0 | FH9: 0 | FI9: 0 | FJ9: 0 | FK9: 0 | FL9: 0 | FM9: 0 | FN9: 0 | FO9: 0 | FP9: 0 | FQ9: 0 | FR9: 0 | FS9: 0 | FT9: 0 | FU9: 0 | FV9: 0 | FW9: 0 | FX9: 0 | FY9: 0 | FZ9: 0 | GA9: 0 | GB9: 0 | GC9: 0 | GD9: 0 | GE9: 0 | GF9: 0 | GG9: 0 | GH9: 0 | GI9: 0 | GJ9: 0 | GK9: 0 | GL9: 0 | GM9: 0 | GN9: 0 | GO9: 0 | GP9: 0 | GQ9: 0 | GR9: 0 | GS9: 0 | GT9: 0 | GU9: 0 | GV9: 0 | GW9: 0 | GX9: 0 | GY9: 0 | GZ9: 0 | HA9: 0 | HB9: 0 | HC9: 0 | HD9: 0 | HE9: 0 | HF9: 0 | HG9: 0
A10: 5 | B10: BSG Draws | C10: A2.4.1 £1 LS FT Draw 10m TS H@70m | D10: Level Stakes | E10: =SUM(Q10:BF10) -> 17.1 | F10: =E10/J10 -> 1.9 | G10: =MAX(Q10:BF10) -> 25.48 | H10: =MIN(Q10:BF10) -> -13.83 | I10: =COUNTIF(Q10:BF10, ">0") -> 4 | J10: =COUNTIF(R10:BF10, "<>0") -> 9 | K10: =I10/J10 -> 0.44444444 | L10: =('BSG Bot Results'!DC43) -> 1683 | M10: ='BSG Bot Results'!DE43 -> 0.45216875 | N10: ='BSG Bot Results'!DF43 -> 0.010160428 | P10: {=TRANSPOSE('BSG Bot Results'!DG1:DG200)} -> A2.4.1 £1 LS FT Draw 10m TS H@70m | Q10: 0 | R10: 0 | S10: 0 | T10: 0 | U10: 0 | V10: 0 | W10: 0 | X10: 0 | Y10: 0 | Z10: 0 | AA10: 0 | AB10: 0 | AC10: 0 | AD10: 0 | AE10: 0 | AF10: 0 | AG10: 0 | AH10: 0 | AI10: 0 | AJ10: 0 | AK10: 0 | AL10: 0 | AM10: 0 | AN10: 0 | AO10: 0 | AP10: 0 | AQ10: 0 | AR10: 0 | AS10: 0 | AT10: 0 | AU10: 0 | AV10: 0 | AW10: 0 | AX10: -1.95 | AY10: 1.2 | AZ10: -4.56 | BA10: 24.33 | BB10: -7.41 | BC10: -13.83 | BD10: 1.33 | BE10: 25.48 | BF10: -7.49 | BG10: 0 | BH10: 0 | BI10: 0 | BJ10: 0 | BK10: 0 | BL10: 0 | BM10: 0 | BN10: 0 | BO10: 0 | BP10: 0 | BQ10: 0 | BR10: 0 | BS10: 0 | BT10: 0 | BU10: 0 | BV10: 0 | BW10: 0 | BX10: 0 | BY10: 0 | BZ10: 0 | CA10: 0 | CB10: 0 | CC10: 0 | CD10: 0 | CE10: 0 | CF10: 0 | CG10: 0 | CH10: 0 | CI10: 0 | CJ10: 0 | CK10: 0 | CL10: 0 | CM10: 0 | CN10: 0 | CO10: 0 | CP10: 0 | CQ10: 0 | CR10: 0 | CS10: 0 | CT10: 0 | CU10: 0 | CV10: 0 | CW10: 0 | CX10: 0 | CY10: 0 | CZ10: 0 | DA10: 0 | DB10: 0 | DC10: 0 | DD10: 0 | DE10: 0 | DF10: 0 | DG10: 0 | DH10: 0 | DI10: 0 | DJ10: 0 | DK10: 0 | DL10: 0 | DM10: 0 | DN10: 0 | DO10: 0 | DP10: 0 | DQ10: 0 | DR10: 0 | DS10: 0 | DT10: 0 | DU10: 0 | DV10: 0 | DW10: 0 | DX10: 0 | DY10: 0 | DZ10: 0 | EA10: 0 | EB10: 0 | EC10: 0 | ED10: 0 | EE10: 0 | EF10: 0 | EG10: 0 | EH10: 0 | EI10: 0 | EJ10: 0 | EK10: 0 | EL10: 0 | EM10: 0 | EN10: 0 | EO10: 0 | EP10: 0 | EQ10: 0 | ER10: 0 | ES10: 0 | ET10: 0 | EU10: 0 | EV10: 0 | EW10: 0 | EX10: 0 | EY10: 0 | EZ10: 0 | FA10: 0 | FB10: 0 | FC10: 0 | FD10: 0 | FE10: 0 | FF10: 0 | FG10: 0 | FH10: 0 | FI10: 0 | FJ10: 0 | FK10: 0 | FL10: 0 | FM10: 0 | FN10: 0 | FO10: 0 | FP10: 0 | FQ10: 0 | FR10: 0 | FS10: 0 | FT10: 0 | FU10: 0 | FV10: 0 | FW10: 0 | FX10: 0 | FY10: 0 | FZ10: 0 | GA10: 0 | GB10: 0 | GC10: 0 | GD10: 0 | GE10: 0 | GF10: 0 | GG10: 0 | GH10: 0 | GI10: 0 | GJ10: 0 | GK10: 0 | GL10: 0 | GM10: 0 | GN10: 0 | GO10: 0 | GP10: 0 | GQ10: 0 | GR10: 0 | GS10: 0 | GT10: 0 | GU10: 0 | GV10: 0 | GW10: 0 | GX10: 0 | GY10: 0 | GZ10: 0 | HA10: 0 | HB10: 0 | HC10: 0 | HD10: 0 | HE10: 0 | HF10: 0 | HG10: 0
A11: 11 | B11: BSG Draws | C11: A8.2 £1 LS FT Draw @2-0 Opp. | D11: Level Stakes | E11: =SUM(Q11:BF11) -> 18.3 | F11: =E11/J11 -> 1.525 | G11: =MAX(Q11:BF11) -> 40.89 | H11: =MIN(Q11:BF11) -> -29.99 | I11: =COUNTIF(Q11:BF11, ">0") -> 7 | J11: =COUNTIF(R11:BF11, "<>0") -> 12 | K11: =I11/J11 -> 0.58333333 | L11: =('BSG Bot Results'!BS43) -> 628 | M11: ='BSG Bot Results'!BU43 -> 0.093949045 | N11: ='BSG Bot Results'!BV43 -> 0.029140127 | P11: {=TRANSPOSE('BSG Bot Results'!BW1:BW200)} -> A8.2 £1 LS FT Draw @2-0 Opp. | Q11: 0 | R11: 0 | S11: 0 | T11: 0 | U11: 0 | V11: 0 | W11: 0 | X11: 0 | Y11: 0 | Z11: 0 | AA11: 0 | AB11: 0 | AC11: 0 | AD11: 0 | AE11: 0 | AF11: 0 | AG11: 0 | AH11: 0 | AI11: 0 | AJ11: 0 | AK11: 0 | AL11: 0 | AM11: 0 | AN11: 0 | AO11: 0 | AP11: 0 | AQ11: 0 | AR11: 0 | AS11: 0 | AT11: 0 | AU11: 12.9 | AV11: -21.36 | AW11: -2.86 | AX11: -20.2 | AY11: 40.89 | AZ11: 7.48 | BA11: 16.64 | BB11: 3.5 | BC11: 33.3 | BD11: -27.9 | BE11: 5.9 | BF11: -29.99 | BG11: 0 | BH11: 0 | BI11: 0 | BJ11: 0 | BK11: 0 | BL11: 0 | BM11: 0 | BN11: 0 | BO11: 0 | BP11: 0 | BQ11: 0 | BR11: 0 | BS11: 0 | BT11: 0 | BU11: 0 | BV11: 0 | BW11: 0 | BX11: 0 | BY11: 0 | BZ11: 0 | CA11: 0 | CB11: 0 | CC11: 0 | CD11: 0 | CE11: 0 | CF11: 0 | CG11: 0 | CH11: 0 | CI11: 0 | CJ11: 0 | CK11: 0 | CL11: 0 | CM11: 0 | CN11: 0 | CO11: 0 | CP11: 0 | CQ11: 0 | CR11: 0 | CS11: 0 | CT11: 0 | CU11: 0 | CV11: 0 | CW11: 0 | CX11: 0 | CY11: 0 | CZ11: 0 | DA11: 0 | DB11: 0 | DC11: 0 | DD11: 0 | DE11: 0 | DF11: 0 | DG11: 0 | DH11: 0 | DI11: 0 | DJ11: 0 | DK11: 0 | DL11: 0 | DM11: 0 | DN11: 0 | DO11: 0 | DP11: 0 | DQ11: 0 | DR11: 0 | DS11: 0 | DT11: 0 | DU11: 0 | DV11: 0 | DW11: 0 | DX11: 0 | DY11: 0 | DZ11: 0 | EA11: 0 | EB11: 0 | EC11: 0 | ED11: 0 | EE11: 0 | EF11: 0 | EG11: 0 | EH11: 0 | EI11: 0 | EJ11: 0 | EK11: 0 | EL11: 0 | EM11: 0 | EN11: 0 | EO11: 0 | EP11: 0 | EQ11: 0 | ER11: 0 | ES11: 0 | ET11: 0 | EU11: 0 | EV11: 0 | EW11: 0 | EX11: 0 | EY11: 0 | EZ11: 0 | FA11: 0 | FB11: 0 | FC11: 0 | FD11: 0 | FE11: 0 | FF11: 0 | FG11: 0 | FH11: 0 | FI11: 0 | FJ11: 0 | FK11: 0 | FL11: 0 | FM11: 0 | FN11: 0 | FO11: 0 | FP11: 0 | FQ11: 0 | FR11: 0 | FS11: 0 | FT11: 0 | FU11: 0 | FV11: 0 | FW11: 0 | FX11: 0 | FY11: 0 | FZ11: 0 | GA11: 0 | GB11: 0 | GC11: 0 | GD11: 0 | GE11: 0 | GF11: 0 | GG11: 0 | GH11: 0 | GI11: 0 | GJ11: 0 | GK11: 0 | GL11: 0 | GM11: 0 | GN11: 0 | GO11: 0 | GP11: 0 | GQ11: 0 | GR11: 0 | GS11: 0 | GT11: 0 | GU11: 0 | GV11: 0 | GW11: 0 | GX11: 0 | GY11: 0 | GZ11: 0 | HA11: 0 | HB11: 0 | HC11: 0 | HD11: 0 | HE11: 0 | HF11: 0 | HG11: 0
A12: 10 | B12: BSG Draws | C12: A8.1 £1 LS FT Draw @2-0 | D12: Level Stakes | E12: =SUM(Q12:BF12) -> -75.61 | F12: =E12/J12 -> -6.3008333 | G12: =MAX(Q12:BF12) -> 40.43 | H12: =MIN(Q12:BF12) -> -44.14 | I12: =COUNTIF(Q12:BF12, ">0") -> 5 | J12: =COUNTIF(R12:BF12, "<>0") -> 12 | K12: =I12/J12 -> 0.41666667 | L12: =('BSG Bot Results'!BG43) -> 746 | M12: ='BSG Bot Results'!BI43 -> 0.097855228 | N12: ='BSG Bot Results'!BJ43 -> -0.10135389 | P12: {=TRANSPOSE('BSG Bot Results'!BK1:BK200)} -> A8.1 £1 LS FT Draw @2-0 | Q12: 0 | R12: 0 | S12: 0 | T12: 0 | U12: 0 | V12: 0 | W12: 0 | X12: 0 | Y12: 0 | Z12: 0 | AA12: 0 | AB12: 0 | AC12: 0 | AD12: 0 | AE12: 0 | AF12: 0 | AG12: 0 | AH12: 0 | AI12: 0 | AJ12: 0 | AK12: 0 | AL12: 0 | AM12: 0 | AN12: 0 | AO12: 0 | AP12: 0 | AQ12: 0 | AR12: 0 | AS12: 0 | AT12: 0 | AU12: 40.43 | AV12: -30.91 | AW12: -11.68 | AX12: -24.46 | AY12: 16.92 | AZ12: 1 | BA12: 18.63 | BB12: -15.45 | BC12: 9.8 | BD12: -30.45 | BE12: -5.3 | BF12: -44.14 | BG12: 0 | BH12: 0 | BI12: 0 | BJ12: 0 | BK12: 0 | BL12: 0 | BM12: 0 | BN12: 0 | BO12: 0 | BP12: 0 | BQ12: 0 | BR12: 0 | BS12: 0 | BT12: 0 | BU12: 0 | BV12: 0 | BW12: 0 | BX12: 0 | BY12: 0 | BZ12: 0 | CA12: 0 | CB12: 0 | CC12: 0 | CD12: 0 | CE12: 0 | CF12: 0 | CG12: 0 | CH12: 0 | CI12: 0 | CJ12: 0 | CK12: 0 | CL12: 0 | CM12: 0 | CN12: 0 | CO12: 0 | CP12: 0 | CQ12: 0 | CR12: 0 | CS12: 0 | CT12: 0 | CU12: 0 | CV12: 0 | CW12: 0 | CX12: 0 | CY12: 0 | CZ12: 0 | DA12: 0 | DB12: 0 | DC12: 0 | DD12: 0 | DE12: 0 | DF12: 0 | DG12: 0 | DH12: 0 | DI12: 0 | DJ12: 0 | DK12: 0 | DL12: 0 | DM12: 0 | DN12: 0 | DO12: 0 | DP12: 0 | DQ12: 0 | DR12: 0 | DS12: 0 | DT12: 0 | DU12: 0 | DV12: 0 | DW12: 0 | DX12: 0 | DY12: 0 | DZ12: 0 | EA12: 0 | EB12: 0 | EC12: 0 | ED12: 0 | EE12: 0 | EF12: 0 | EG12: 0 | EH12: 0 | EI12: 0 | EJ12: 0 | EK12: 0 | EL12: 0 | EM12: 0 | EN12: 0 | EO12: 0 | EP12: 0 | EQ12: 0 | ER12: 0 | ES12: 0 | ET12: 0 | EU12: 0 | EV12: 0 | EW12: 0 | EX12: 0 | EY12: 0 | EZ12: 0 | FA12: 0 | FB12: 0 | FC12: 0 | FD12: 0 | FE12: 0 | FF12: 0 | FG12: 0 | FH12: 0 | FI12: 0 | FJ12: 0 | FK12: 0 | FL12: 0 | FM12: 0 | FN12: 0 | FO12: 0 | FP12: 0 | FQ12: 0 | FR12: 0 | FS12: 0 | FT12: 0 | FU12: 0 | FV12: 0 | FW12: 0 | FX12: 0 | FY12: 0 | FZ12: 0 | GA12: 0 | GB12: 0 | GC12: 0 | GD12: 0 | GE12: 0 | GF12: 0 | GG12: 0 | GH12: 0 | GI12: 0 | GJ12: 0 | GK12: 0 | GL12: 0 | GM12: 0 | GN12: 0 | GO12: 0 | GP12: 0 | GQ12: 0 | GR12: 0 | GS12: 0 | GT12: 0 | GU12: 0 | GV12: 0 | GW12: 0 | GX12: 0 | GY12: 0 | GZ12: 0 | HA12: 0 | HB12: 0 | HC12: 0 | HD12: 0 | HE12: 0 | HF12: 0 | HG12: 0
A13: 12 | B13: BSG Draws | C13: A2.01 W100 FT Draw | D13: Whitaker | E13: =SUM(Q13:BF13) -> 91.85 | F13: =E13/J13 -> 22.9625 | G13: =MAX(Q13:BF13) -> 48.52 | H13: =MIN(Q13:BF13) -> -2.18 | I13: =COUNTIF(Q13:BF13, ">0") -> 3 | J13: =COUNTIF(R13:BF13, "<>0") -> 4 | K13: =I13/J13 -> 0.75 | L13: =('BSG Bot Results'!EY43) -> 1139 | M13: ='BSG Bot Results'!FA43 -> 0.34240562 | P13: {=TRANSPOSE('BSG Bot Results'!FB1:FB200)} -> A2.01 W100 FT Draw | Q13: 0 | R13: 0 | S13: 0 | T13: 0 | U13: 0 | V13: 0 | W13: 0 | X13: 0 | Y13: 0 | Z13: 0 | AA13: 0 | AB13: 0 | AC13: 0 | AD13: 0 | AE13: 0 | AF13: 0 | AG13: 0 | AH13: 0 | AI13: 0 | AJ13: 0 | AK13: 0 | AL13: 0 | AM13: 0 | AN13: 0 | AO13: 0 | AP13: 0 | AQ13: 0 | AR13: 0 | AS13: 0 | AT13: 0 | AU13: 0 | AV13: 0 | AW13: 0 | AX13: 0 | AY13: 0 | AZ13: 0 | BA13: 0 | BB13: 0 | BC13: -2.18 | BD13: 1.73 | BE13: 48.52 | BF13: 43.78 | BG13: 0 | BH13: 0 | BI13: 0 | BJ13: 0 | BK13: 0 | BL13: 0 | BM13: 0 | BN13: 0 | BO13: 0 | BP13: 0 | BQ13: 0 | BR13: 0 | BS13: 0 | BT13: 0 | BU13: 0 | BV13: 0 | BW13: 0 | BX13: 0 | BY13: 0 | BZ13: 0 | CA13: 0 | CB13: 0 | CC13: 0 | CD13: 0 | CE13: 0 | CF13: 0 | CG13: 0 | CH13: 0 | CI13: 0 | CJ13: 0 | CK13: 0 | CL13: 0 | CM13: 0 | CN13: 0 | CO13: 0 | CP13: 0 | CQ13: 0 | CR13: 0 | CS13: 0 | CT13: 0 | CU13: 0 | CV13: 0 | CW13: 0 | CX13: 0 | CY13: 0 | CZ13: 0 | DA13: 0 | DB13: 0 | DC13: 0 | DD13: 0 | DE13: 0 | DF13: 0 | DG13: 0 | DH13: 0 | DI13: 0 | DJ13: 0 | DK13: 0 | DL13: 0 | DM13: 0 | DN13: 0 | DO13: 0 | DP13: 0 | DQ13: 0 | DR13: 0 | DS13: 0 | DT13: 0 | DU13: 0 | DV13: 0 | DW13: 0 | DX13: 0 | DY13: 0 | DZ13: 0 | EA13: 0 | EB13: 0 | EC13: 0 | ED13: 0 | EE13: 0 | EF13: 0 | EG13: 0 | EH13: 0 | EI13: 0 | EJ13: 0 | EK13: 0 | EL13: 0 | EM13: 0 | EN13: 0 | EO13: 0 | EP13: 0 | EQ13: 0 | ER13: 0 | ES13: 0 | ET13: 0 | EU13: 0 | EV13: 0 | EW13: 0 | EX13: 0 | EY13: 0 | EZ13: 0 | FA13: 0 | FB13: 0 | FC13: 0 | FD13: 0 | FE13: 0 | FF13: 0 | FG13: 0 | FH13: 0 | FI13: 0 | FJ13: 0 | FK13: 0 | FL13: 0 | FM13: 0 | FN13: 0 | FO13: 0 | FP13: 0 | FQ13: 0 | FR13: 0 | FS13: 0 | FT13: 0 | FU13: 0 | FV13: 0 | FW13: 0 | FX13: 0 | FY13: 0 | FZ13: 0 | GA13: 0 | GB13: 0 | GC13: 0 | GD13: 0 | GE13: 0 | GF13: 0 | GG13: 0 | GH13: 0 | GI13: 0 | GJ13: 0 | GK13: 0 | GL13: 0 | GM13: 0 | GN13: 0 | GO13: 0 | GP13: 0 | GQ13: 0 | GR13: 0 | GS13: 0 | GT13: 0 | GU13: 0 | GV13: 0 | GW13: 0 | GX13: 0 | GY13: 0 | GZ13: 0 | HA13: 0 | HB13: 0 | HC13: 0 | HD13: 0 | HE13: 0 | HF13: 0 | HG13: 0
A14: 13 | B14: BSG Draws | C14: A2.02 W100 FT Draw Opp. | D14: Whitaker | E14: =SUM(Q14:BF14) -> -2 | F14: =E14/J14 -> -0.5 | G14: =MAX(Q14:BF14) -> 14.82 | H14: =MIN(Q14:BF14) -> -13.8 | I14: =COUNTIF(Q14:BF14, ">0") -> 2 | J14: =COUNTIF(R14:BF14, "<>0") -> 4 | K14: =I14/J14 -> 0.5 | L14: =('BSG Bot Results'!FI43) -> 254 | M14: ='BSG Bot Results'!FK43 -> 0.30314961 | P14: {=TRANSPOSE('BSG Bot Results'!FL1:FL200)} -> A2.02 W100 FT Draw Opp. | Q14: 0 | R14: 0 | S14: 0 | T14: 0 | U14: 0 | V14: 0 | W14: 0 | X14: 0 | Y14: 0 | Z14: 0 | AA14: 0 | AB14: 0 | AC14: 0 | AD14: 0 | AE14: 0 | AF14: 0 | AG14: 0 | AH14: 0 | AI14: 0 | AJ14: 0 | AK14: 0 | AL14: 0 | AM14: 0 | AN14: 0 | AO14: 0 | AP14: 0 | AQ14: 0 | AR14: 0 | AS14: 0 | AT14: 0 | AU14: 0 | AV14: 0 | AW14: 0 | AX14: 0 | AY14: 0 | AZ14: 0 | BA14: 0 | BB14: 0 | BC14: -13.8 | BD14: -9.92 | BE14: 14.82 | BF14: 6.9 | BG14: 0 | BH14: 0 | BI14: 0 | BJ14: 0 | BK14: 0 | BL14: 0 | BM14: 0 | BN14: 0 | BO14: 0 | BP14: 0 | BQ14: 0 | BR14: 0 | BS14: 0 | BT14: 0 | BU14: 0 | BV14: 0 | BW14: 0 | BX14: 0 | BY14: 0 | BZ14: 0 | CA14: 0 | CB14: 0 | CC14: 0 | CD14: 0 | CE14: 0 | CF14: 0 | CG14: 0 | CH14: 0 | CI14: 0 | CJ14: 0 | CK14: 0 | CL14: 0 | CM14: 0 | CN14: 0 | CO14: 0 | CP14: 0 | CQ14: 0 | CR14: 0 | CS14: 0 | CT14: 0 | CU14: 0 | CV14: 0 | CW14: 0 | CX14: 0 | CY14: 0 | CZ14: 0 | DA14: 0 | DB14: 0 | DC14: 0 | DD14: 0 | DE14: 0 | DF14: 0 | DG14: 0 | DH14: 0 | DI14: 0 | DJ14: 0 | DK14: 0 | DL14: 0 | DM14: 0 | DN14: 0 | DO14: 0 | DP14: 0 | DQ14: 0 | DR14: 0 | DS14: 0 | DT14: 0 | DU14: 0 | DV14: 0 | DW14: 0 | DX14: 0 | DY14: 0 | DZ14: 0 | EA14: 0 | EB14: 0 | EC14: 0 | ED14: 0 | EE14: 0 | EF14: 0 | EG14: 0 | EH14: 0 | EI14: 0 | EJ14: 0 | EK14: 0 | EL14: 0 | EM14: 0 | EN14: 0 | EO14: 0 | EP14: 0 | EQ14: 0 | ER14: 0 | ES14: 0 | ET14: 0 | EU14: 0 | EV14: 0 | EW14: 0 | EX14: 0 | EY14: 0 | EZ14: 0 | FA14: 0 | FB14: 0 | FC14: 0 | FD14: 0 | FE14: 0 | FF14: 0 | FG14: 0 | FH14: 0 | FI14: 0 | FJ14: 0 | FK14: 0 | FL14: 0 | FM14: 0 | FN14: 0 | FO14: 0 | FP14: 0 | FQ14: 0 | FR14: 0 | FS14: 0 | FT14: 0 | FU14: 0 | FV14: 0 | FW14: 0 | FX14: 0 | FY14: 0 | FZ14: 0 | GA14: 0 | GB14: 0 | GC14: 0 | GD14: 0 | GE14: 0 | GF14: 0 | GG14: 0 | GH14: 0 | GI14: 0 | GJ14: 0 | GK14: 0 | GL14: 0 | GM14: 0 | GN14: 0 | GO14: 0 | GP14: 0 | GQ14: 0 | GR14: 0 | GS14: 0 | GT14: 0 | GU14: 0 | GV14: 0 | GW14: 0 | GX14: 0 | GY14: 0 | GZ14: 0 | HA14: 0 | HB14: 0 | HC14: 0 | HD14: 0 | HE14: 0 | HF14: 0 | HG14: 0
A15: 14 | B15: BSG Draws | C15: A2.03 W100 FT Draw 10m | D15: Whitaker | E15: =SUM(Q15:BF15) -> 43.49 | F15: =E15/J15 -> 10.8725 | G15: =MAX(Q15:BF15) -> 58.25 | H15: =MIN(Q15:BF15) -> -21.56 | I15: =COUNTIF(Q15:BF15, ">0") -> 2 | J15: =COUNTIF(R15:BF15, "<>0") -> 4 | K15: =I15/J15 -> 0.5 | L15: =('BSG Bot Results'!FS43) -> 652 | M15: ='BSG Bot Results'!FU43 -> 0.35429448 | P15: {=TRANSPOSE('BSG Bot Results'!FV1:FV200)} -> A2.03 W100 FT Draw 10m | Q15: 0 | R15: 0 | S15: 0 | T15: 0 | U15: 0 | V15: 0 | W15: 0 | X15: 0 | Y15: 0 | Z15: 0 | AA15: 0 | AB15: 0 | AC15: 0 | AD15: 0 | AE15: 0 | AF15: 0 | AG15: 0 | AH15: 0 | AI15: 0 | AJ15: 0 | AK15: 0 | AL15: 0 | AM15: 0 | AN15: 0 | AO15: 0 | AP15: 0 | AQ15: 0 | AR15: 0 | AS15: 0 | AT15: 0 | AU15: 0 | AV15: 0 | AW15: 0 | AX15: 0 | AY15: 0 | AZ15: 0 | BA15: 0 | BB15: 0 | BC15: -21.56 | BD15: -3.37 | BE15: 58.25 | BF15: 10.17 | BG15: 0 | BH15: 0 | BI15: 0 | BJ15: 0 | BK15: 0 | BL15: 0 | BM15: 0 | BN15: 0 | BO15: 0 | BP15: 0 | BQ15: 0 | BR15: 0 | BS15: 0 | BT15: 0 | BU15: 0 | BV15: 0 | BW15: 0 | BX15: 0 | BY15: 0 | BZ15: 0 | CA15: 0 | CB15: 0 | CC15: 0 | CD15: 0 | CE15: 0 | CF15: 0 | CG15: 0 | CH15: 0 | CI15: 0 | CJ15: 0 | CK15: 0 | CL15: 0 | CM15: 0 | CN15: 0 | CO15: 0 | CP15: 0 | CQ15: 0 | CR15: 0 | CS15: 0 | CT15: 0 | CU15: 0 | CV15: 0 | CW15: 0 | CX15: 0 | CY15: 0 | CZ15: 0 | DA15: 0 | DB15: 0 | DC15: 0 | DD15: 0 | DE15: 0 | DF15: 0 | DG15: 0 | DH15: 0 | DI15: 0 | DJ15: 0 | DK15: 0 | DL15: 0 | DM15: 0 | DN15: 0 | DO15: 0 | DP15: 0 | DQ15: 0 | DR15: 0 | DS15: 0 | DT15: 0 | DU15: 0 | DV15: 0 | DW15: 0 | DX15: 0 | DY15: 0 | DZ15: 0 | EA15: 0 | EB15: 0 | EC15: 0 | ED15: 0 | EE15: 0 | EF15: 0 | EG15: 0 | EH15: 0 | EI15: 0 | EJ15: 0 | EK15: 0 | EL15: 0 | EM15: 0 | EN15: 0 | EO15: 0 | EP15: 0 | EQ15: 0 | ER15: 0 | ES15: 0 | ET15: 0 | EU15: 0 | EV15: 0 | EW15: 0 | EX15: 0 | EY15: 0 | EZ15: 0 | FA15: 0 | FB15: 0 | FC15: 0 | FD15: 0 | FE15: 0 | FF15: 0 | FG15: 0 | FH15: 0 | FI15: 0 | FJ15: 0 | FK15: 0 | FL15: 0 | FM15: 0 | FN15: 0 | FO15: 0 | FP15: 0 | FQ15: 0 | FR15: 0 | FS15: 0 | FT15: 0 | FU15: 0 | FV15: 0 | FW15: 0 | FX15: 0 | FY15: 0 | FZ15: 0 | GA15: 0 | GB15: 0 | GC15: 0 | GD15: 0 | GE15: 0 | GF15: 0 | GG15: 0 | GH15: 0 | GI15: 0 | GJ15: 0 | GK15: 0 | GL15: 0 | GM15: 0 | GN15: 0 | GO15: 0 | GP15: 0 | GQ15: 0 | GR15: 0 | GS15: 0 | GT15: 0 | GU15: 0 | GV15: 0 | GW15: 0 | GX15: 0 | GY15: 0 | GZ15: 0 | HA15: 0 | HB15: 0 | HC15: 0 | HD15: 0 | HE15: 0 | HF15: 0 | HG15: 0
A16: 15 | B16: BSG Draws | C16: A2.04 W100 FT Draw 10m H@80m | D16: Whitaker | E16: =SUM(Q16:BF16) -> 0.84 | F16: =E16/J16 -> 0.21 | G16: =MAX(Q16:BF16) -> 36.78 | H16: =MIN(Q16:BF16) -> -28.58 | I16: =COUNTIF(Q16:BF16, ">0") -> 2 | J16: =COUNTIF(R16:BF16, "<>0") -> 4 | K16: =I16/J16 -> 0.5 | L16: =('BSG Bot Results'!GC43) -> 652 | M16: ='BSG Bot Results'!GE43 -> 0.41871166 | P16: {=TRANSPOSE('BSG Bot Results'!GF1:GF200)} -> A2.04 W100 FT Draw 10m H@80m | Q16: 0 | R16: 0 | S16: 0 | T16: 0 | U16: 0 | V16: 0 | W16: 0 | X16: 0 | Y16: 0 | Z16: 0 | AA16: 0 | AB16: 0 | AC16: 0 | AD16: 0 | AE16: 0 | AF16: 0 | AG16: 0 | AH16: 0 | AI16: 0 | AJ16: 0 | AK16: 0 | AL16: 0 | AM16: 0 | AN16: 0 | AO16: 0 | AP16: 0 | AQ16: 0 | AR16: 0 | AS16: 0 | AT16: 0 | AU16: 0 | AV16: 0 | AW16: 0 | AX16: 0 | AY16: 0 | AZ16: 0 | BA16: 0 | BB16: 0 | BC16: -28.58 | BD16: -10.23 | BE16: 36.78 | BF16: 2.87 | BG16: 0 | BH16: 0 | BI16: 0 | BJ16: 0 | BK16: 0 | BL16: 0 | BM16: 0 | BN16: 0 | BO16: 0 | BP16: 0 | BQ16: 0 | BR16: 0 | BS16: 0 | BT16: 0 | BU16: 0 | BV16: 0 | BW16: 0 | BX16: 0 | BY16: 0 | BZ16: 0 | CA16: 0 | CB16: 0 | CC16: 0 | CD16: 0 | CE16: 0 | CF16: 0 | CG16: 0 | CH16: 0 | CI16: 0 | CJ16: 0 | CK16: 0 | CL16: 0 | CM16: 0 | CN16: 0 | CO16: 0 | CP16: 0 | CQ16: 0 | CR16: 0 | CS16: 0 | CT16: 0 | CU16: 0 | CV16: 0 | CW16: 0 | CX16: 0 | CY16: 0 | CZ16: 0 | DA16: 0 | DB16: 0 | DC16: 0 | DD16: 0 | DE16: 0 | DF16: 0 | DG16: 0 | DH16: 0 | DI16: 0 | DJ16: 0 | DK16: 0 | DL16: 0 | DM16: 0 | DN16: 0 | DO16: 0 | DP16: 0 | DQ16: 0 | DR16: 0 | DS16: 0 | DT16: 0 | DU16: 0 | DV16: 0 | DW16: 0 | DX16: 0 | DY16: 0 | DZ16: 0 | EA16: 0 | EB16: 0 | EC16: 0 | ED16: 0 | EE16: 0 | EF16: 0 | EG16: 0 | EH16: 0 | EI16: 0 | EJ16: 0 | EK16: 0 | EL16: 0 | EM16: 0 | EN16: 0 | EO16: 0 | EP16: 0 | EQ16: 0 | ER16: 0 | ES16: 0 | ET16: 0 | EU16: 0 | EV16: 0 | EW16: 0 | EX16: 0 | EY16: 0 | EZ16: 0 | FA16: 0 | FB16: 0 | FC16: 0 | FD16: 0 | FE16: 0 | FF16: 0 | FG16: 0 | FH16: 0 | FI16: 0 | FJ16: 0 | FK16: 0 | FL16: 0 | FM16: 0 | FN16: 0 | FO16: 0 | FP16: 0 | FQ16: 0 | FR16: 0 | FS16: 0 | FT16: 0 | FU16: 0 | FV16: 0 | FW16: 0 | FX16: 0 | FY16: 0 | FZ16: 0 | GA16: 0 | GB16: 0 | GC16: 0 | GD16: 0 | GE16: 0 | GF16: 0 | GG16: 0 | GH16: 0 | GI16: 0 | GJ16: 0 | GK16: 0 | GL16: 0 | GM16: 0 | GN16: 0 | GO16: 0 | GP16: 0 | GQ16: 0 | GR16: 0 | GS16: 0 | GT16: 0 | GU16: 0 | GV16: 0 | GW16: 0 | GX16: 0 | GY16: 0 | GZ16: 0 | HA16: 0 | HB16: 0 | HC16: 0 | HD16: 0 | HE16: 0 | HF16: 0 | HG16: 0
A17: 16 | B17: BSG Draws | C17: A2.05 W100 FT Draw 10m H@1.5 (4t) | D17: Whitaker | E17: =SUM(Q17:BF17) -> -9.44 | F17: =E17/J17 -> -2.36 | G17: =MAX(Q17:BF17) -> 47.45 | H17: =MIN(Q17:BF17) -> -25.13 | I17: =COUNTIF(Q17:BF17, ">0") -> 1 | J17: =COUNTIF(R17:BF17, "<>0") -> 4 | K17: =I17/J17 -> 0.25 | L17: =('BSG Bot Results'!GM43) -> 652 | M17: ='BSG Bot Results'!GO43 -> 0.41564417 | P17: {=TRANSPOSE('BSG Bot Results'!GP1:GP200)} -> A2.05 W100 FT Draw 10m H@1.5 | Q17: 0 | R17: 0 | S17: 0 | T17: 0 | U17: 0 | V17: 0 | W17: 0 | X17: 0 | Y17: 0 | Z17: 0 | AA17: 0 | AB17: 0 | AC17: 0 | AD17: 0 | AE17: 0 | AF17: 0 | AG17: 0 | AH17: 0 | AI17: 0 | AJ17: 0 | AK17: 0 | AL17: 0 | AM17: 0 | AN17: 0 | AO17: 0 | AP17: 0 | AQ17: 0 | AR17: 0 | AS17: 0 | AT17: 0 | AU17: 0 | AV17: 0 | AW17: 0 | AX17: 0 | AY17: 0 | AZ17: 0 | BA17: 0 | BB17: 0 | BC17: -25.13 | BD17: -17.1 | BE17: 47.45 | BF17: -14.66 | BG17: 0 | BH17: 0 | BI17: 0 | BJ17: 0 | BK17: 0 | BL17: 0 | BM17: 0 | BN17: 0 | BO17: 0 | BP17: 0 | BQ17: 0 | BR17: 0 | BS17: 0 | BT17: 0 | BU17: 0 | BV17: 0 | BW17: 0 | BX17: 0 | BY17: 0 | BZ17: 0 | CA17: 0 | CB17: 0 | CC17: 0 | CD17: 0 | CE17: 0 | CF17: 0 | CG17: 0 | CH17: 0 | CI17: 0 | CJ17: 0 | CK17: 0 | CL17: 0 | CM17: 0 | CN17: 0 | CO17: 0 | CP17: 0 | CQ17: 0 | CR17: 0 | CS17: 0 | CT17: 0 | CU17: 0 | CV17: 0 | CW17: 0 | CX17: 0 | CY17: 0 | CZ17: 0 | DA17: 0 | DB17: 0 | DC17: 0 | DD17: 0 | DE17: 0 | DF17: 0 | DG17: 0 | DH17: 0 | DI17: 0 | DJ17: 0 | DK17: 0 | DL17: 0 | DM17: 0 | DN17: 0 | DO17: 0 | DP17: 0 | DQ17: 0 | DR17: 0 | DS17: 0 | DT17: 0 | DU17: 0 | DV17: 0 | DW17: 0 | DX17: 0 | DY17: 0 | DZ17: 0 | EA17: 0 | EB17: 0 | EC17: 0 | ED17: 0 | EE17: 0 | EF17: 0 | EG17: 0 | EH17: 0 | EI17: 0 | EJ17: 0 | EK17: 0 | EL17: 0 | EM17: 0 | EN17: 0 | EO17: 0 | EP17: 0 | EQ17: 0 | ER17: 0 | ES17: 0 | ET17: 0 | EU17: 0 | EV17: 0 | EW17: 0 | EX17: 0 | EY17: 0 | EZ17: 0 | FA17: 0 | FB17: 0 | FC17: 0 | FD17: 0 | FE17: 0 | FF17: 0 | FG17: 0 | FH17: 0 | FI17: 0 | FJ17: 0 | FK17: 0 | FL17: 0 | FM17: 0 | FN17: 0 | FO17: 0 | FP17: 0 | FQ17: 0 | FR17: 0 | FS17: 0 | FT17: 0 | FU17: 0 | FV17: 0 | FW17: 0 | FX17: 0 | FY17: 0 | FZ17: 0 | GA17: 0 | GB17: 0 | GC17: 0 | GD17: 0 | GE17: 0 | GF17: 0 | GG17: 0 | GH17: 0 | GI17: 0 | GJ17: 0 | GK17: 0 | GL17: 0 | GM17: 0 | GN17: 0 | GO17: 0 | GP17: 0 | GQ17: 0 | GR17: 0 | GS17: 0 | GT17: 0 | GU17: 0 | GV17: 0 | GW17: 0 | GX17: 0 | GY17: 0 | GZ17: 0 | HA17: 0 | HB17: 0 | HC17: 0 | HD17: 0 | HE17: 0 | HF17: 0 | HG17: 0
A18: 17 | B18: BSG Draws | C18: A2.4.3 W100 FT Draw 10m H@1.5 (3t older bot) | D18: Whitaker | E18: =SUM(Q18:BF18) -> 60.6945 | F18: =E18/J18 -> 6.7438333 | G18: =MAX(Q18:BF18) -> 27.677 | H18: =MIN(Q18:BF18) -> -14.326 | I18: =COUNTIF(Q18:BF18, ">0") -> 5 | J18: =COUNTIF(R18:BF18, "<>0") -> 9 | K18: =I18/J18 -> 0.55555556 | L18: =('BSG Bot Results'!Y43) -> 1490 | M18: ='BSG Bot Results'!AA43 -> 0.47583893 | P18: {=TRANSPOSE('BSG Bot Results'!AB1:AB201)} -> A2.4.3 W100 FT Draw 10m H@1.5 (3t older bot) | Q18: 0 | R18: 0 | S18: 0 | T18: 0 | U18: 0 | V18: 0 | W18: 0 | X18: 0 | Y18: 0 | Z18: 0 | AA18: 0 | AB18: 0 | AC18: 0 | AD18: 0 | AE18: 0 | AF18: 0 | AG18: 0 | AH18: 0 | AI18: 0 | AJ18: 0 | AK18: 0 | AL18: 0 | AM18: 0 | AN18: 0 | AO18: 0 | AP18: 0 | AQ18: 0 | AR18: 0 | AS18: 0 | AT18: 0 | AU18: 0 | AV18: 0 | AW18: 0 | AX18: 18.4955 | AY18: 18.4925 | AZ18: 1.9775 | BA18: 18.244 | BB18: -0.7495 | BC18: -7.4915 | BD18: -14.326 | BE18: 27.677 | BF18: -1.625 | BG18: 0 | BH18: 0 | BI18: 0 | BJ18: 0 | BK18: 0 | BL18: 0 | BM18: 0 | BN18: 0 | BO18: 0 | BP18: 0 | BQ18: 0 | BR18: 0 | BS18: 0 | BT18: 0 | BU18: 0 | BV18: 0 | BW18: 0 | BX18: 0 | BY18: 0 | BZ18: 0 | CA18: 0 | CB18: 0 | CC18: 0 | CD18: 0 | CE18: 0 | CF18: 0 | CG18: 0 | CH18: 0 | CI18: 0 | CJ18: 0 | CK18: 0 | CL18: 0 | CM18: 0 | CN18: 0 | CO18: 0 | CP18: 0 | CQ18: 0 | CR18: 0 | CS18: 0 | CT18: 0 | CU18: 0 | CV18: 0 | CW18: 0 | CX18: 0 | CY18: 0 | CZ18: 0 | DA18: 0 | DB18: 0 | DC18: 0 | DD18: 0 | DE18: 0 | DF18: 0 | DG18: 0 | DH18: 0 | DI18: 0 | DJ18: 0 | DK18: 0 | DL18: 0 | DM18: 0 | DN18: 0 | DO18: 0 | DP18: 0 | DQ18: 0 | DR18: 0 | DS18: 0 | DT18: 0 | DU18: 0 | DV18: 0 | DW18: 0 | DX18: 0 | DY18: 0 | DZ18: 0 | EA18: 0 | EB18: 0 | EC18: 0 | ED18: 0 | EE18: 0 | EF18: 0 | EG18: 0 | EH18: 0 | EI18: 0 | EJ18: 0 | EK18: 0 | EL18: 0 | EM18: 0 | EN18: 0 | EO18: 0 | EP18: 0 | EQ18: 0 | ER18: 0 | ES18: 0 | ET18: 0 | EU18: 0 | EV18: 0 | EW18: 0 | EX18: 0 | EY18: 0 | EZ18: 0 | FA18: 0 | FB18: 0 | FC18: 0 | FD18: 0 | FE18: 0 | FF18: 0 | FG18: 0 | FH18: 0 | FI18: 0 | FJ18: 0 | FK18: 0 | FL18: 0 | FM18: 0 | FN18: 0 | FO18: 0 | FP18: 0 | FQ18: 0 | FR18: 0 | FS18: 0 | FT18: 0 | FU18: 0 | FV18: 0 | FW18: 0 | FX18: 0 | FY18: 0 | FZ18: 0 | GA18: 0 | GB18: 0 | GC18: 0 | GD18: 0 | GE18: 0 | GF18: 0 | GG18: 0 | GH18: 0 | GI18: 0 | GJ18: 0 | GK18: 0 | GL18: 0 | GM18: 0 | GN18: 0 | GO18: 0 | GP18: 0 | GQ18: 0 | GR18: 0 | GS18: 0 | GT18: 0 | GU18: 0 | GV18: 0 | GW18: 0 | GX18: 0 | GY18: 0 | GZ18: 0 | HA18: 0 | HB18: 0 | HC18: 0 | HD18: 0 | HE18: 0 | HF18: 0 | HG18: 0 | HH18: 0
A19: 18 | B19: BSG Draws | C19: A7.3 W100 HT Draw | D19: Whitaker | E19: =SUM(Q19:BF19) -> 65.95 | F19: =E19/J19 -> 16.4875 | G19: =MAX(Q19:BF19) -> 39.04 | H19: =MIN(Q19:BF19) -> 0 | I19: =COUNTIF(Q19:BF19, ">0") -> 4 | J19: =COUNTIF(R19:BF19, "<>0") -> 4 | K19: =I19/J19 -> 1 | L19: =('BSG Bot Results'!GW43) -> 717 | M19: ='BSG Bot Results'!GY43 -> 0.50209205 | P19: {=TRANSPOSE('BSG Bot Results'!GZ1:GZ200)} -> A7.3 W100 HT Draw | Q19: 0 | R19: 0 | S19: 0 | T19: 0 | U19: 0 | V19: 0 | W19: 0 | X19: 0 | Y19: 0 | Z19: 0 | AA19: 0 | AB19: 0 | AC19: 0 | AD19: 0 | AE19: 0 | AF19: 0 | AG19: 0 | AH19: 0 | AI19: 0 | AJ19: 0 | AK19: 0 | AL19: 0 | AM19: 0 | AN19: 0 | AO19: 0 | AP19: 0 | AQ19: 0 | AR19: 0 | AS19: 0 | AT19: 0 | AU19: 0 | AV19: 0 | AW19: 0 | AX19: 0 | AY19: 0 | AZ19: 0 | BA19: 0 | BB19: 0 | BC19: 12.24 | BD19: 12.28 | BE19: 39.04 | BF19: 2.39 | BG19: 0 | BH19: 0 | BI19: 0 | BJ19: 0 | BK19: 0 | BL19: 0 | BM19: 0 | BN19: 0 | BO19: 0 | BP19: 0 | BQ19: 0 | BR19: 0 | BS19: 0 | BT19: 0 | BU19: 0 | BV19: 0 | BW19: 0 | BX19: 0 | BY19: 0 | BZ19: 0 | CA19: 0 | CB19: 0 | CC19: 0 | CD19: 0 | CE19: 0 | CF19: 0 | CG19: 0 | CH19: 0 | CI19: 0 | CJ19: 0 | CK19: 0 | CL19: 0 | CM19: 0 | CN19: 0 | CO19: 0 | CP19: 0 | CQ19: 0 | CR19: 0 | CS19: 0 | CT19: 0 | CU19: 0 | CV19: 0 | CW19: 0 | CX19: 0 | CY19: 0 | CZ19: 0 | DA19: 0 | DB19: 0 | DC19: 0 | DD19: 0 | DE19: 0 | DF19: 0 | DG19: 0 | DH19: 0 | DI19: 0 | DJ19: 0 | DK19: 0 | DL19: 0 | DM19: 0 | DN19: 0 | DO19: 0 | DP19: 0 | DQ19: 0 | DR19: 0 | DS19: 0 | DT19: 0 | DU19: 0 | DV19: 0 | DW19: 0 | DX19: 0 | DY19: 0 | DZ19: 0 | EA19: 0 | EB19: 0 | EC19: 0 | ED19: 0 | EE19: 0 | EF19: 0 | EG19: 0 | EH19: 0 | EI19: 0 | EJ19: 0 | EK19: 0 | EL19: 0 | EM19: 0 | EN19: 0 | EO19: 0 | EP19: 0 | EQ19: 0 | ER19: 0 | ES19: 0 | ET19: 0 | EU19: 0 | EV19: 0 | EW19: 0 | EX19: 0 | EY19: 0 | EZ19: 0 | FA19: 0 | FB19: 0 | FC19: 0 | FD19: 0 | FE19: 0 | FF19: 0 | FG19: 0 | FH19: 0 | FI19: 0 | FJ19: 0 | FK19: 0 | FL19: 0 | FM19: 0 | FN19: 0 | FO19: 0 | FP19: 0 | FQ19: 0 | FR19: 0 | FS19: 0 | FT19: 0 | FU19: 0 | FV19: 0 | FW19: 0 | FX19: 0 | FY19: 0 | FZ19: 0 | GA19: 0 | GB19: 0 | GC19: 0 | GD19: 0 | GE19: 0 | GF19: 0 | GG19: 0 | GH19: 0 | GI19: 0 | GJ19: 0 | GK19: 0 | GL19: 0 | GM19: 0 | GN19: 0 | GO19: 0 | GP19: 0 | GQ19: 0 | GR19: 0 | GS19: 0 | GT19: 0 | GU19: 0 | GV19: 0 | GW19: 0 | GX19: 0 | GY19: 0 | GZ19: 0 | HA19: 0 | HB19: 0 | HC19: 0 | HD19: 0 | HE19: 0 | HF19: 0 | HG19: 0
A20: 19 | B20: BSG Draws | C20: A8.2 W100 FT Draw @2-0 Opp. | D20: Whitaker | E20: =SUM(Q20:BF20) -> -3.58 | F20: =E20/J20 -> -0.895 | G20: =MAX(Q20:BF20) -> 3.16 | H20: =MIN(Q20:BF20) -> -10.49 | I20: =COUNTIF(Q20:BF20, ">0") -> 3 | J20: =COUNTIF(R20:BF20, "<>0") -> 4 | K20: =I20/J20 -> 0.75 | L20: =('BSG Bot Results'!HG43) -> 105 | M20: ='BSG Bot Results'!HI43 -> 0.095238095 | P20: {=TRANSPOSE('BSG Bot Results'!HJ1:HJ200)} -> A8.2 W100 FT Draw @2-0 Opp. | Q20: 0 | R20: 0 | S20: 0 | T20: 0 | U20: 0 | V20: 0 | W20: 0 | X20: 0 | Y20: 0 | Z20: 0 | AA20: 0 | AB20: 0 | AC20: 0 | AD20: 0 | AE20: 0 | AF20: 0 | AG20: 0 | AH20: 0 | AI20: 0 | AJ20: 0 | AK20: 0 | AL20: 0 | AM20: 0 | AN20: 0 | AO20: 0 | AP20: 0 | AQ20: 0 | AR20: 0 | AS20: 0 | AT20: 0 | AU20: 0 | AV20: 0 | AW20: 0 | AX20: 0 | AY20: 0 | AZ20: 0 | BA20: 0 | BB20: 0 | BC20: 3.16 | BD20: 2.71 | BE20: 1.04 | BF20: -10.49 | BG20: 0 | BH20: 0 | BI20: 0 | BJ20: 0 | BK20: 0 | BL20: 0 | BM20: 0 | BN20: 0 | BO20: 0 | BP20: 0 | BQ20: 0 | BR20: 0 | BS20: 0 | BT20: 0 | BU20: 0 | BV20: 0 | BW20: 0 | BX20: 0 | BY20: 0 | BZ20: 0 | CA20: 0 | CB20: 0 | CC20: 0 | CD20: 0 | CE20: 0 | CF20: 0 | CG20: 0 | CH20: 0 | CI20: 0 | CJ20: 0 | CK20: 0 | CL20: 0 | CM20: 0 | CN20: 0 | CO20: 0 | CP20: 0 | CQ20: 0 | CR20: 0 | CS20: 0 | CT20: 0 | CU20: 0 | CV20: 0 | CW20: 0 | CX20: 0 | CY20: 0 | CZ20: 0 | DA20: 0 | DB20: 0 | DC20: 0 | DD20: 0 | DE20: 0 | DF20: 0 | DG20: 0 | DH20: 0 | DI20: 0 | DJ20: 0 | DK20: 0 | DL20: 0 | DM20: 0 | DN20: 0 | DO20: 0 | DP20: 0 | DQ20: 0 | DR20: 0 | DS20: 0 | DT20: 0 | DU20: 0 | DV20: 0 | DW20: 0 | DX20: 0 | DY20: 0 | DZ20: 0 | EA20: 0 | EB20: 0 | EC20: 0 | ED20: 0 | EE20: 0 | EF20: 0 | EG20: 0 | EH20: 0 | EI20: 0 | EJ20: 0 | EK20: 0 | EL20: 0 | EM20: 0 | EN20: 0 | EO20: 0 | EP20: 0 | EQ20: 0 | ER20: 0 | ES20: 0 | ET20: 0 | EU20: 0 | EV20: 0 | EW20: 0 | EX20: 0 | EY20: 0 | EZ20: 0 | FA20: 0 | FB20: 0 | FC20: 0 | FD20: 0 | FE20: 0 | FF20: 0 | FG20: 0 | FH20: 0 | FI20: 0 | FJ20: 0 | FK20: 0 | FL20: 0 | FM20: 0 | FN20: 0 | FO20: 0 | FP20: 0 | FQ20: 0 | FR20: 0 | FS20: 0 | FT20: 0 | FU20: 0 | FV20: 0 | FW20: 0 | FX20: 0 | FY20: 0 | FZ20: 0 | GA20: 0 | GB20: 0 | GC20: 0 | GD20: 0 | GE20: 0 | GF20: 0 | GG20: 0 | GH20: 0 | GI20: 0 | GJ20: 0 | GK20: 0 | GL20: 0 | GM20: 0 | GN20: 0 | GO20: 0 | GP20: 0 | GQ20: 0 | GR20: 0 | GS20: 0 | GT20: 0 | GU20: 0 | GV20: 0 | GW20: 0 | GX20: 0 | GY20: 0 | GZ20: 0 | HA20: 0 | HB20: 0 | HC20: 0 | HD20: 0 | HE20: 0 | HF20: 0 | HG20: 0
A21: 20 | B21: BSG Draws | C21: A8.3 W100 FT Draw @2-0 Opp. +4t | D21: Whitaker | E21: =SUM(Q21:BF21) -> -2.85 | F21: =E21/J21 -> -0.7125 | G21: =MAX(Q21:BF21) -> 3.73 | H21: =MIN(Q21:BF21) -> -4.99 | I21: =COUNTIF(Q21:BF21, ">0") -> 1 | J21: =COUNTIF(R21:BF21, "<>0") -> 4 | K21: =I21/J21 -> 0.25 | L21: =('BSG Bot Results'!HQ43) -> 89 | M21: ='BSG Bot Results'!HS43 -> 0.078651685 | P21: {=TRANSPOSE('BSG Bot Results'!HT1:HT200)} -> A8.3 W100 FT Draw @2-0 Opp. +4t | Q21: 0 | R21: 0 | S21: 0 | T21: 0 | U21: 0 | V21: 0 | W21: 0 | X21: 0 | Y21: 0 | Z21: 0 | AA21: 0 | AB21: 0 | AC21: 0 | AD21: 0 | AE21: 0 | AF21: 0 | AG21: 0 | AH21: 0 | AI21: 0 | AJ21: 0 | AK21: 0 | AL21: 0 | AM21: 0 | AN21: 0 | AO21: 0 | AP21: 0 | AQ21: 0 | AR21: 0 | AS21: 0 | AT21: 0 | AU21: 0 | AV21: 0 | AW21: 0 | AX21: 0 | AY21: 0 | AZ21: 0 | BA21: 0 | BB21: 0 | BC21: -0.95 | BD21: 3.73 | BE21: -0.64 | BF21: -4.99 | BG21: 0 | BH21: 0 | BI21: 0 | BJ21: 0 | BK21: 0 | BL21: 0 | BM21: 0 | BN21: 0 | BO21: 0 | BP21: 0 | BQ21: 0 | BR21: 0 | BS21: 0 | BT21: 0 | BU21: 0 | BV21: 0 | BW21: 0 | BX21: 0 | BY21: 0 | BZ21: 0 | CA21: 0 | CB21: 0 | CC21: 0 | CD21: 0 | CE21: 0 | CF21: 0 | CG21: 0 | CH21: 0 | CI21: 0 | CJ21: 0 | CK21: 0 | CL21: 0 | CM21: 0 | CN21: 0 | CO21: 0 | CP21: 0 | CQ21: 0 | CR21: 0 | CS21: 0 | CT21: 0 | CU21: 0 | CV21: 0 | CW21: 0 | CX21: 0 | CY21: 0 | CZ21: 0 | DA21: 0 | DB21: 0 | DC21: 0 | DD21: 0 | DE21: 0 | DF21: 0 | DG21: 0 | DH21: 0 | DI21: 0 | DJ21: 0 | DK21: 0 | DL21: 0 | DM21: 0 | DN21: 0 | DO21: 0 | DP21: 0 | DQ21: 0 | DR21: 0 | DS21: 0 | DT21: 0 | DU21: 0 | DV21: 0 | DW21: 0 | DX21: 0 | DY21: 0 | DZ21: 0 | EA21: 0 | EB21: 0 | EC21: 0 | ED21: 0 | EE21: 0 | EF21: 0 | EG21: 0 | EH21: 0 | EI21: 0 | EJ21: 0 | EK21: 0 | EL21: 0 | EM21: 0 | EN21: 0 | EO21: 0 | EP21: 0 | EQ21: 0 | ER21: 0 | ES21: 0 | ET21: 0 | EU21: 0 | EV21: 0 | EW21: 0 | EX21: 0 | EY21: 0 | EZ21: 0 | FA21: 0 | FB21: 0 | FC21: 0 | FD21: 0 | FE21: 0 | FF21: 0 | FG21: 0 | FH21: 0 | FI21: 0 | FJ21: 0 | FK21: 0 | FL21: 0 | FM21: 0 | FN21: 0 | FO21: 0 | FP21: 0 | FQ21: 0 | FR21: 0 | FS21: 0 | FT21: 0 | FU21: 0 | FV21: 0 | FW21: 0 | FX21: 0 | FY21: 0 | FZ21: 0 | GA21: 0 | GB21: 0 | GC21: 0 | GD21: 0 | GE21: 0 | GF21: 0 | GG21: 0 | GH21: 0 | GI21: 0 | GJ21: 0 | GK21: 0 | GL21: 0 | GM21: 0 | GN21: 0 | GO21: 0 | GP21: 0 | GQ21: 0 | GR21: 0 | GS21: 0 | GT21: 0 | GU21: 0 | GV21: 0 | GW21: 0 | GX21: 0 | GY21: 0 | GZ21: 0 | HA21: 0 | HB21: 0 | HC21: 0 | HD21: 0 | HE21: 0 | HF21: 0 | HG21: 0
A22: 21 | B22: BSG Draws | C22: A92 W100 O1.5 10m | D22: Whitaker | E22: =SUM(Q22:BF22) -> -2.14 | F22: =E22/J22 -> -0.535 | G22: =MAX(Q22:BF22) -> 30.51 | H22: =MIN(Q22:BF22) -> -27.74 | I22: =COUNTIF(Q22:BF22, ">0") -> 1 | J22: =COUNTIF(R22:BF22, "<>0") -> 4 | K22: =I22/J22 -> 0.25 | L22: =('BSG Bot Results'!IA43) -> 864 | M22: ='BSG Bot Results'!IC43 -> 0.64351852 | P22: {=TRANSPOSE('BSG Bot Results'!ID1:ID200)} -> A92 W100 O1.5 10m | Q22: 0 | R22: 0 | S22: 0 | T22: 0 | U22: 0 | V22: 0 | W22: 0 | X22: 0 | Y22: 0 | Z22: 0 | AA22: 0 | AB22: 0 | AC22: 0 | AD22: 0 | AE22: 0 | AF22: 0 | AG22: 0 | AH22: 0 | AI22: 0 | AJ22: 0 | AK22: 0 | AL22: 0 | AM22: 0 | AN22: 0 | AO22: 0 | AP22: 0 | AQ22: 0 | AR22: 0 | AS22: 0 | AT22: 0 | AU22: 0 | AV22: 0 | AW22: 0 | AX22: 0 | AY22: 0 | AZ22: 0 | BA22: 0 | BB22: 0 | BC22: -0.95 | BD22: 30.51 | BE22: -3.96 | BF22: -27.74 | BG22: 0 | BH22: 0 | BI22: 0 | BJ22: 0 | BK22: 0 | BL22: 0 | BM22: 0 | BN22: 0 | BO22: 0 | BP22: 0 | BQ22: 0 | BR22: 0 | BS22: 0 | BT22: 0 | BU22: 0 | BV22: 0 | BW22: 0 | BX22: 0 | BY22: 0 | BZ22: 0 | CA22: 0 | CB22: 0 | CC22: 0 | CD22: 0 | CE22: 0 | CF22: 0 | CG22: 0 | CH22: 0 | CI22: 0 | CJ22: 0 | CK22: 0 | CL22: 0 | CM22: 0 | CN22: 0 | CO22: 0 | CP22: 0 | CQ22: 0 | CR22: 0 | CS22: 0 | CT22: 0 | CU22: 0 | CV22: 0 | CW22: 0 | CX22: 0 | CY22: 0 | CZ22: 0 | DA22: 0 | DB22: 0 | DC22: 0 | DD22: 0 | DE22: 0 | DF22: 0 | DG22: 0 | DH22: 0 | DI22: 0 | DJ22: 0 | DK22: 0 | DL22: 0 | DM22: 0 | DN22: 0 | DO22: 0 | DP22: 0 | DQ22: 0 | DR22: 0 | DS22: 0 | DT22: 0 | DU22: 0 | DV22: 0 | DW22: 0 | DX22: 0 | DY22: 0 | DZ22: 0 | EA22: 0 | EB22: 0 | EC22: 0 | ED22: 0 | EE22: 0 | EF22: 0 | EG22: 0 | EH22: 0 | EI22: 0 | EJ22: 0 | EK22: 0 | EL22: 0 | EM22: 0 | EN22: 0 | EO22: 0 | EP22: 0 | EQ22: 0 | ER22: 0 | ES22: 0 | ET22: 0 | EU22: 0 | EV22: 0 | EW22: 0 | EX22: 0 | EY22: 0 | EZ22: 0 | FA22: 0 | FB22: 0 | FC22: 0 | FD22: 0 | FE22: 0 | FF22: 0 | FG22: 0 | FH22: 0 | FI22: 0 | FJ22: 0 | FK22: 0 | FL22: 0 | FM22: 0 | FN22: 0 | FO22: 0 | FP22: 0 | FQ22: 0 | FR22: 0 | FS22: 0 | FT22: 0 | FU22: 0 | FV22: 0 | FW22: 0 | FX22: 0 | FY22: 0 | FZ22: 0 | GA22: 0 | GB22: 0 | GC22: 0 | GD22: 0 | GE22: 0 | GF22: 0 | GG22: 0 | GH22: 0 | GI22: 0 | GJ22: 0 | GK22: 0 | GL22: 0 | GM22: 0 | GN22: 0 | GO22: 0 | GP22: 0 | GQ22: 0 | GR22: 0 | GS22: 0 | GT22: 0 | GU22: 0 | GV22: 0 | GW22: 0 | GX22: 0 | GY22: 0 | GZ22: 0 | HA22: 0 | HB22: 0 | HC22: 0 | HD22: 0 | HE22: 0 | HF22: 0 | HG22: 0
A25: =A1 -> # | B25: =B1 -> System | C25: =C1 -> Bot | D25: =D1 -> Staking | E25: =E1 -> Total Points | F25: =F1 -> Monthly Average | G25: =G1 -> Monthly High | H25: =H1 -> Monthly Low | ... N25: =N1 -> ROI | P25: =P1 -> Date | Q25: =Q1 -> 2022-10-22 | R25: =R1 -> 2022-11-16 | S25: =S1 -> 2022-12-23 | T25: =T1 -> 2023-1-17 | U25: =U1 -> 2023-2-21 | V25: =V1 -> 2023-3-17 | W25: =W1 -> 2023-4-17 | ... GF25: =GF1 -> 0
A26: =A2 -> 3 | B26: =B2 -> BSG Draws | C26: =C2 -> A2.3 £1 LS FT Draw 10m TS triggered | D26: =D2 -> Level Stakes | E26: =E2 -> 105.6 | F26: =F2 -> 11.733333 | G26: =G2 -> 48.6 | H26: =H2 -> -19.05 | ... N26: =N2 -> 0.062745098 | P26: =P2 -> A2.3 £1 LS FT Draw 10m TS triggered | Q26: =Q2 -> 0 | R26: =R2 -> 0 | S26: =S2 -> 0 | T26: =T2 -> 0 | U26: =U2 -> 0 | V26: =V2 -> 0 | W26: =W2 -> 0 | ... CY26: =CY2 -> 0
A27: =A5 -> 2 | B27: =B5 -> BSG Draws | C27: =C5 -> A2.02 £1 LS FT Draw Opp. | D27: =D5 -> Level Stakes | E27: =E5 -> 256.69 | F27: =F5 -> 6.2607317 | G27: =G5 -> 55.15 | H27: =H5 -> -32.13 | ... N27: =N5 -> 0.040417257 | P27: =P5 -> A2.02 £1 LS FT Draw Opp. | Q27: =Q5 -> 0 | R27: =R5 -> 35.07 | S27: =S5 -> 41.62 | T27: =T5 -> -13.75 | U27: =U5 -> 16.61 | V27: =V5 -> 34.82 | W27: =W5 -> 26.38 | ... CY27: =CY5 -> 0
A28: =A6 -> 1 | B28: =B6 -> BSG Draws | C28: =C6 -> A2.01 £1 LS FT Draw | D28: =D6 -> Level Stakes | E28: =E6 -> 233.26 | F28: =F6 -> 5.6892683 | G28: =G6 -> 93.08 | H28: =H6 -> -88.76 | ... N28: =N6 -> 0.011879806 | P28: =P6 -> A2.01 £1 LS FT Draw | Q28: =Q6 -> 0 | R28: =R6 -> 32.16 | S28: =S6 -> 38.14 | T28: =T6 -> -16.16 | U28: =U6 -> 0.96 | V28: =V6 -> 50.87 | W28: =W6 -> 16.05 | ... CY28: =CY6 -> 0
A29: =A7 -> 9 | B29: =B7 -> BSG Draws | C29: =C7 -> A7.3 £1 LS HT Draw | D29: =D7 -> Level Stakes | E29: =E7 -> 78.1 | F29: =F7 -> 4.88125 | G29: =G7 -> 44.04 | H29: =H7 -> -37.63 | ... N29: =N7 -> 0.020327954 | P29: =P7 -> A7.3 £1 LS HT Draw | Q29: =Q7 -> 0 | R29: =R7 -> 0 | S29: =S7 -> 0 | T29: =T7 -> 0 | U29: =U7 -> 0 | V29: =V7 -> 0 | W29: =W7 -> 0 | ... CY29: =CY7 -> 0
B30: =B8 -> BSG Draws | C30: BSG Draw Set 6 LS | D30: =D8 -> Level Stakes | E30: =SUM(AX31:BF31) -> 45.9275 | F30: =E30/J30 -> 5.1030556 | G30: =MAX(AX31:BF31) -> 29.5525 | H30: =MIN(AX31:BF31) -> -30.615 | I30: =COUNTIF(AX31:BF31, ">0") -> 5 | J30: =J26 -> 9 | K30: =I30/J30 -> 0.55555556 | AX30: =SUM(AX26:AX29) -> 17.08 | AY30: =SUM(AY26:AY29) -> 64.22 | AZ30: =SUM(AZ26:AZ29) -> -122.46 | BA30: =SUM(BA26:BA29) -> 89.11 | BB30: =SUM(BB26:BB29) -> -0.77 | BC30: =SUM(BC26:BC29) -> -27.31 | BD30: =SUM(BD26:BD29) -> -61.75 | BE30: =SUM(BE26:BE29) -> 118.21 | BF30: =SUM(BF26:BF29) -> 107.38
AX31: =AX30/4 -> 4.27 | AY31: =AY30/4 -> 16.055 | AZ31: =AZ30/4 -> -30.615 | BA31: =BA30/4 -> 22.2775 | BB31: =BB30/4 -> -0.1925 | BC31: =BC30/4 -> -6.8275 | BD31: =BD30/4 -> -15.4375 | BE31: =BE30/4 -> 29.5525 | BF31: =BF30/4 -> 26.845
A32: # | B32: System | C32: Bot | D32: Staking | E32: Total Points | F32: Monthly Average | G32: Monthly High | H32: Monthly Low | I32: Winning Months | J32: Months of data | K32: Winning Months % | L32: No. of Markets | M32: Market Win Rate | N32: ROI
A33: =A13 -> 12 | B33: =B13 -> BSG Draws | C33: =C13 -> A2.01 W100 FT Draw | D33: =D13 -> Whitaker | E33: =E13 -> 91.85 | F33: =F13 -> 22.9625 | G33: =G13 -> 48.52 | H33: =H13 -> -2.18 | ... M33: =M13 -> 0.34240562 | P33: =P13 -> A2.01 W100 FT Draw | Q33: =Q13 -> 0 | R33: =R13 -> 0 | S33: =S13 -> 0 | T33: =T13 -> 0 | U33: =U13 -> 0 | V33: =V13 -> 0 | W33: =W13 -> 0 | ... CY33: =CY13 -> 0
A34: =A14 -> 13 | B34: =B14 -> BSG Draws | C34: =C14 -> A2.02 W100 FT Draw Opp. | D34: =D14 -> Whitaker | E34: =E14 -> -2 | F34: =F14 -> -0.5 | G34: =G14 -> 14.82 | H34: =H14 -> -13.8 | ... M34: =M14 -> 0.30314961 | P34: =P14 -> A2.02 W100 FT Draw Opp. | Q34: =Q14 -> 0 | R34: =R14 -> 0 | S34: =S14 -> 0 | T34: =T14 -> 0 | U34: =U14 -> 0 | V34: =V14 -> 0 | W34: =W14 -> 0 | ... CY34: =CY14 -> 0
A35: =A15 -> 14 | B35: =B15 -> BSG Draws | C35: =C15 -> A2.03 W100 FT Draw 10m | D35: =D15 -> Whitaker | E35: =E15 -> 43.49 | F35: =F15 -> 10.8725 | G35: =G15 -> 58.25 | H35: =H15 -> -21.56 | ... M35: =M15 -> 0.35429448 | P35: =P15 -> A2.03 W100 FT Draw 10m | Q35: =Q15 -> 0 | R35: =R15 -> 0 | S35: =S15 -> 0 | T35: =T15 -> 0 | U35: =U15 -> 0 | V35: =V15 -> 0 | W35: =W15 -> 0 | ... CY35: =CY15 -> 0
A36: =A19 -> 18 | B36: =B19 -> BSG Draws | C36: =C19 -> A7.3 W100 HT Draw | D36: =D19 -> Whitaker | E36: =E19 -> 65.95 | F36: =F19 -> 16.4875 | G36: =G19 -> 39.04 | H36: =H19 -> 0 | ... M36: =M19 -> 0.50209205 | P36: =P19 -> A7.3 W100 HT Draw | Q36: =Q19 -> 0 | R36: =R19 -> 0 | S36: =S19 -> 0 | T36: =T19 -> 0 | U36: =U19 -> 0 | V36: =V19 -> 0 | W36: =W19 -> 0 | ... CY36: =CY19 -> 0
B37: =B15 -> BSG Draws | C37: BSG Draw Set 6 WS | D37: =D15 -> Whitaker | E37: =SUM(BC38:BF38) -> 49.8225 | F37: =E37/J37 -> 12.455625 | G37: =MAX(AX38:BF38) -> 40.1575 | H37: =MIN(AX38:BF38) -> -6.325 | I37: =COUNTIF(AX38:BF38, ">0") -> 3 | J37: =J33 -> 4 | K37: =I37/J37 -> 0.75 | BC37: =SUM(BC33:BC36) -> -25.3 | BD37: =SUM(BD33:BD36) -> 0.72 | BE37: =SUM(BE33:BE36) -> 160.63 | BF37: =SUM(BF33:BF36) -> 63.24
BC38: =BC37/4 -> -6.325 | BD38: =BD37/4 -> 0.18 | BE38: =BE37/4 -> 40.1575 | BF38: =BF37/4 -> 15.81

Sheet BSG Bot Results
A1: Date | B1: A2.01 T P/L | C1: A2.01 T Bets | D1: A2.01 T Won | E1: A2.01 T Win Rate | F1: A2.01 T ROI | G1: A2.01 £1 LS FT Draw | H1: A2.01 M Total bets | I1: A2.01 M Won | J1: A2.01 M Win Rate | K1: A2.01 M ROI | M1: A2.4.3 BSG draws 10m Hge @1.5 WNLC ELS5/1k £2k bnk (2025-06-20) | N1: T P/L | O1: T Bets | P1: T Won | Q1: T Win Rate | R1: A2.4.3 W£2k M P/L | S1: M Total bets | T1: M Won | U1: M Win Rate | W1: A2.4.3 BSG draws 10m Hge @1.5 WNLC ELS5/1k £100 bank (2025-06-20) | X1: T P/L | Y1: T Bets | Z1: T Won | AA1: T Win Rate | AB1: A2.4.3 W100 FT Draw 10m H@1.5 (3t older bot) | AC1: M Total bets | AD1: M Won | AE1: M Win Rate | AG1: A2.02 1GBP LS FT Draw OPP | AH1: T P/L | AI1: T Bets | AJ1: T Won | AK1: T Win Rate | AL1: T ROI | AM1: A2.02 £1 LS FT Draw Opp. | AN1: M Total bets | AO1: M Won | AP1: M Win Rate | AQ1: M ROI | AS1: A7.3 BSG draws HT draw £1 (2024-3-24) | AT1: T P/L | AU1: T Bets | AV1: T Won | AW1: T Win Rate | AX1: T ROI | AY1: A7.3 £1 LS HT Draw | AZ1: M Total bets | BA1: M Won | BB1: M Win Rate | BC1: M ROI | BE1: A8.1 BSG draws InPlay curr £1 2-0 (2025-3-15) | BF1: T P/L | BG1: T Bets | BH1: T Won | BI1: T Win Rate | BJ1: T ROI | BK1: A8.1 £1 LS FT Draw @2-0 | BL1: M Total bets | BM1: M Won | BN1: M Win Rate | BO1: M ROI | BQ1: A8.2 BSG draws InPlay opp. £1 2-0 (2025-3-15) | BR1: T P/L | BS1: T Bets | BT1: T Won | BU1: T Win Rate | BV1: T ROI | BW1: A8.2 £1 LS FT Draw @2-0 Opp. | BX1: M Total bets | BY1: M Won | BZ1: M Win Rate | CA1: M ROI | CC1: A2.3 BSG draws 10m £1 (2025-06-12) TS | CD1: T P/L | CE1: T Bets | CF1: T Won | CG1: T Win Rate | CH1: T ROI | CI1: A2.3 £1 LS FT Draw 10m TS triggered | CJ1: M Total bets | CK1: M Won | CL1: M Win Rate | CM1: M ROI | CO1: A2.3.1 BSG draws 10m £1 (2025-06-12) Autobot | CP1: T P/L | CQ1: T Bets | CR1: T Won | CS1: T Win Rate | CT1: T ROI | CU1: A2.3.1 £1 LS FT Draw 10m Autobot | CV1: M Total bets | CW1: M Won | CX1: M Win Rate | CY1: M ROI | DA1: A2.4.1 BSG draws 10m Hge 70m £1 (2025-06-12) | DB1: T P/L | DC1: T Bets | DD1: T Won | DE1: T Win Rate | DF1: T ROI | DG1: A2.4.1 £1 LS FT Draw 10m TS H@70m | DH1: M Total bets | DI1: M Won | DJ1: M Win Rate | DK1: M ROI | DM1: A2.4.2 BSG draws 10m Hge 80m £1 (2025-06-12) | DN1: T P/L | DO1: T Bets | DP1: T Won | DQ1: T Win Rate | DR1: T ROI | DS1: A2.4.2 £1 LS FT Draw 10m TS H@80m | DT1: M Total bets | DU1: M Won | DV1: M Win Rate | DW1: M ROI | DY1: BSG Bots £1 LS A2.4.3 10m Hge@1.5 (2025-06-12) | DZ1: A2.4.3 T P/L | EA1: A2.4.3 T Bets | EB1: A2.4.3 T Won | EC1: A2.4.3 T Win Rate | ED1: A2.4.3 T ROI | EE1: A2.05 W100 FT Draw 10m H@1.5 (4t) | EF1: A2.4.3 M Total bets | EG1: A2.4.3 £1 M Won | EH1: A2.4.3 M Win Rate | EI1: A2.4.3 M ROI | EK1: A2.4.4 BSG draws 10m Hge @2 £1 (2025-06-12) | EL1: T P/L | EM1: T Bets | EN1: T Won | EO1: T Win Rate | EP1: T ROI | EQ1: A2.4.4 £1 LS FT Draw 10m TS H@2 | ER1: M Total bets | ES1: M Won | ET1: M Win Rate | EU1: M ROI | EW1: A2.1 BSG draws Pre-Match W£100 TS | EX1: T P/L | EY1: T Bets | EZ1: T Won | FA1: T Win Rate | FB1: A2.01 W100 FT Draw | FC1: M Total bets | FD1: M Won | FE1: M Win Rate | FG1: A2.2 BSG draws Pre-Match opp W£100 TS | FH1: T P/L | FI1: T Bets | FJ1: T Won | FK1: T Win Rate | FL1: A2.02 W100 FT Draw Opp. | FM1: M Total bets | FN1: M Won | FO1: M Win Rate | FQ1: A2.3 BSG draws 10m W£100 TS | FR1: T P/L | FS1: T Bets | FT1: T Won | FU1: T Win Rate | FV1: A2.03 W100 FT Draw 10m | FW1: M Total bets | FX1: M Won | FY1: M Win Rate | GA1: A2.4.2 BSG draws 10m Hge 80m W£100 TS | GB1: T P/L | GC1: T Bets | GD1: T Won | GE1: T Win Rate | GF1: A2.04 W100 FT Draw 10m H@80m | GG1: M Total bets | GH1: M Won | GI1: M Win Rate | GK1: A2.4.3 BSG draws 10m Hge @1.5 W£100 TS | GL1: T P/L | GM1: T Bets | GN1: T Won | GO1: T Win Rate | GP1: A2.05 W100 FT Draw 10m H@1.5 | GQ1: M Total bets | GR1: M Won | GS1: M Win Rate | GU1: A7.3 BSG draws HT draw W£100 TS | GV1: T P/L | GW1: T Bets | GX1: T Won | GY1: T Win Rate | GZ1: A7.3 W100 HT Draw | HA1: M Total bets | HB1: M Won | HC1: M Win Rate | HE1: A8.2 BSG draws InPlay opp. W£100 TS | HF1: T P/L | HG1: T Bets | HH1: T Won | HI1: T Win Rate | HJ1: A8.2 W100 FT Draw @2-0 Opp. | HK1: M Total bets | HL1: M Won | HM1: M Win Rate | HO1: A8.3 BSG InPlay opp. +4t 2-0 W£100 TS | HP1: T P/L | HQ1: T Bets | HR1: T Won | HS1: T Win Rate | HT1: A8.3 W100 FT Draw @2-0 Opp. +4t | HU1: M Total bets | HV1: M Won | HW1: M Win Rate | HY1: A92 BSG Over 1.5 Goals 10m W£100 TS | HZ1: T P/L | IA1: T Bets | IB1: T Won | IC1: T Win Rate | ID1: A92 W100 O1.5 10m | IE1: M Total bets | IF1: M Won | IG1: M Win Rate
A2: 2022-10-22 | B2: 0 | C2: 0 | D2: 0 | AG2: 2022-10-22 | AH2: 0 | AI2: 0 | AJ2: 0 | AS2: 2022-10-22 | AT2: 0 | AU2: 0 | AV2: 0 | BE2: 2022-10-22 | BF2: 0 | BG2: 0 | BH2: 0 | BQ2: 2022-10-22 | BR2: 0 | BS2: 0 | BT2: 0 | CC2: 2022-10-22 | CD2: 0 | CE2: 0 | CF2: 0 | CO2: 2022-10-22 | CP2: 0 | CQ2: 0 | CR2: 0 | DA2: 2022-10-22 | DB2: 0 | DC2: 0 | DD2: 0 | DM2: 2022-10-22 | DN2: 0 | DO2: 0 | DP2: 0 | EK2: 2022-10-22 | EL2: 0 | EM2: 0 | EN2: 0 | EW2: 2022-10-22 | EX2: 0 | EY2: 0 | EZ2: 0 | FG2: 2022-10-22 | FH2: 0 | FI2: 0 | FJ2: 0 | FQ2: 2022-10-22 | FR2: 0 | FS2: 0 | FT2: 0 | GA2: 2022-10-22 | GB2: 0 | GC2: 0 | GD2: 0 | GK2: 2022-10-22 | GL2: 0 | GM2: 0 | GN2: 0 | GU2: 2022-10-22 | GV2: 0 | GW2: 0 | GX2: 0 | HE2: 2022-10-22 | HF2: 0 | HG2: 0 | HH2: 0 | HO2: 2022-10-22 | HP2: 0 | HQ2: 0 | HR2: 0 | HY2: 2022-10-22 | HZ2: 0 | IA2: 0 | IB2: 0
A3: 2022-11-16 | B3: 32.16 | C3: 426 | D3: 146 | E3: =D3/C3 -> 0.342723 | F3: =(B3)/C3 -> 0.075492958 | G3: =B3-B2 -> 32.16 | H3: =C3-C2 -> 426 | I3: =D3-D2 -> 146 | J3: =I3/H3 -> 0.342723 | K3: =(G3)/H3 -> 0.075492958 | AG3: 2022-11-16 | AH3: 35.07 | AI3: 119 | AJ3: 47 | AK3: =AJ3/AI3 -> 0.39495798 | AL3: =(AH3)/AI3 -> 0.29470588 | AM3: =AH3-AH2 -> 35.07 | AN3: =AI3-AI2 -> 119 | AO3: =AJ3-AJ2 -> 47 | AP3: =AO3/AN3 -> 0.39495798 | AQ3: =(AM3)/AN3 -> 0.29470588 | AS3: 2022-11-16 | AW3: =AV3/AU3 -> #DIV/0! | AX3: =(AT3)/AU3 -> #DIV/0! | AY3: =AT3-AT2 -> 0 | AZ3: =AU3-AU2 -> 0 | BA3: =AV3-AV2 -> 0 | BB3: =BA3/AZ3 -> #DIV/0! | BC3: =(AY3)/AZ3 -> #DIV/0! | BE3: 2022-11-16 | BI3: =BH3/BG3 -> #DIV/0! | BJ3: =(BF3)/BG3 -> #DIV/0! | BK3: =BF3-BF2 -> 0 | BL3: =BG3-BG2 -> 0 | BM3: =BH3-BH2 -> 0 | BN3: =BM3/BL3 -> #DIV/0! | BO3: =(BK3)/BL3 -> #DIV/0! | BQ3: 2022-11-16 | BU3: =BT3/BS3 -> #DIV/0! | BV3: =(BR3)/BS3 -> #DIV/0! | BW3: =BR3-BR2 -> 0 | BX3: =BS3-BS2 -> 0 | BY3: =BT3-BT2 -> 0 | BZ3: =BY3/BX3 -> #DIV/0! | CA3: =(BW3)/BX3 -> #DIV/0! | CC3: 2022-11-16 | CG3: =CF3/CE3 -> #DIV/0! | CH3: =(CD3)/CE3 -> #DIV/0! | CI3: =CD3-CD2 -> 0 | CJ3: =CE3-CE2 -> 0 | CK3: =CF3-CF2 -> 0 | CL3: =CK3/CJ3 -> #DIV/0! | CM3: =(CI3)/CJ3 -> #DIV/0! | CO3: 2022-11-16 | CS3: =CR3/CQ3 -> #DIV/0! | CT3: =(CP3)/CQ3 -> #DIV/0! | CU3: =CP3-CP2 -> 0 | CV3: =CQ3-CQ2 -> 0 | CW3: =CR3-CR2 -> 0 | CX3: =CW3/CV3 -> #DIV/0! | CY3: =(CU3)/CV3 -> #DIV/0! | DA3: 2022-11-16 | DE3: =DD3/DC3 -> #DIV/0! | DF3: =(DB3)/DC3 -> #DIV/0! | DG3: =DB3-DB2 -> 0 | DH3: =DC3-DC2 -> 0 | DI3: =DD3-DD2 -> 0 | DJ3: =DI3/DH3 -> #DIV/0! | DK3: =(DG3)/DH3 -> #DIV/0! | DM3: 2022-11-16 | DQ3: =DP3/DO3 -> #DIV/0! | DR3: =(DN3)/DO3 -> #DIV/0! | DS3: =DN3-DN2 -> 0 | DT3: =DO3-DO2 -> 0 | DU3: =DP3-DP2 -> 0 | DV3: =DU3/DT3 -> #DIV/0! | DW3: =(DS3)/DT3 -> #DIV/0! | EK3: 2022-11-16 | EO3: =EN3/EM3 -> #DIV/0! | EP3: =(EL3)/EM3 -> #DIV/0! | EQ3: =EL3-EL2 -> 0 | ER3: =EM3-EM2 -> 0 | ES3: =EN3-EN2 -> 0 | ET3: =ES3/ER3 -> #DIV/0! | EU3: =(EQ3)/ER3 -> #DIV/0! | EW3: 2022-11-16 | FA3: =EZ3/EY3 -> #DIV/0! | FB3: =EX3-EX2 -> 0 | FC3: =EY3-EY2 -> 0 | FD3: =EZ3-EZ2 -> 0 | FE3: =FD3/FC3 -> #DIV/0! | FG3: 2022-11-16 | FK3: =FJ3/FI3 -> #DIV/0! | FL3: =FH3-FH2 -> 0 | FM3: =FI3-FI2 -> 0 | FN3: =FJ3-FJ2 -> 0 | FO3: =FN3/FM3 -> #DIV/0! | FQ3: 2022-11-16 | FU3: =FT3/FS3 -> #DIV/0! | FV3: =FR3-FR2 -> 0 | FW3: =FS3-FS2 -> 0 | FX3: =FT3-FT2 -> 0 | FY3: =FX3/FW3 -> #DIV/0! | GA3: 2022-11-16 | GE3: =GD3/GC3 -> #DIV/0! | GF3: =GB3-GB2 -> 0 | GG3: =GC3-GC2 -> 0 | GH3: =GD3-GD2 -> 0 | GI3: =GH3/GG3 -> #DIV/0! | GK3: 2022-11-16 | GO3: =GN3/GM3 -> #DIV/0! | GP3: =GL3-GL2 -> 0 | GQ3: =GM3-GM2 -> 0 | GR3: =GN3-GN2 -> 0 | GS3: =GR3/GQ3 -> #DIV/0! | GU3: 2022-11-16 | GY3: =GX3/GW3 -> #DIV/0! | GZ3: =GV3-GV2 -> 0 | HA3: =GW3-GW2 -> 0 | HB3: =GX3-GX2 -> 0 | HC3: =HB3/HA3 -> #DIV/0! | HE3: 2022-11-16 | HI3: =HH3/HG3 -> #DIV/0! | HJ3: =HF3-HF2 -> 0 | HK3: =HG3-HG2 -> 0 | HL3: =HH3-HH2 -> 0 | HM3: =HL3/HK3 -> #DIV/0! | HO3: 2022-11-16 | HS3: =HR3/HQ3 -> #DIV/0! | HT3: =HP3-HP2 -> 0 | HU3: =HQ3-HQ2 -> 0 | HV3: =HR3-HR2 -> 0 | HW3: =HV3/HU3 -> #DIV/0! | HY3: 2022-11-16 | IC3: =IB3/IA3 -> #DIV/0! | ID3: =HZ3-HZ2 -> 0 | IE3: =IA3-IA2 -> 0 | IF3: =IB3-IB2 -> 0 | IG3: =IF3/IE3 -> #DIV/0!
A4: 2022-12-23 | B4: 70.3 | C4: 918 | D4: 317 | E4: =D4/C4 -> 0.3453159 | F4: =(B4)/C4 -> 0.076579521 | G4: =B4-B3 -> 38.14 | H4: =C4-C3 -> 492 | I4: =D4-D3 -> 171 | J4: =I4/H4 -> 0.34756098 | K4: =(G4)/H4 -> 0.077520325 | AG4: 2022-12-23 | AH4: 76.69 | AI4: 289 | AJ4: 113 | AK4: =AJ4/AI4 -> 0.39100346 | AL4: =(AH4)/AI4 -> 0.26536332 | AM4: =AH4-AH3 -> 41.62 | AN4: =AI4-AI3 -> 170 | AO4: =AJ4-AJ3 -> 66 | AP4: =AO4/AN4 -> 0.38823529 | AQ4: =(AM4)/AN4 -> 0.24482353 | AS4: 2022-12-23 | AW4: =AV4/AU4 -> #DIV/0! | AX4: =(AT4)/AU4 -> #DIV/0! | AY4: =AT4-AT3 -> 0 | AZ4: =AU4-AU3 -> 0 | BA4: =AV4-AV3 -> 0 | BB4: =BA4/AZ4 -> #DIV/0! | BC4: =(AY4)/AZ4 -> #DIV/0! | BE4: 2022-12-23 | BI4: =BH4/BG4 -> #DIV/0! | BJ4: =(BF4)/BG4 -> #DIV/0! | BK4: =BF4-BF3 -> 0 | BL4: =BG4-BG3 -> 0 | BM4: =BH4-BH3 -> 0 | BN4: =BM4/BL4 -> #DIV/0! | BO4: =(BK4)/BL4 -> #DIV/0! | BQ4: 2022-12-23 | BU4: =BT4/BS4 -> #DIV/0! | BV4: =(BR4)/BS4 -> #DIV/0! | BW4: =BR4-BR3 -> 0 | BX4: =BS4-BS3 -> 0 | BY4: =BT4-BT3 -> 0 | BZ4: =BY4/BX4 -> #DIV/0! | CA4: =(BW4)/BX4 -> #DIV/0! | CC4: 2022-12-23 | CG4: =CF4/CE4 -> #DIV/0! | CH4: =(CD4)/CE4 -> #DIV/0! | CI4: =CD4-CD3 -> 0 | CJ4: =CE4-CE3 -> 0 | CK4: =CF4-CF3 -> 0 | CL4: =CK4/CJ4 -> #DIV/0! | CM4: =(CI4)/CJ4 -> #DIV/0! | CO4: 2022-12-23 | CS4: =CR4/CQ4 -> #DIV/0! | CT4: =(CP4)/CQ4 -> #DIV/0! | CU4: =CP4-CP3 -> 0 | CV4: =CQ4-CQ3 -> 0 | CW4: =CR4-CR3 -> 0 | CX4: =CW4/CV4 -> #DIV/0! | CY4: =(CU4)/CV4 -> #DIV/0! | DA4: 2022-12-23 | DE4: =DD4/DC4 -> #DIV/0! | DF4: =(DB4)/DC4 -> #DIV/0! | DG4: =DB4-DB3 -> 0 | DH4: =DC4-DC3 -> 0 | DI4: =DD4-DD3 -> 0 | DJ4: =DI4/DH4 -> #DIV/0! | DK4: =(DG4)/DH4 -> #DIV/0! | DM4: 2022-12-23 | DQ4: =DP4/DO4 -> #DIV/0! | DR4: =(DN4)/DO4 -> #DIV/0! | DS4: =DN4-DN3 -> 0 | DT4: =DO4-DO3 -> 0 | DU4: =DP4-DP3 -> 0 | DV4: =DU4/DT4 -> #DIV/0! | DW4: =(DS4)/DT4 -> #DIV/0! | EK4: 2022-12-23 | EO4: =EN4/EM4 -> #DIV/0! | EP4: =(EL4)/EM4 -> #DIV/0! | EQ4: =EL4-EL3 -> 0 | ER4: =EM4-EM3 -> 0 | ES4: =EN4-EN3 -> 0 | ET4: =ES4/ER4 -> #DIV/0! | EU4: =(EQ4)/ER4 -> #DIV/0! | EW4: 2022-12-23 | FA4: =EZ4/EY4 -> #DIV/0! | FB4: =EX4-EX3 -> 0 | FC4: =EY4-EY3 -> 0 | FD4: =EZ4-EZ3 -> 0 | FE4: =FD4/FC4 -> #DIV/0! | FG4: 2022-12-23 | FK4: =FJ4/FI4 -> #DIV/0! | FL4: =FH4-FH3 -> 0 | FM4: =FI4-FI3 -> 0 | FN4: =FJ4-FJ3 -> 0 | FO4: =FN4/FM4 -> #DIV/0! | FQ4: 2022-12-23 | FU4: =FT4/FS4 -> #DIV/0! | FV4: =FR4-FR3 -> 0 | FW4: =FS4-FS3 -> 0 | FX4: =FT4-FT3 -> 0 | FY4: =FX4/FW4 -> #DIV/0! | GA4: 2022-12-23 | GE4: =GD4/GC4 -> #DIV/0! | GF4: =GB4-GB3 -> 0 | GG4: =GC4-GC3 -> 0 | GH4: =GD4-GD3 -> 0 | GI4: =GH4/GG4 -> #DIV/0! | GK4: 2022-12-23 | GO4: =GN4/GM4 -> #DIV/0! | GP4: =GL4-GL3 -> 0 | GQ4: =GM4-GM3 -> 0 | GR4: =GN4-GN3 -> 0 | GS4: =GR4/GQ4 -> #DIV/0! | GU4: 2022-12-23 | GY4: =GX4/GW4 -> #DIV/0! | GZ4: =GV4-GV3 -> 0 | HA4: =GW4-GW3 -> 0 | HB4: =GX4-GX3 -> 0 | HC4: =HB4/HA4 -> #DIV/0! | HE4: 2022-12-23 | HI4: =HH4/HG4 -> #DIV/0! | HJ4: =HF4-HF3 -> 0 | HK4: =HG4-HG3 -> 0 | HL4: =HH4-HH3 -> 0 | HM4: =HL4/HK4 -> #DIV/0! | HO4: 2022-12-23 | HS4: =HR4/HQ4 -> #DIV/0! | HT4: =HP4-HP3 -> 0 | HU4: =HQ4-HQ3 -> 0 | HV4: =HR4-HR3 -> 0 | HW4: =HV4/HU4 -> #DIV/0! | HY4: 2022-12-23 | IC4: =IB4/IA4 -> #DIV/0! | ID4: =HZ4-HZ3 -> 0 | IE4: =IA4-IA3 -> 0 | IF4: =IB4-IB3 -> 0 | IG4: =IF4/IE4 -> #DIV/0!
A5: 2023-1-17 | B5: 54.14 | C5: 1252 | D5: 419 | E5: =D5/C5 -> 0.33466454 | F5: =(B5)/C5 -> 0.043242812 | G5: =B5-B4 -> -16.16 | H5: =C5-C4 -> 334 | I5: =D5-D4 -> 102 | J5: =I5/H5 -> 0.30538922 | K5: =(G5)/H5 -> -0.048383234 | AG5: 2023-1-17 | AH5: 62.94 | AI5: 348 | AJ5: 126 | AK5: =AJ5/AI5 -> 0.36206897 | AL5: =(AH5)/AI5 -> 0.18086207 | AM5: =AH5-AH4 -> -13.75 | AN5: =AI5-AI4 -> 59 | AO5: =AJ5-AJ4 -> 13 | AP5: =AO5/AN5 -> 0.22033898 | AQ5: =(AM5)/AN5 -> -0.23305085 | AS5: 2023-1-17 | AW5: =AV5/AU5 -> #DIV/0! | AX5: =(AT5)/AU5 -> #DIV/0! | AY5: =AT5-AT4 -> 0 | AZ5: =AU5-AU4 -> 0 | BA5: =AV5-AV4 -> 0 | BB5: =BA5/AZ5 -> #DIV/0! | BC5: =(AY5)/AZ5 -> #DIV/0! | BE5: 2023-1-17 | BI5: =BH5/BG5 -> #DIV/0! | BJ5: =(BF5)/BG5 -> #DIV/0! | BK5: =BF5-BF4 -> 0 | BL5: =BG5-BG4 -> 0 | BM5: =BH5-BH4 -> 0 | BN5: =BM5/BL5 -> #DIV/0! | BO5: =(BK5)/BL5 -> #DIV/0! | BQ5: 2023-1-17 | BU5: =BT5/BS5 -> #DIV/0! | BV5: =(BR5)/BS5 -> #DIV/0! | BW5: =BR5-BR4 -> 0 | BX5: =BS5-BS4 -> 0 | BY5: =BT5-BT4 -> 0 | BZ5: =BY5/BX5 -> #DIV/0! | CA5: =(BW5)/BX5 -> #DIV/0! | CC5: 2023-1-17 | CG5: =CF5/CE5 -> #DIV/0! | CH5: =(CD5)/CE5 -> #DIV/0! | CI5: =CD5-CD4 -> 0 | CJ5: =CE5-CE4 -> 0 | CK5: =CF5-CF4 -> 0 | CL5: =CK5/CJ5 -> #DIV/0! | CM5: =(CI5)/CJ5 -> #DIV/0! | CO5: 2023-1-17 | CS5: =CR5/CQ5 -> #DIV/0! | CT5: =(CP5)/CQ5 -> #DIV/0! | CU5: =CP5-CP4 -> 0 | CV5: =CQ5-CQ4 -> 0 | CW5: =CR5-CR4 -> 0 | CX5: =CW5/CV5 -> #DIV/0! | CY5: =(CU5)/CV5 -> #DIV/0! | DA5: 2023-1-17 | DE5: =DD5/DC5 -> #DIV/0! | DF5: =(DB5)/DC5 -> #DIV/0! | DG5: =DB5-DB4 -> 0 | DH5: =DC5-DC4 -> 0 | DI5: =DD5-DD4 -> 0 | DJ5: =DI5/DH5 -> #DIV/0! | DK5: =(DG5)/DH5 -> #DIV/0! | DM5: 2023-1-17 | DQ5: =DP5/DO5 -> #DIV/0! | DR5: =(DN5)/DO5 -> #DIV/0! | DS5: =DN5-DN4 -> 0 | DT5: =DO5-DO4 -> 0 | DU5: =DP5-DP4 -> 0 | DV5: =DU5/DT5 -> #DIV/0! | DW5: =(DS5)/DT5 -> #DIV/0! | EK5: 2023-1-17 | EO5: =EN5/EM5 -> #DIV/0! | EP5: =(EL5)/EM5 -> #DIV/0! | EQ5: =EL5-EL4 -> 0 | ER5: =EM5-EM4 -> 0 | ES5: =EN5-EN4 -> 0 | ET5: =ES5/ER5 -> #DIV/0! | EU5: =(EQ5)/ER5 -> #DIV/0! | EW5: 2023-1-17 | FA5: =EZ5/EY5 -> #DIV/0! | FB5: =EX5-EX4 -> 0 | FC5: =EY5-EY4 -> 0 | FD5: =EZ5-EZ4 -> 0 | FE5: =FD5/FC5 -> #DIV/0! | FG5: 2023-1-17 | FK5: =FJ5/FI5 -> #DIV/0! | FL5: =FH5-FH4 -> 0 | FM5: =FI5-FI4 -> 0 | FN5: =FJ5-FJ4 -> 0 | FO5: =FN5/FM5 -> #DIV/0! | FQ5: 2023-1-17 | FU5: =FT5/FS5 -> #DIV/0! | FV5: =FR5-FR4 -> 0 | FW5: =FS5-FS4 -> 0 | FX5: =FT5-FT4 -> 0 | FY5: =FX5/FW5 -> #DIV/0! | GA5: 2023-1-17 | GE5: =GD5/GC5 -> #DIV/0! | GF5: =GB5-GB4 -> 0 | GG5: =GC5-GC4 -> 0 | GH5: =GD5-GD4 -> 0 | GI5: =GH5/GG5 -> #DIV/0! | GK5: 2023-1-17 | GO5: =GN5/GM5 -> #DIV/0! | GP5: =GL5-GL4 -> 0 | GQ5: =GM5-GM4 -> 0 | GR5: =GN5-GN4 -> 0 | GS5: =GR5/GQ5 -> #DIV/0! | GU5: 2023-1-17 | GY5: =GX5/GW5 -> #DIV/0! | GZ5: =GV5-GV4 -> 0 | HA5: =GW5-GW4 -> 0 | HB5: =GX5-GX4 -> 0 | HC5: =HB5/HA5 -> #DIV/0! | HE5: 2023-1-17 | HI5: =HH5/HG5 -> #DIV/0! | HJ5: =HF5-HF4 -> 0 | HK5: =HG5-HG4 -> 0 | HL5: =HH5-HH4 -> 0 | HM5: =HL5/HK5 -> #DIV/0! | HO5: 2023-1-17 | HS5: =HR5/HQ5 -> #DIV/0! | HT5: =HP5-HP4 -> 0 | HU5: =HQ5-HQ4 -> 0 | HV5: =HR5-HR4 -> 0 | HW5: =HV5/HU5 -> #DIV/0! | HY5: 2023-1-17 | IC5: =IB5/IA5 -> #DIV/0! | ID5: =HZ5-HZ4 -> 0 | IE5: =IA5-IA4 -> 0 | IF5: =IB5-IB4 -> 0 | IG5: =IF5/IE5 -> #DIV/0!
A6: 2023-2-21 | B6: 55.1 | C6: 2117 | D6: 698 | E6: =D6/C6 -> 0.32971186 | F6: =(B6)/C6 -> 0.026027397 | G6: =B6-B5 -> 0.96 | H6: =C6-C5 -> 865 | I6: =D6-D5 -> 279 | J6: =I6/H6 -> 0.32254335 | K6: =(G6)/H6 -> 0.0011098266 | AG6: 2023-2-21 | AH6: 79.55 | AI6: 562 | AJ6: 197 | AK6: =AJ6/AI6 -> 0.35053381 | AL6: =(AH6)/AI6 -> 0.14154804 | AM6: =AH6-AH5 -> 16.61 | AN6: =AI6-AI5 -> 214 | AO6: =AJ6-AJ5 -> 71 | AP6: =AO6/AN6 -> 0.3317757 | AQ6: =(AM6)/AN6 -> 0.077616822 | AS6: 2023-2-21 | AW6: =AV6/AU6 -> #DIV/0! | AX6: =(AT6)/AU6 -> #DIV/0! | AY6: =AT6-AT5 -> 0 | AZ6: =AU6-AU5 -> 0 | BA6: =AV6-AV5 -> 0 | BB6: =BA6/AZ6 -> #DIV/0! | BC6: =(AY6)/AZ6 -> #DIV/0! | BE6: 2023-2-21 | BI6: =BH6/BG6 -> #DIV/0! | BJ6: =(BF6)/BG6 -> #DIV/0! | BK6: =BF6-BF5 -> 0 | BL6: =BG6-BG5 -> 0 | BM6: =BH6-BH5 -> 0 | BN6: =BM6/BL6 -> #DIV/0! | BO6: =(BK6)/BL6 -> #DIV/0! | BQ6: 2023-2-21 | BU6: =BT6/BS6 -> #DIV/0! | BV6: =(BR6)/BS6 -> #DIV/0! | BW6: =BR6-BR5 -> 0 | BX6: =BS6-BS5 -> 0 | BY6: =BT6-BT5 -> 0 | BZ6: =BY6/BX6 -> #DIV/0! | CA6: =(BW6)/BX6 -> #DIV/0! | CC6: 2023-2-21 | CG6: =CF6/CE6 -> #DIV/0! | CH6: =(CD6)/CE6 -> #DIV/0! | CI6: =CD6-CD5 -> 0 | CJ6: =CE6-CE5 -> 0 | CK6: =CF6-CF5 -> 0 | CL6: =CK6/CJ6 -> #DIV/0! | CM6: =(CI6)/CJ6 -> #DIV/0! | CO6: 2023-2-21 | CS6: =CR6/CQ6 -> #DIV/0! | CT6: =(CP6)/CQ6 -> #DIV/0! | CU6: =CP6-CP5 -> 0 | CV6: =CQ6-CQ5 -> 0 | CW6: =CR6-CR5 -> 0 | CX6: =CW6/CV6 -> #DIV/0! | CY6: =(CU6)/CV6 -> #DIV/0! | DA6: 2023-2-21 | DE6: =DD6/DC6 -> #DIV/0! | DF6: =(DB6)/DC6 -> #DIV/0! | DG6: =DB6-DB5 -> 0 | DH6: =DC6-DC5 -> 0 | DI6: =DD6-DD5 -> 0 | DJ6: =DI6/DH6 -> #DIV/0! | DK6: =(DG6)/DH6 -> #DIV/0! | DM6: 2023-2-21 | DQ6: =DP6/DO6 -> #DIV/0! | DR6: =(DN6)/DO6 -> #DIV/0! | DS6: =DN6-DN5 -> 0 | DT6: =DO6-DO5 -> 0 | DU6: =DP6-DP5 -> 0 | DV6: =DU6/DT6 -> #DIV/0! | DW6: =(DS6)/DT6 -> #DIV/0! | EK6: 2023-2-21 | EO6: =EN6/EM6 -> #DIV/0! | EP6: =(EL6)/EM6 -> #DIV/0! | EQ6: =EL6-EL5 -> 0 | ER6: =EM6-EM5 -> 0 | ES6: =EN6-EN5 -> 0 | ET6: =ES6/ER6 -> #DIV/0! | EU6: =(EQ6)/ER6 -> #DIV/0! | EW6: 2023-2-21 | FA6: =EZ6/EY6 -> #DIV/0! | FB6: =EX6-EX5 -> 0 | FC6: =EY6-EY5 -> 0 | FD6: =EZ6-EZ5 -> 0 | FE6: =FD6/FC6 -> #DIV/0! | FG6: 2023-2-21 | FK6: =FJ6/FI6 -> #DIV/0! | FL6: =FH6-FH5 -> 0 | FM6: =FI6-FI5 -> 0 | FN6: =FJ6-FJ5 -> 0 | FO6: =FN6/FM6 -> #DIV/0! | FQ6: 2023-2-21 | FU6: =FT6/FS6 -> #DIV/0! | FV6: =FR6-FR5 -> 0 | FW6: =FS6-FS5 -> 0 | FX6: =FT6-FT5 -> 0 | FY6: =FX6/FW6 -> #DIV/0! | GA6: 2023-2-21 | GE6: =GD6/GC6 -> #DIV/0! | GF6: =GB6-GB5 -> 0 | GG6: =GC6-GC5 -> 0 | GH6: =GD6-GD5 -> 0 | GI6: =GH6/GG6 -> #DIV/0! | GK6: 2023-2-21 | GO6: =GN6/GM6 -> #DIV/0! | GP6: =GL6-GL5 -> 0 | GQ6: =GM6-GM5 -> 0 | GR6: =GN6-GN5 -> 0 | GS6: =GR6/GQ6 -> #DIV/0! | GU6: 2023-2-21 | GY6: =GX6/GW6 -> #DIV/0! | GZ6: =GV6-GV5 -> 0 | HA6: =GW6-GW5 -> 0 | HB6: =GX6-GX5 -> 0 | HC6: =HB6/HA6 -> #DIV/0! | HE6: 2023-2-21 | HI6: =HH6/HG6 -> #DIV/0! | HJ6: =HF6-HF5 -> 0 | HK6: =HG6-HG5 -> 0 | HL6: =HH6-HH5 -> 0 | HM6: =HL6/HK6 -> #DIV/0! | HO6: 2023-2-21 | HS6: =HR6/HQ6 -> #DIV/0! | HT6: =HP6-HP5 -> 0 | HU6: =HQ6-HQ5 -> 0 | HV6: =HR6-HR5 -> 0 | HW6: =HV6/HU6 -> #DIV/0! | HY6: 2023-2-21 | IC6: =IB6/IA6 -> #DIV/0! | ID6: =HZ6-HZ5 -> 0 | IE6: =IA6-IA5 -> 0 | IF6: =IB6-IB5 -> 0 | IG6: =IF6/IE6 -> #DIV/0!
A7: 2023-3-17 | B7: 105.97 | C7: 2923 | D7: 971 | E7: =D7/C7 -> 0.33219295 | F7: =(B7)/C7 -> 0.036253849 | G7: =B7-B6 -> 50.87 | H7: =C7-C6 -> 806 | I7: =D7-D6 -> 273 | J7: =I7/H7 -> 0.33870968 | K7: =(G7)/H7 -> 0.063114144 | AG7: 2023-3-17 | AH7: 114.37 | AI7: 782 | AJ7: 273 | AK7: =AJ7/AI7 -> 0.34910486 | AL7: =(AH7)/AI7 -> 0.1462532 | AM7: =AH7-AH6 -> 34.82 | AN7: =AI7-AI6 -> 220 | AO7: =AJ7-AJ6 -> 76 | AP7: =AO7/AN7 -> 0.34545455 | AQ7: =(AM7)/AN7 -> 0.15827273 | AS7: 2023-3-17 | AW7: =AV7/AU7 -> #DIV/0! | AX7: =(AT7)/AU7 -> #DIV/0! | AY7: =AT7-AT6 -> 0 | AZ7: =AU7-AU6 -> 0 | BA7: =AV7-AV6 -> 0 | BB7: =BA7/AZ7 -> #DIV/0! | BC7: =(AY7)/AZ7 -> #DIV/0! | BE7: 2023-3-17 | BI7: =BH7/BG7 -> #DIV/0! | BJ7: =(BF7)/BG7 -> #DIV/0! | BK7: =BF7-BF6 -> 0 | BL7: =BG7-BG6 -> 0 | BM7: =BH7-BH6 -> 0 | BN7: =BM7/BL7 -> #DIV/0! | BO7: =(BK7)/BL7 -> #DIV/0! | BQ7: 2023-3-17 | BU7: =BT7/BS7 -> #DIV/0! | BV7: =(BR7)/BS7 -> #DIV/0! | BW7: =BR7-BR6 -> 0 | BX7: =BS7-BS6 -> 0 | BY7: =BT7-BT6 -> 0 | BZ7: =BY7/BX7 -> #DIV/0! | CA7: =(BW7)/BX7 -> #DIV/0! | CC7: 2023-3-17 | CG7: =CF7/CE7 -> #DIV/0! | CH7: =(CD7)/CE7 -> #DIV/0! | CI7: =CD7-CD6 -> 0 | CJ7: =CE7-CE6 -> 0 | CK7: =CF7-CF6 -> 0 | CL7: =CK7/CJ7 -> #DIV/0! | CM7: =(CI7)/CJ7 -> #DIV/0! | CO7: 2023-3-17 | CS7: =CR7/CQ7 -> #DIV/0! | CT7: =(CP7)/CQ7 -> #DIV/0! | CU7: =CP7-CP6 -> 0 | CV7: =CQ7-CQ6 -> 0 | CW7: =CR7-CR6 -> 0 | CX7: =CW7/CV7 -> #DIV/0! | CY7: =(CU7)/CV7 -> #DIV/0! | DA7: 2023-3-17 | DE7: =DD7/DC7 -> #DIV/0! | DF7: =(DB7)/DC7 -> #DIV/0! | DG7: =DB7-DB6 -> 0 | DH7: =DC7-DC6 -> 0 | DI7: =DD7-DD6 -> 0 | DJ7: =DI7/DH7 -> #DIV/0! | DK7: =(DG7)/DH7 -> #DIV/0! | DM7: 2023-3-17 | DQ7: =DP7/DO7 -> #DIV/0! | DR7: =(DN7)/DO7 -> #DIV/0! | DS7: =DN7-DN6 -> 0 | DT7: =DO7-DO6 -> 0 | DU7: =DP7-DP6 -> 0 | DV7: =DU7/DT7 -> #DIV/0! | DW7: =(DS7)/DT7 -> #DIV/0! | EK7: 2023-3-17 | EO7: =EN7/EM7 -> #DIV/0! | EP7: =(EL7)/EM7 -> #DIV/0! | EQ7: =EL7-EL6 -> 0 | ER7: =EM7-EM6 -> 0 | ES7: =EN7-EN6 -> 0 | ET7: =ES7/ER7 -> #DIV/0! | EU7: =(EQ7)/ER7 -> #DIV/0! | EW7: 2023-3-17 | FA7: =EZ7/EY7 -> #DIV/0! | FB7: =EX7-EX6 -> 0 | FC7: =EY7-EY6 -> 0 | FD7: =EZ7-EZ6 -> 0 | FE7: =FD7/FC7 -> #DIV/0! | FG7: 2023-3-17 | FK7: =FJ7/FI7 -> #DIV/0! | FL7: =FH7-FH6 -> 0 | FM7: =FI7-FI6 -> 0 | FN7: =FJ7-FJ6 -> 0 | FO7: =FN7/FM7 -> #DIV/0! | FQ7: 2023-3-17 | FU7: =FT7/FS7 -> #DIV/0! | FV7: =FR7-FR6 -> 0 | FW7: =FS7-FS6 -> 0 | FX7: =FT7-FT6 -> 0 | FY7: =FX7/FW7 -> #DIV/0! | GA7: 2023-3-17 | GE7: =GD7/GC7 -> #DIV/0! | GF7: =GB7-GB6 -> 0 | GG7: =GC7-GC6 -> 0 | GH7: =GD7-GD6 -> 0 | GI7: =GH7/GG7 -> #DIV/0! | GK7: 2023-3-17 | GO7: =GN7/GM7 -> #DIV/0! | GP7: =GL7-GL6 -> 0 | GQ7: =GM7-GM6 -> 0 | GR7: =GN7-GN6 -> 0 | GS7: =GR7/GQ7 -> #DIV/0! | GU7: 2023-3-17 | GY7: =GX7/GW7 -> #DIV/0! | GZ7: =GV7-GV6 -> 0 | HA7: =GW7-GW6 -> 0 | HB7: =GX7-GX6 -> 0 | HC7: =HB7/HA7 -> #DIV/0! | HE7: 2023-3-17 | HI7: =HH7/HG7 -> #DIV/0! | HJ7: =HF7-HF6 -> 0 | HK7: =HG7-HG6 -> 0 | HL7: =HH7-HH6 -> 0 | HM7: =HL7/HK7 -> #DIV/0! | HO7: 2023-3-17 | HS7: =HR7/HQ7 -> #DIV/0! | HT7: =HP7-HP6 -> 0 | HU7: =HQ7-HQ6 -> 0 | HV7: =HR7-HR6 -> 0 | HW7: =HV7/HU7 -> #DIV/0! | HY7: 2023-3-17 | IC7: =IB7/IA7 -> #DIV/0! | ID7: =HZ7-HZ6 -> 0 | IE7: =IA7-IA6 -> 0 | IF7: =IB7-IB6 -> 0 | IG7: =IF7/IE7 -> #DIV/0!
A8: 2023-4-17 | B8: 122.02 | C8: 4056 | D8: 1339 | E8: =D8/C8 -> 0.33012821 | F8: =(B8)/C8 -> 0.030083826 | G8: =B8-B7 -> 16.05 | H8: =C8-C7 -> 1133 | I8: =D8-D7 -> 368 | J8: =I8/H8 -> 0.32480141 | K8: =(G8)/H8 -> 0.014165931 | AG8: 2023-4-17 | AH8: 140.75 | AI8: 1170 | AJ8: 403 | AK8: =AJ8/AI8 -> 0.34444444 | AL8: =(AH8)/AI8 -> 0.12029915 | AM8: =AH8-AH7 -> 26.38 | AN8: =AI8-AI7 -> 388 | AO8: =AJ8-AJ7 -> 130 | AP8: =AO8/AN8 -> 0.33505155 | AQ8: =(AM8)/AN8 -> 0.067989691 | AS8: 2023-4-17 | AW8: =AV8/AU8 -> #DIV/0! | AX8: =(AT8)/AU8 -> #DIV/0! | AY8: =AT8-AT7 -> 0 | AZ8: =AU8-AU7 -> 0 | BA8: =AV8-AV7 -> 0 | BB8: =BA8/AZ8 -> #DIV/0! | BC8: =(AY8)/AZ8 -> #DIV/0! | BE8: 2023-4-17 | BI8: =BH8/BG8 -> #DIV/0! | BJ8: =(BF8)/BG8 -> #DIV/0! | BK8: =BF8-BF7 -> 0 | BL8: =BG8-BG7 -> 0 | BM8: =BH8-BH7 -> 0 | BN8: =BM8/BL8 -> #DIV/0! | BO8: =(BK8)/BL8 -> #DIV/0! | BQ8: 2023-4-17 | BU8: =BT8/BS8 -> #DIV/0! | BV8: =(BR8)/BS8 -> #DIV/0! | BW8: =BR8-BR7 -> 0 | BX8: =BS8-BS7 -> 0 | BY8: =BT8-BT7 -> 0 | BZ8: =BY8/BX8 -> #DIV/0! | CA8: =(BW8)/BX8 -> #DIV/0! | CC8: 2023-4-17 | CG8: =CF8/CE8 -> #DIV/0! | CH8: =(CD8)/CE8 -> #DIV/0! | CI8: =CD8-CD7 -> 0 | CJ8: =CE8-CE7 -> 0 | CK8: =CF8-CF7 -> 0 | CL8: =CK8/CJ8 -> #DIV/0! | CM8: =(CI8)/CJ8 -> #DIV/0! | CO8: 2023-4-17 | CS8: =CR8/CQ8 -> #DIV/0! | CT8: =(CP8)/CQ8 -> #DIV/0! | CU8: =CP8-CP7 -> 0 | CV8: =CQ8-CQ7 -> 0 | CW8: =CR8-CR7 -> 0 | CX8: =CW8/CV8 -> #DIV/0! | CY8: =(CU8)/CV8 -> #DIV/0! | DA8: 2023-4-17 | DE8: =DD8/DC8 -> #DIV/0! | DF8: =(DB8)/DC8 -> #DIV/0! | DG8: =DB8-DB7 -> 0 | DH8: =DC8-DC7 -> 0 | DI8: =DD8-DD7 -> 0 | DJ8: =DI8/DH8 -> #DIV/0! | DK8: =(DG8)/DH8 -> #DIV/0! | DM8: 2023-4-17 | DQ8: =DP8/DO8 -> #DIV/0! | DR8: =(DN8)/DO8 -> #DIV/0! | DS8: =DN8-DN7 -> 0 | DT8: =DO8-DO7 -> 0 | DU8: =DP8-DP7 -> 0 | DV8: =DU8/DT8 -> #DIV/0! | DW8: =(DS8)/DT8 -> #DIV/0! | EK8: 2023-4-17 | EO8: =EN8/EM8 -> #DIV/0! | EP8: =(EL8)/EM8 -> #DIV/0! | EQ8: =EL8-EL7 -> 0 | ER8: =EM8-EM7 -> 0 | ES8: =EN8-EN7 -> 0 | ET8: =ES8/ER8 -> #DIV/0! | EU8: =(EQ8)/ER8 -> #DIV/0! | EW8: 2023-4-17 | FA8: =EZ8/EY8 -> #DIV/0! | FB8: =EX8-EX7 -> 0 | FC8: =EY8-EY7 -> 0 | FD8: =EZ8-EZ7 -> 0 | FE8: =FD8/FC8 -> #DIV/0! | FG8: 2023-4-17 | FK8: =FJ8/FI8 -> #DIV/0! | FL8: =FH8-FH7 -> 0 | FM8: =FI8-FI7 -> 0 | FN8: =FJ8-FJ7 -> 0 | FO8: =FN8/FM8 -> #DIV/0! | FQ8: 2023-4-17 | FU8: =FT8/FS8 -> #DIV/0! | FV8: =FR8-FR7 -> 0 | FW8: =FS8-FS7 -> 0 | FX8: =FT8-FT7 -> 0 | FY8: =FX8/FW8 -> #DIV/0! | GA8: 2023-4-17 | GE8: =GD8/GC8 -> #DIV/0! | GF8: =GB8-GB7 -> 0 | GG8: =GC8-GC7 -> 0 | GH8: =GD8-GD7 -> 0 | GI8: =GH8/GG8 -> #DIV/0! | GK8: 2023-4-17 | GO8: =GN8/GM8 -> #DIV/0! | GP8: =GL8-GL7 -> 0 | GQ8: =GM8-GM7 -> 0 | GR8: =GN8-GN7 -> 0 | GS8: =GR8/GQ8 -> #DIV/0! | GU8: 2023-4-17 | GY8: =GX8/GW8 -> #DIV/0! | GZ8: =GV8-GV7 -> 0 | HA8: =GW8-GW7 -> 0 | HB8: =GX8-GX7 -> 0 | HC8: =HB8/HA8 -> #DIV/0! | HE8: 2023-4-17 | HI8: =HH8/HG8 -> #DIV/0! | HJ8: =HF8-HF7 -> 0 | HK8: =HG8-HG7 -> 0 | HL8: =HH8-HH7 -> 0 | HM8: =HL8/HK8 -> #DIV/0! | HO8: 2023-4-17 | HS8: =HR8/HQ8 -> #DIV/0! | HT8: =HP8-HP7 -> 0 | HU8: =HQ8-HQ7 -> 0 | HV8: =HR8-HR7 -> 0 | HW8: =HV8/HU8 -> #DIV/0! | HY8: 2023-4-17 | IC8: =IB8/IA8 -> #DIV/0! | ID8: =HZ8-HZ7 -> 0 | IE8: =IA8-IA7 -> 0 | IF8: =IB8-IB7 -> 0 | IG8: =IF8/IE8 -> #DIV/0!
A9: 2023-5-15 | B9: 127.5 | C9: 4776 | D9: 1571 | E9: =D9/C9 -> 0.32893635 | F9: =(B9)/C9 -> 0.02669598 | G9: =B9-B8 -> 5.48 | H9: =C9-C8 -> 720 | I9: =D9-D8 -> 232 | J9: =I9/H9 -> 0.32222222 | K9: =(G9)/H9 -> 0.0076111111 | AG9: 2023-5-15 | AH9: 144 | AI9: 1395 | AJ9: 472 | AK9: =AJ9/AI9 -> 0.33835125 | AL9: =(AH9)/AI9 -> 0.10322581 | AM9: =AH9-AH8 -> 3.25 | AN9: =AI9-AI8 -> 225 | AO9: =AJ9-AJ8 -> 69 | AP9: =AO9/AN9 -> 0.30666667 | AQ9: =(AM9)/AN9 -> 0.014444444 | AS9: 2023-5-15 | AW9: =AV9/AU9 -> #DIV/0! | AX9: =(AT9)/AU9 -> #DIV/0! | AY9: =AT9-AT8 -> 0 | AZ9: =AU9-AU8 -> 0 | BA9: =AV9-AV8 -> 0 | BB9: =BA9/AZ9 -> #DIV/0! | BC9: =(AY9)/AZ9 -> #DIV/0! | BE9: 2023-5-15 | BI9: =BH9/BG9 -> #DIV/0! | BJ9: =(BF9)/BG9 -> #DIV/0! | BK9: =BF9-BF8 -> 0 | BL9: =BG9-BG8 -> 0 | BM9: =BH9-BH8 -> 0 | BN9: =BM9/BL9 -> #DIV/0! | BO9: =(BK9)/BL9 -> #DIV/0! | BQ9: 2023-5-15 | BU9: =BT9/BS9 -> #DIV/0! | BV9: =(BR9)/BS9 -> #DIV/0! | BW9: =BR9-BR8 -> 0 | BX9: =BS9-BS8 -> 0 | BY9: =BT9-BT8 -> 0 | BZ9: =BY9/BX9 -> #DIV/0! | CA9: =(BW9)/BX9 -> #DIV/0! | CC9: 2023-5-15 | CG9: =CF9/CE9 -> #DIV/0! | CH9: =(CD9)/CE9 -> #DIV/0! | CI9: =CD9-CD8 -> 0 | CJ9: =CE9-CE8 -> 0 | CK9: =CF9-CF8 -> 0 | CL9: =CK9/CJ9 -> #DIV/0! | CM9: =(CI9)/CJ9 -> #DIV/0! | CO9: 2023-5-15 | CS9: =CR9/CQ9 -> #DIV/0! | CT9: =(CP9)/CQ9 -> #DIV/0! | CU9: =CP9-CP8 -> 0 | CV9: =CQ9-CQ8 -> 0 | CW9: =CR9-CR8 -> 0 | CX9: =CW9/CV9 -> #DIV/0! | CY9: =(CU9)/CV9 -> #DIV/0! | DA9: 2023-5-15 | DE9: =DD9/DC9 -> #DIV/0! | DF9: =(DB9)/DC9 -> #DIV/0! | DG9: =DB9-DB8 -> 0 | DH9: =DC9-DC8 -> 0 | DI9: =DD9-DD8 -> 0 | DJ9: =DI9/DH9 -> #DIV/0! | DK9: =(DG9)/DH9 -> #DIV/0! | DM9: 2023-5-15 | DQ9: =DP9/DO9 -> #DIV/0! | DR9: =(DN9)/DO9 -> #DIV/0! | DS9: =DN9-DN8 -> 0 | DT9: =DO9-DO8 -> 0 | DU9: =DP9-DP8 -> 0 | DV9: =DU9/DT9 -> #DIV/0! | DW9: =(DS9)/DT9 -> #DIV/0! | EK9: 2023-5-15 | EO9: =EN9/EM9 -> #DIV/0! | EP9: =(EL9)/EM9 -> #DIV/0! | EQ9: =EL9-EL8 -> 0 | ER9: =EM9-EM8 -> 0 | ES9: =EN9-EN8 -> 0 | ET9: =ES9/ER9 -> #DIV/0! | EU9: =(EQ9)/ER9 -> #DIV/0! | EW9: 2023-5-15 | FA9: =EZ9/EY9 -> #DIV/0! | FB9: =EX9-EX8 -> 0 | FC9: =EY9-EY8 -> 0 | FD9: =EZ9-EZ8 -> 0 | FE9: =FD9/FC9 -> #DIV/0! | FG9: 2023-5-15 | FK9: =FJ9/FI9 -> #DIV/0! | FL9: =FH9-FH8 -> 0 | FM9: =FI9-FI8 -> 0 | FN9: =FJ9-FJ8 -> 0 | FO9: =FN9/FM9 -> #DIV/0! | FQ9: 2023-5-15 | FU9: =FT9/FS9 -> #DIV/0! | FV9: =FR9-FR8 -> 0 | FW9: =FS9-FS8 -> 0 | FX9: =FT9-FT8 -> 0 | FY9: =FX9/FW9 -> #DIV/0! | GA9: 2023-5-15 | GE9: =GD9/GC9 -> #DIV/0! | GF9: =GB9-GB8 -> 0 | GG9: =GC9-GC8 -> 0 | GH9: =GD9-GD8 -> 0 | GI9: =GH9/GG9 -> #DIV/0! | GK9: 2023-5-15 | GO9: =GN9/GM9 -> #DIV/0! | GP9: =GL9-GL8 -> 0 | GQ9: =GM9-GM8 -> 0 | GR9: =GN9-GN8 -> 0 | GS9: =GR9/GQ9 -> #DIV/0! | GU9: 2023-5-15 | GY9: =GX9/GW9 -> #DIV/0! | GZ9: =GV9-GV8 -> 0 | HA9: =GW9-GW8 -> 0 | HB9: =GX9-GX8 -> 0 | HC9: =HB9/HA9 -> #DIV/0! | HE9: 2023-5-15 | HI9: =HH9/HG9 -> #DIV/0! | HJ9: =HF9-HF8 -> 0 | HK9: =HG9-HG8 -> 0 | HL9: =HH9-HH8 -> 0 | HM9: =HL9/HK9 -> #DIV/0! | HO9: 2023-5-15 | HS9: =HR9/HQ9 -> #DIV/0! | HT9: =HP9-HP8 -> 0 | HU9: =HQ9-HQ8 -> 0 | HV9: =HR9-HR8 -> 0 | HW9: =HV9/HU9 -> #DIV/0! | HY9: 2023-5-15 | IC9: =IB9/IA9 -> #DIV/0! | ID9: =HZ9-HZ8 -> 0 | IE9: =IA9-IA8 -> 0 | IF9: =IB9-IB8 -> 0 | IG9: =IF9/IE9 -> #DIV/0!
A10: 2023-6-19 | B10: 187.8 | C10: 5265 | D10: 1744 | E10: =D10/C10 -> 0.33124406 | F10: =(B10)/C10 -> 0.035669516 | G10: =B10-B9 -> 60.3 | H10: =C10-C9 -> 489 | I10: =D10-D9 -> 173 | J10: =I10/H10 -> 0.35378323 | K10: =(G10)/H10 -> 0.12331288 | AG10: 2023-6-19 | AH10: 177.6 | AI10: 1486 | AJ10: 506 | AK10: =AJ10/AI10 -> 0.34051144 | AL10: =(AH10)/AI10 -> 0.11951548 | AM10: =AH10-AH9 -> 33.6 | AN10: =AI10-AI9 -> 91 | AO10: =AJ10-AJ9 -> 34 | AP10: =AO10/AN10 -> 0.37362637 | AQ10: =(AM10)/AN10 -> 0.36923077 | AS10: 2023-6-19 | AW10: =AV10/AU10 -> #DIV/0! | AX10: =(AT10)/AU10 -> #DIV/0! | AY10: =AT10-AT9 -> 0 | AZ10: =AU10-AU9 -> 0 | BA10: =AV10-AV9 -> 0 | BB10: =BA10/AZ10 -> #DIV/0! | BC10: =(AY10)/AZ10 -> #DIV/0! | BE10: 2023-6-19 | BI10: =BH10/BG10 -> #DIV/0! | BJ10: =(BF10)/BG10 -> #DIV/0! | BK10: =BF10-BF9 -> 0 | BL10: =BG10-BG9 -> 0 | BM10: =BH10-BH9 -> 0 | BN10: =BM10/BL10 -> #DIV/0! | BO10: =(BK10)/BL10 -> #DIV/0! | BQ10: 2023-6-19 | BU10: =BT10/BS10 -> #DIV/0! | BV10: =(BR10)/BS10 -> #DIV/0! | BW10: =BR10-BR9 -> 0 | BX10: =BS10-BS9 -> 0 | BY10: =BT10-BT9 -> 0 | BZ10: =BY10/BX10 -> #DIV/0! | CA10: =(BW10)/BX10 -> #DIV/0! | CC10: 2023-6-19 | CG10: =CF10/CE10 -> #DIV/0! | CH10: =(CD10)/CE10 -> #DIV/0! | CI10: =CD10-CD9 -> 0 | CJ10: =CE10-CE9 -> 0 | CK10: =CF10-CF9 -> 0 | CL10: =CK10/CJ10 -> #DIV/0! | CM10: =(CI10)/CJ10 -> #DIV/0! | CO10: 2023-6-19 | CS10: =CR10/CQ10 -> #DIV/0! | CT10: =(CP10)/CQ10 -> #DIV/0! | CU10: =CP10-CP9 -> 0 | CV10: =CQ10-CQ9 -> 0 | CW10: =CR10-CR9 -> 0 | CX10: =CW10/CV10 -> #DIV/0! | CY10: =(CU10)/CV10 -> #DIV/0! | DA10: 2023-6-19 | DE10: =DD10/DC10 -> #DIV/0! | DF10: =(DB10)/DC10 -> #DIV/0! | DG10: =DB10-DB9 -> 0 | DH10: =DC10-DC9 -> 0 | DI10: =DD10-DD9 -> 0 | DJ10: =DI10/DH10 -> #DIV/0! | DK10: =(DG10)/DH10 -> #DIV/0! | DM10: 2023-6-19 | DQ10: =DP10/DO10 -> #DIV/0! | DR10: =(DN10)/DO10 -> #DIV/0! | DS10: =DN10-DN9 -> 0 | DT10: =DO10-DO9 -> 0 | DU10: =DP10-DP9 -> 0 | DV10: =DU10/DT10 -> #DIV/0! | DW10: =(DS10)/DT10 -> #DIV/0! | EK10: 2023-6-19 | EO10: =EN10/EM10 -> #DIV/0! | EP10: =(EL10)/EM10 -> #DIV/0! | EQ10: =EL10-EL9 -> 0 | ER10: =EM10-EM9 -> 0 | ES10: =EN10-EN9 -> 0 | ET10: =ES10/ER10 -> #DIV/0! | EU10: =(EQ10)/ER10 -> #DIV/0! | EW10: 2023-6-19 | FA10: =EZ10/EY10 -> #DIV/0! | FB10: =EX10-EX9 -> 0 | FC10: =EY10-EY9 -> 0 | FD10: =EZ10-EZ9 -> 0 | FE10: =FD10/FC10 -> #DIV/0! | FG10: 2023-6-19 | FK10: =FJ10/FI10 -> #DIV/0! | FL10: =FH10-FH9 -> 0 | FM10: =FI10-FI9 -> 0 | FN10: =FJ10-FJ9 -> 0 | FO10: =FN10/FM10 -> #DIV/0! | FQ10: 2023-6-19 | FU10: =FT10/FS10 -> #DIV/0! | FV10: =FR10-FR9 -> 0 | FW10: =FS10-FS9 -> 0 | FX10: =FT10-FT9 -> 0 | FY10: =FX10/FW10 -> #DIV/0! | GA10: 2023-6-19 | GE10: =GD10/GC10 -> #DIV/0! | GF10: =GB10-GB9 -> 0 | GG10: =GC10-GC9 -> 0 | GH10: =GD10-GD9 -> 0 | GI10: =GH10/GG10 -> #DIV/0! | GK10: 2023-6-19 | GO10: =GN10/GM10 -> #DIV/0! | GP10: =GL10-GL9 -> 0 | GQ10: =GM10-GM9 -> 0 | GR10: =GN10-GN9 -> 0 | GS10: =GR10/GQ10 -> #DIV/0! | GU10: 2023-6-19 | GY10: =GX10/GW10 -> #DIV/0! | GZ10: =GV10-GV9 -> 0 | HA10: =GW10-GW9 -> 0 | HB10: =GX10-GX9 -> 0 | HC10: =HB10/HA10 -> #DIV/0! | HE10: 2023-6-19 | HI10: =HH10/HG10 -> #DIV/0! | HJ10: =HF10-HF9 -> 0 | HK10: =HG10-HG9 -> 0 | HL10: =HH10-HH9 -> 0 | HM10: =HL10/HK10 -> #DIV/0! | HO10: 2023-6-19 | HS10: =HR10/HQ10 -> #DIV/0! | HT10: =HP10-HP9 -> 0 | HU10: =HQ10-HQ9 -> 0 | HV10: =HR10-HR9 -> 0 | HW10: =HV10/HU10 -> #DIV/0! | HY10: 2023-6-19 | IC10: =IB10/IA10 -> #DIV/0! | ID10: =HZ10-HZ9 -> 0 | IE10: =IA10-IA9 -> 0 | IF10: =IB10-IB9 -> 0 | IG10: =IF10/IE10 -> #DIV/0!
A11: 2023-7-22 | B11: 205.56 | C11: 5665 | D11: 1882 | E11: =D11/C11 -> 0.33221536 | F11: =(B11)/C11 -> 0.036285966 | G11: =B11-B10 -> 17.76 | H11: =C11-C10 -> 400 | I11: =D11-D10 -> 138 | J11: =I11/H11 -> 0.345 | K11: =(G11)/H11 -> 0.0444 | AG11: 2023-7-22 | AH11: 183.22 | AI11: 1763 | AJ11: 600 | AK11: =AJ11/AI11 -> 0.34032898 | AL11: =(AH11)/AI11 -> 0.10392513 | AM11: =AH11-AH10 -> 5.62 | AN11: =AI11-AI10 -> 277 | AO11: =AJ11-AJ10 -> 94 | AP11: =AO11/AN11 -> 0.33935018 | AQ11: =(AM11)/AN11 -> 0.020288809 | AS11: 2023-7-22 | AW11: =AV11/AU11 -> #DIV/0! | AX11: =(AT11)/AU11 -> #DIV/0! | AY11: =AT11-AT10 -> 0 | AZ11: =AU11-AU10 -> 0 | BA11: =AV11-AV10 -> 0 | BB11: =BA11/AZ11 -> #DIV/0! | BC11: =(AY11)/AZ11 -> #DIV/0! | BE11: 2023-7-22 | BI11: =BH11/BG11 -> #DIV/0! | BJ11: =(BF11)/BG11 -> #DIV/0! | BK11: =BF11-BF10 -> 0 | BL11: =BG11-BG10 -> 0 | BM11: =BH11-BH10 -> 0 | BN11: =BM11/BL11 -> #DIV/0! | BO11: =(BK11)/BL11 -> #DIV/0! | BQ11: 2023-7-22 | BU11: =BT11/BS11 -> #DIV/0! | BV11: =(BR11)/BS11 -> #DIV/0! | BW11: =BR11-BR10 -> 0 | BX11: =BS11-BS10 -> 0 | BY11: =BT11-BT10 -> 0 | BZ11: =BY11/BX11 -> #DIV/0! | CA11: =(BW11)/BX11 -> #DIV/0! | CC11: 2023-7-22 | CG11: =CF11/CE11 -> #DIV/0! | CH11: =(CD11)/CE11 -> #DIV/0! | CI11: =CD11-CD10 -> 0 | CJ11: =CE11-CE10 -> 0 | CK11: =CF11-CF10 -> 0 | CL11: =CK11/CJ11 -> #DIV/0! | CM11: =(CI11)/CJ11 -> #DIV/0! | CO11: 2023-7-22 | CS11: =CR11/CQ11 -> #DIV/0! | CT11: =(CP11)/CQ11 -> #DIV/0! | CU11: =CP11-CP10 -> 0 | CV11: =CQ11-CQ10 -> 0 | CW11: =CR11-CR10 -> 0 | CX11: =CW11/CV11 -> #DIV/0! | CY11: =(CU11)/CV11 -> #DIV/0! | DA11: 2023-7-22 | DE11: =DD11/DC11 -> #DIV/0! | DF11: =(DB11)/DC11 -> #DIV/0! | DG11: =DB11-DB10 -> 0 | DH11: =DC11-DC10 -> 0 | DI11: =DD11-DD10 -> 0 | DJ11: =DI11/DH11 -> #DIV/0! | DK11: =(DG11)/DH11 -> #DIV/0! | DM11: 2023-7-22 | DQ11: =DP11/DO11 -> #DIV/0! | DR11: =(DN11)/DO11 -> #DIV/0! | DS11: =DN11-DN10 -> 0 | DT11: =DO11-DO10 -> 0 | DU11: =DP11-DP10 -> 0 | DV11: =DU11/DT11 -> #DIV/0! | DW11: =(DS11)/DT11 -> #DIV/0! | EK11: 2023-7-22 | EO11: =EN11/EM11 -> #DIV/0! | EP11: =(EL11)/EM11 -> #DIV/0! | EQ11: =EL11-EL10 -> 0 | ER11: =EM11-EM10 -> 0 | ES11: =EN11-EN10 -> 0 | ET11: =ES11/ER11 -> #DIV/0! | EU11: =(EQ11)/ER11 -> #DIV/0! | EW11: 2023-7-22 | FA11: =EZ11/EY11 -> #DIV/0! | FB11: =EX11-EX10 -> 0 | FC11: =EY11-EY10 -> 0 | FD11: =EZ11-EZ10 -> 0 | FE11: =FD11/FC11 -> #DIV/0! | FG11: 2023-7-22 | FK11: =FJ11/FI11 -> #DIV/0! | FL11: =FH11-FH10 -> 0 | FM11: =FI11-FI10 -> 0 | FN11: =FJ11-FJ10 -> 0 | FO11: =FN11/FM11 -> #DIV/0! | FQ11: 2023-7-22 | FU11: =FT11/FS11 -> #DIV/0! | FV11: =FR11-FR10 -> 0 | FW11: =FS11-FS10 -> 0 | FX11: =FT11-FT10 -> 0 | FY11: =FX11/FW11 -> #DIV/0! | GA11: 2023-7-22 | GE11: =GD11/GC11 -> #DIV/0! | GF11: =GB11-GB10 -> 0 | GG11: =GC11-GC10 -> 0 | GH11: =GD11-GD10 -> 0 | GI11: =GH11/GG11 -> #DIV/0! | GK11: 2023-7-22 | GO11: =GN11/GM11 -> #DIV/0! | GP11: =GL11-GL10 -> 0 | GQ11: =GM11-GM10 -> 0 | GR11: =GN11-GN10 -> 0 | GS11: =GR11/GQ11 -> #DIV/0! | GU11: 2023-7-22 | GY11: =GX11/GW11 -> #DIV/0! | GZ11: =GV11-GV10 -> 0 | HA11: =GW11-GW10 -> 0 | HB11: =GX11-GX10 -> 0 | HC11: =HB11/HA11 -> #DIV/0! | HE11: 2023-7-22 | HI11: =HH11/HG11 -> #DIV/0! | HJ11: =HF11-HF10 -> 0 | HK11: =HG11-HG10 -> 0 | HL11: =HH11-HH10 -> 0 | HM11: =HL11/HK11 -> #DIV/0! | HO11: 2023-7-22 | HS11: =HR11/HQ11 -> #DIV/0! | HT11: =HP11-HP10 -> 0 | HU11: =HQ11-HQ10 -> 0 | HV11: =HR11-HR10 -> 0 | HW11: =HV11/HU11 -> #DIV/0! | HY11: 2023-7-22 | IC11: =IB11/IA11 -> #DIV/0! | ID11: =HZ11-HZ10 -> 0 | IE11: =IA11-IA10 -> 0 | IF11: =IB11-IB10 -> 0 | IG11: =IF11/IE11 -> #DIV/0!
A12: 2023-8-22 | B12: 182.21 | C12: 6092 | D12: 2009 | E12: =D12/C12 -> 0.32977676 | F12: =(B12)/C12 -> 0.029909718 | G12: =B12-B11 -> -23.35 | H12: =C12-C11 -> 427 | I12: =D12-D11 -> 127 | J12: =I12/H12 -> 0.29742389 | K12: =(G12)/H12 -> -0.054683841 | AG12: 2023-8-22 | AH12: 163.77 | AI12: 1878 | AJ12: 629 | AK12: =AJ12/AI12 -> 0.33493078 | AL12: =(AH12)/AI12 -> 0.087204473 | AM12: =AH12-AH11 -> -19.45 | AN12: =AI12-AI11 -> 115 | AO12: =AJ12-AJ11 -> 29 | AP12: =AO12/AN12 -> 0.25217391 | AQ12: =(AM12)/AN12 -> -0.16913043 | AS12: 2023-8-22 | AW12: =AV12/AU12 -> #DIV/0! | AX12: =(AT12)/AU12 -> #DIV/0! | AY12: =AT12-AT11 -> 0 | AZ12: =AU12-AU11 -> 0 | BA12: =AV12-AV11 -> 0 | BB12: =BA12/AZ12 -> #DIV/0! | BC12: =(AY12)/AZ12 -> #DIV/0! | BE12: 2023-8-22 | BI12: =BH12/BG12 -> #DIV/0! | BJ12: =(BF12)/BG12 -> #DIV/0! | BK12: =BF12-BF11 -> 0 | BL12: =BG12-BG11 -> 0 | BM12: =BH12-BH11 -> 0 | BN12: =BM12/BL12 -> #DIV/0! | BO12: =(BK12)/BL12 -> #DIV/0! | BQ12: 2023-8-22 | BU12: =BT12/BS12 -> #DIV/0! | BV12: =(BR12)/BS12 -> #DIV/0! | BW12: =BR12-BR11 -> 0 | BX12: =BS12-BS11 -> 0 | BY12: =BT12-BT11 -> 0 | BZ12: =BY12/BX12 -> #DIV/0! | CA12: =(BW12)/BX12 -> #DIV/0! | CC12: 2023-8-22 | CG12: =CF12/CE12 -> #DIV/0! | CH12: =(CD12)/CE12 -> #DIV/0! | CI12: =CD12-CD11 -> 0 | CJ12: =CE12-CE11 -> 0 | CK12: =CF12-CF11 -> 0 | CL12: =CK12/CJ12 -> #DIV/0! | CM12: =(CI12)/CJ12 -> #DIV/0! | CO12: 2023-8-22 | CS12: =CR12/CQ12 -> #DIV/0! | CT12: =(CP12)/CQ12 -> #DIV/0! | CU12: =CP12-CP11 -> 0 | CV12: =CQ12-CQ11 -> 0 | CW12: =CR12-CR11 -> 0 | CX12: =CW12/CV12 -> #DIV/0! | CY12: =(CU12)/CV12 -> #DIV/0! | DA12: 2023-8-22 | DE12: =DD12/DC12 -> #DIV/0! | DF12: =(DB12)/DC12 -> #DIV/0! | DG12: =DB12-DB11 -> 0 | DH12: =DC12-DC11 -> 0 | DI12: =DD12-DD11 -> 0 | DJ12: =DI12/DH12 -> #DIV/0! | DK12: =(DG12)/DH12 -> #DIV/0! | DM12: 2023-8-22 | DQ12: =DP12/DO12 -> #DIV/0! | DR12: =(DN12)/DO12 -> #DIV/0! | DS12: =DN12-DN11 -> 0 | DT12: =DO12-DO11 -> 0 | DU12: =DP12-DP11 -> 0 | DV12: =DU12/DT12 -> #DIV/0! | DW12: =(DS12)/DT12 -> #DIV/0! | EK12: 2023-8-22 | EO12: =EN12/EM12 -> #DIV/0! | EP12: =(EL12)/EM12 -> #DIV/0! | EQ12: =EL12-EL11 -> 0 | ER12: =EM12-EM11 -> 0 | ES12: =EN12-EN11 -> 0 | ET12: =ES12/ER12 -> #DIV/0! | EU12: =(EQ12)/ER12 -> #DIV/0! | EW12: 2023-8-22 | FA12: =EZ12/EY12 -> #DIV/0! | FB12: =EX12-EX11 -> 0 | FC12: =EY12-EY11 -> 0 | FD12: =EZ12-EZ11 -> 0 | FE12: =FD12/FC12 -> #DIV/0! | FG12: 2023-8-22 | FK12: =FJ12/FI12 -> #DIV/0! | FL12: =FH12-FH11 -> 0 | FM12: =FI12-FI11 -> 0 | FN12: =FJ12-FJ11 -> 0 | FO12: =FN12/FM12 -> #DIV/0! | FQ12: 2023-8-22 | FU12: =FT12/FS12 -> #DIV/0! | FV12: =FR12-FR11 -> 0 | FW12: =FS12-FS11 -> 0 | FX12: =FT12-FT11 -> 0 | FY12: =FX12/FW12 -> #DIV/0! | GA12: 2023-8-22 | GE12: =GD12/GC12 -> #DIV/0! | GF12: =GB12-GB11 -> 0 | GG12: =GC12-GC11 -> 0 | GH12: =GD12-GD11 -> 0 | GI12: =GH12/GG12 -> #DIV/0! | GK12: 2023-8-22 | GO12: =GN12/GM12 -> #DIV/0! | GP12: =GL12-GL11 -> 0 | GQ12: =GM12-GM11 -> 0 | GR12: =GN12-GN11 -> 0 | GS12: =GR12/GQ12 -> #DIV/0! | GU12: 2023-8-22 | GY12: =GX12/GW12 -> #DIV/0! | GZ12: =GV12-GV11 -> 0 | HA12: =GW12-GW11 -> 0 | HB12: =GX12-GX11 -> 0 | HC12: =HB12/HA12 -> #DIV/0! | HE12: 2023-8-22 | HI12: =HH12/HG12 -> #DIV/0! | HJ12: =HF12-HF11 -> 0 | HK12: =HG12-HG11 -> 0 | HL12: =HH12-HH11 -> 0 | HM12: =HL12/HK12 -> #DIV/0! | HO12: 2023-8-22 | HS12: =HR12/HQ12 -> #DIV/0! | HT12: =HP12-HP11 -> 0 | HU12: =HQ12-HQ11 -> 0 | HV12: =HR12-HR11 -> 0 | HW12: =HV12/HU12 -> #DIV/0! | HY12: 2023-8-22 | IC12: =IB12/IA12 -> #DIV/0! | ID12: =HZ12-HZ11 -> 0 | IE12: =IA12-IA11 -> 0 | IF12: =IB12-IB11 -> 0 | IG12: =IF12/IE12 -> #DIV/0!
A13: 2023-9-18 | B13: 199.81 | C13: 6926 | D13: 2282 | E13: =D13/C13 -> 0.32948311 | F13: =(B13)/C13 -> 0.028849264 | G13: =B13-B12 -> 17.6 | H13: =C13-C12 -> 834 | I13: =D13-D12 -> 273 | J13: =I13/H13 -> 0.32733813 | K13: =(G13)/H13 -> 0.021103118 | AG13: 2023-9-18 | AH13: 192.12 | AI13: 2012 | AJ13: 674 | AK13: =AJ13/AI13 -> 0.33499006 | AL13: =(AH13)/AI13 -> 0.095487078 | AM13: =AH13-AH12 -> 28.35 | AN13: =AI13-AI12 -> 134 | AO13: =AJ13-AJ12 -> 45 | AP13: =AO13/AN13 -> 0.3358209 | AQ13: =(AM13)/AN13 -> 0.21156716 | AS13: 2023-9-18 | AW13: =AV13/AU13 -> #DIV/0! | AX13: =(AT13)/AU13 -> #DIV/0! | AY13: =AT13-AT12 -> 0 | AZ13: =AU13-AU12 -> 0 | BA13: =AV13-AV12 -> 0 | BB13: =BA13/AZ13 -> #DIV/0! | BC13: =(AY13)/AZ13 -> #DIV/0! | BE13: 2023-9-18 | BI13: =BH13/BG13 -> #DIV/0! | BJ13: =(BF13)/BG13 -> #DIV/0! | BK13: =BF13-BF12 -> 0 | BL13: =BG13-BG12 -> 0 | BM13: =BH13-BH12 -> 0 | BN13: =BM13/BL13 -> #DIV/0! | BO13: =(BK13)/BL13 -> #DIV/0! | BQ13: 2023-9-18 | BU13: =BT13/BS13 -> #DIV/0! | BV13: =(BR13)/BS13 -> #DIV/0! | BW13: =BR13-BR12 -> 0 | BX13: =BS13-BS12 -> 0 | BY13: =BT13-BT12 -> 0 | BZ13: =BY13/BX13 -> #DIV/0! | CA13: =(BW13)/BX13 -> #DIV/0! | CC13: 2023-9-18 | CG13: =CF13/CE13 -> #DIV/0! | CH13: =(CD13)/CE13 -> #DIV/0! | CI13: =CD13-CD12 -> 0 | CJ13: =CE13-CE12 -> 0 | CK13: =CF13-CF12 -> 0 | CL13: =CK13/CJ13 -> #DIV/0! | CM13: =(CI13)/CJ13 -> #DIV/0! | CO13: 2023-9-18 | CS13: =CR13/CQ13 -> #DIV/0! | CT13: =(CP13)/CQ13 -> #DIV/0! | CU13: =CP13-CP12 -> 0 | CV13: =CQ13-CQ12 -> 0 | CW13: =CR13-CR12 -> 0 | CX13: =CW13/CV13 -> #DIV/0! | CY13: =(CU13)/CV13 -> #DIV/0! | DA13: 2023-9-18 | DE13: =DD13/DC13 -> #DIV/0! | DF13: =(DB13)/DC13 -> #DIV/0! | DG13: =DB13-DB12 -> 0 | DH13: =DC13-DC12 -> 0 | DI13: =DD13-DD12 -> 0 | DJ13: =DI13/DH13 -> #DIV/0! | DK13: =(DG13)/DH13 -> #DIV/0! | DM13: 2023-9-18 | DQ13: =DP13/DO13 -> #DIV/0! | DR13: =(DN13)/DO13 -> #DIV/0! | DS13: =DN13-DN12 -> 0 | DT13: =DO13-DO12 -> 0 | DU13: =DP13-DP12 -> 0 | DV13: =DU13/DT13 -> #DIV/0! | DW13: =(DS13)/DT13 -> #DIV/0! | EK13: 2023-9-18 | EO13: =EN13/EM13 -> #DIV/0! | EP13: =(EL13)/EM13 -> #DIV/0! | EQ13: =EL13-EL12 -> 0 | ER13: =EM13-EM12 -> 0 | ES13: =EN13-EN12 -> 0 | ET13: =ES13/ER13 -> #DIV/0! | EU13: =(EQ13)/ER13 -> #DIV/0! | EW13: 2023-9-18 | FA13: =EZ13/EY13 -> #DIV/0! | FB13: =EX13-EX12 -> 0 | FC13: =EY13-EY12 -> 0 | FD13: =EZ13-EZ12 -> 0 | FE13: =FD13/FC13 -> #DIV/0! | FG13: 2023-9-18 | FK13: =FJ13/FI13 -> #DIV/0! | FL13: =FH13-FH12 -> 0 | FM13: =FI13-FI12 -> 0 | FN13: =FJ13-FJ12 -> 0 | FO13: =FN13/FM13 -> #DIV/0! | FQ13: 2023-9-18 | FU13: =FT13/FS13 -> #DIV/0! | FV13: =FR13-FR12 -> 0 | FW13: =FS13-FS12 -> 0 | FX13: =FT13-FT12 -> 0 | FY13: =FX13/FW13 -> #DIV/0! | GA13: 2023-9-18 | GE13: =GD13/GC13 -> #DIV/0! | GF13: =GB13-GB12 -> 0 | GG13: =GC13-GC12 -> 0 | GH13: =GD13-GD12 -> 0 | GI13: =GH13/GG13 -> #DIV/0! | GK13: 2023-9-18 | GO13: =GN13/GM13 -> #DIV/0! | GP13: =GL13-GL12 -> 0 | GQ13: =GM13-GM12 -> 0 | GR13: =GN13-GN12 -> 0 | GS13: =GR13/GQ13 -> #DIV/0! | GU13: 2023-9-18 | GY13: =GX13/GW13 -> #DIV/0! | GZ13: =GV13-GV12 -> 0 | HA13: =GW13-GW12 -> 0 | HB13: =GX13-GX12 -> 0 | HC13: =HB13/HA13 -> #DIV/0! | HE13: 2023-9-18 | HI13: =HH13/HG13 -> #DIV/0! | HJ13: =HF13-HF12 -> 0 | HK13: =HG13-HG12 -> 0 | HL13: =HH13-HH12 -> 0 | HM13: =HL13/HK13 -> #DIV/0! | HO13: 2023-9-18 | HS13: =HR13/HQ13 -> #DIV/0! | HT13: =HP13-HP12 -> 0 | HU13: =HQ13-HQ12 -> 0 | HV13: =HR13-HR12 -> 0 | HW13: =HV13/HU13 -> #DIV/0! | HY13: 2023-9-18 | IC13: =IB13/IA13 -> #DIV/0! | ID13: =HZ13-HZ12 -> 0 | IE13: =IA13-IA12 -> 0 | IF13: =IB13-IB12 -> 0 | IG13: =IF13/IE13 -> #DIV/0!
A14: 2023-10-17 | B14: 236.32 | C14: 7439 | D14: 2457 | E14: =D14/C14 -> 0.33028633 | F14: =(B14)/C14 -> 0.031767711 | G14: =B14-B13 -> 36.51 | H14: =C14-C13 -> 513 | I14: =D14-D13 -> 175 | J14: =I14/H14 -> 0.3411306 | K14: =(G14)/H14 -> 0.071169591 | AG14: 2023-10-17 | AH14: 234.99 | AI14: 2361 | AJ14: 802 | AK14: =AJ14/AI14 -> 0.33968657 | AL14: =(AH14)/AI14 -> 0.09952986 | AM14: =AH14-AH13 -> 42.87 | AN14: =AI14-AI13 -> 349 | AO14: =AJ14-AJ13 -> 128 | AP14: =AO14/AN14 -> 0.36676218 | AQ14: =(AM14)/AN14 -> 0.12283668 | AS14: 2023-10-17 | AW14: =AV14/AU14 -> #DIV/0! | AX14: =(AT14)/AU14 -> #DIV/0! | AY14: =AT14-AT13 -> 0 | AZ14: =AU14-AU13 -> 0 | BA14: =AV14-AV13 -> 0 | BB14: =BA14/AZ14 -> #DIV/0! | BC14: =(AY14)/AZ14 -> #DIV/0! | BE14: 2023-10-17 | BI14: =BH14/BG14 -> #DIV/0! | BJ14: =(BF14)/BG14 -> #DIV/0! | BK14: =BF14-BF13 -> 0 | BL14: =BG14-BG13 -> 0 | BM14: =BH14-BH13 -> 0 | BN14: =BM14/BL14 -> #DIV/0! | BO14: =(BK14)/BL14 -> #DIV/0! | BQ14: 2023-10-17 | BU14: =BT14/BS14 -> #DIV/0! | BV14: =(BR14)/BS14 -> #DIV/0! | BW14: =BR14-BR13 -> 0 | BX14: =BS14-BS13 -> 0 | BY14: =BT14-BT13 -> 0 | BZ14: =BY14/BX14 -> #DIV/0! | CA14: =(BW14)/BX14 -> #DIV/0! | CC14: 2023-10-17 | CG14: =CF14/CE14 -> #DIV/0! | CH14: =(CD14)/CE14 -> #DIV/0! | CI14: =CD14-CD13 -> 0 | CJ14: =CE14-CE13 -> 0 | CK14: =CF14-CF13 -> 0 | CL14: =CK14/CJ14 -> #DIV/0! | CM14: =(CI14)/CJ14 -> #DIV/0! | CO14: 2023-10-17 | CS14: =CR14/CQ14 -> #DIV/0! | CT14: =(CP14)/CQ14 -> #DIV/0! | CU14: =CP14-CP13 -> 0 | CV14: =CQ14-CQ13 -> 0 | CW14: =CR14-CR13 -> 0 | CX14: =CW14/CV14 -> #DIV/0! | CY14: =(CU14)/CV14 -> #DIV/0! | DA14: 2023-10-17 | DE14: =DD14/DC14 -> #DIV/0! | DF14: =(DB14)/DC14 -> #DIV/0! | DG14: =DB14-DB13 -> 0 | DH14: =DC14-DC13 -> 0 | DI14: =DD14-DD13 -> 0 | DJ14: =DI14/DH14 -> #DIV/0! | DK14: =(DG14)/DH14 -> #DIV/0! | DM14: 2023-10-17 | DQ14: =DP14/DO14 -> #DIV/0! | DR14: =(DN14)/DO14 -> #DIV/0! | DS14: =DN14-DN13 -> 0 | DT14: =DO14-DO13 -> 0 | DU14: =DP14-DP13 -> 0 | DV14: =DU14/DT14 -> #DIV/0! | DW14: =(DS14)/DT14 -> #DIV/0! | EK14: 2023-10-17 | EO14: =EN14/EM14 -> #DIV/0! | EP14: =(EL14)/EM14 -> #DIV/0! | EQ14: =EL14-EL13 -> 0 | ER14: =EM14-EM13 -> 0 | ES14: =EN14-EN13 -> 0 | ET14: =ES14/ER14 -> #DIV/0! | EU14: =(EQ14)/ER14 -> #DIV/0! | EW14: 2023-10-17 | FA14: =EZ14/EY14 -> #DIV/0! | FB14: =EX14-EX13 -> 0 | FC14: =EY14-EY13 -> 0 | FD14: =EZ14-EZ13 -> 0 | FE14: =FD14/FC14 -> #DIV/0! | FG14: 2023-10-17 | FK14: =FJ14/FI14 -> #DIV/0! | FL14: =FH14-FH13 -> 0 | FM14: =FI14-FI13 -> 0 | FN14: =FJ14-FJ13 -> 0 | FO14: =FN14/FM14 -> #DIV/0! | FQ14: 2023-10-17 | FU14: =FT14/FS14 -> #DIV/0! | FV14: =FR14-FR13 -> 0 | FW14: =FS14-FS13 -> 0 | FX14: =FT14-FT13 -> 0 | FY14: =FX14/FW14 -> #DIV/0! | GA14: 2023-10-17 | GE14: =GD14/GC14 -> #DIV/0! | GF14: =GB14-GB13 -> 0 | GG14: =GC14-GC13 -> 0 | GH14: =GD14-GD13 -> 0 | GI14: =GH14/GG14 -> #DIV/0! | GK14: 2023-10-17 | GO14: =GN14/GM14 -> #DIV/0! | GP14: =GL14-GL13 -> 0 | GQ14: =GM14-GM13 -> 0 | GR14: =GN14-GN13 -> 0 | GS14: =GR14/GQ14 -> #DIV/0! | GU14: 2023-10-17 | GY14: =GX14/GW14 -> #DIV/0! | GZ14: =GV14-GV13 -> 0 | HA14: =GW14-GW13 -> 0 | HB14: =GX14-GX13 -> 0 | HC14: =HB14/HA14 -> #DIV/0! | HE14: 2023-10-17 | HI14: =HH14/HG14 -> #DIV/0! | HJ14: =HF14-HF13 -> 0 | HK14: =HG14-HG13 -> 0 | HL14: =HH14-HH13 -> 0 | HM14: =HL14/HK14 -> #DIV/0! | HO14: 2023-10-17 | HS14: =HR14/HQ14 -> #DIV/0! | HT14: =HP14-HP13 -> 0 | HU14: =HQ14-HQ13 -> 0 | HV14: =HR14-HR13 -> 0 | HW14: =HV14/HU14 -> #DIV/0! | HY14: 2023-10-17 | IC14: =IB14/IA14 -> #DIV/0! | ID14: =HZ14-HZ13 -> 0 | IE14: =IA14-IA13 -> 0 | IF14: =IB14-IB13 -> 0 | IG14: =IF14/IE14 -> #DIV/0!
... A19: 2024-3-18 | B19: 270 | C19: 9221 | D19: 3034 | E19: =D19/C19 -> 0.32903156 | F19: =(B19)/C19 -> 0.029280989 | G19: =B19-B18 -> 35.27 | H19: =C19-C18 -> 156 | I19: =D19-D18 -> 61 | J19: =I19/H19 -> 0.39102564 | K19: =(G19)/H19 -> 0.22608974 | AG19: 2024-3-18 | AH19: 289.51 | AI19: 2878 | AJ19: 965 | AK19: =AJ19/AI19 -> 0.33530229 | AL19: =(AH19)/AI19 -> 0.10059416 | AM19: =AH19-AH18 -> 55.15 | AN19: =AI19-AI18 -> 115 | AO19: =AJ19-AJ18 -> 40 | AP19: =AO19/AN19 -> 0.34782609 | AQ19: =(AM19)/AN19 -> 0.47956522 | AS19: 2024-3-18 | AW19: =AV19/AU19 -> #DIV/0! | AX19: =(AT19)/AU19 -> #DIV/0! | AY19: =AT19-AT18 -> 0 | AZ19: =AU19-AU18 -> 0 | BA19: =AV19-AV18 -> 0 | BB19: =BA19/AZ19 -> #DIV/0! | BC19: =(AY19)/AZ19 -> #DIV/0! | BE19: 2024-3-18 | BI19: =BH19/BG19 -> #DIV/0! | BJ19: =(BF19)/BG19 -> #DIV/0! | BK19: =BF19-BF18 -> 0 | BL19: =BG19-BG18 -> 0 | BM19: =BH19-BH18 -> 0 | BN19: =BM19/BL19 -> #DIV/0! | BO19: =(BK19)/BL19 -> #DIV/0! | BQ19: 2024-3-18 | BU19: =BT19/BS19 -> #DIV/0! | BV19: =(BR19)/BS19 -> #DIV/0! | BW19: =BR19-BR18 -> 0 | BX19: =BS19-BS18 -> 0 | BY19: =BT19-BT18 -> 0 | BZ19: =BY19/BX19 -> #DIV/0! | CA19: =(BW19)/BX19 -> #DIV/0! | CC19: 2024-3-18 | CG19: =CF19/CE19 -> #DIV/0! | CH19: =(CD19)/CE19 -> #DIV/0! | CI19: =CD19-CD18 -> 0 | CJ19: =CE19-CE18 -> 0 | CK19: =CF19-CF18 -> 0 | CL19: =CK19/CJ19 -> #DIV/0! | CM19: =(CI19)/CJ19 -> #DIV/0! | CO19: 2024-3-18 | CS19: =CR19/CQ19 -> #DIV/0! | CT19: =(CP19)/CQ19 -> #DIV/0! | CU19: =CP19-CP18 -> 0 | CV19: =CQ19-CQ18 -> 0 | CW19: =CR19-CR18 -> 0 | CX19: =CW19/CV19 -> #DIV/0! | CY19: =(CU19)/CV19 -> #DIV/0! | DA19: 2024-3-18 | DE19: =DD19/DC19 -> #DIV/0! | DF19: =(DB19)/DC19 -> #DIV/0! | DG19: =DB19-DB18 -> 0 | DH19: =DC19-DC18 -> 0 | DI19: =DD19-DD18 -> 0 | DJ19: =DI19/DH19 -> #DIV/0! | DK19: =(DG19)/DH19 -> #DIV/0! | DM19: 2024-3-18 | DQ19: =DP19/DO19 -> #DIV/0! | DR19: =(DN19)/DO19 -> #DIV/0! | DS19: =DN19-DN18 -> 0 | DT19: =DO19-DO18 -> 0 | DU19: =DP19-DP18 -> 0 | DV19: =DU19/DT19 -> #DIV/0! | DW19: =(DS19)/DT19 -> #DIV/0! | EK19: 2024-3-18 | EO19: =EN19/EM19 -> #DIV/0! | EP19: =(EL19)/EM19 -> #DIV/0! | EQ19: =EL19-EL18 -> 0 | ER19: =EM19-EM18 -> 0 | ES19: =EN19-EN18 -> 0 | ET19: =ES19/ER19 -> #DIV/0! | EU19: =(EQ19)/ER19 -> #DIV/0! | EW19: 2024-3-18 | FA19: =EZ19/EY19 -> #DIV/0! | FB19: =EX19-EX18 -> 0 | FC19: =EY19-EY18 -> 0 | FD19: =EZ19-EZ18 -> 0 | FE19: =FD19/FC19 -> #DIV/0! | FG19: 2024-3-18 | FK19: =FJ19/FI19 -> #DIV/0! | FL19: =FH19-FH18 -> 0 | FM19: =FI19-FI18 -> 0 | FN19: =FJ19-FJ18 -> 0 | FO19: =FN19/FM19 -> #DIV/0! | FQ19: 2024-3-18 | FU19: =FT19/FS19 -> #DIV/0! | FV19: =FR19-FR18 -> 0 | FW19: =FS19-FS18 -> 0 | FX19: =FT19-FT18 -> 0 | FY19: =FX19/FW19 -> #DIV/0! | GA19: 2024-3-18 | GE19: =GD19/GC19 -> #DIV/0! | GF19: =GB19-GB18 -> 0 | GG19: =GC19-GC18 -> 0 | GH19: =GD19-GD18 -> 0 | GI19: =GH19/GG19 -> #DIV/0! | GK19: 2024-3-18 | GO19: =GN19/GM19 -> #DIV/0! | GP19: =GL19-GL18 -> 0 | GQ19: =GM19-GM18 -> 0 | GR19: =GN19-GN18 -> 0 | GS19: =GR19/GQ19 -> #DIV/0! | GU19: 2024-3-18 | GY19: =GX19/GW19 -> #DIV/0! | GZ19: =GV19-GV18 -> 0 | HA19: =GW19-GW18 -> 0 | HB19: =GX19-GX18 -> 0 | HC19: =HB19/HA19 -> #DIV/0! | HE19: 2024-3-18 | HI19: =HH19/HG19 -> #DIV/0! | HJ19: =HF19-HF18 -> 0 | HK19: =HG19-HG18 -> 0 | HL19: =HH19-HH18 -> 0 | HM19: =HL19/HK19 -> #DIV/0! | HO19: 2024-3-18 | HS19: =HR19/HQ19 -> #DIV/0! | HT19: =HP19-HP18 -> 0 | HU19: =HQ19-HQ18 -> 0 | HV19: =HR19-HR18 -> 0 | HW19: =HV19/HU19 -> #DIV/0! | HY19: 2024-3-18 | IC19: =IB19/IA19 -> #DIV/0! | ID19: =HZ19-HZ18 -> 0 | IE19: =IA19-IA18 -> 0 | IF19: =IB19-IB18 -> 0 | IG19: =IF19/IE19 -> #DIV/0!
A20: 2024-4-16 | B20: 363.08 | C20: 10089 | D20: 3336 | E20: =D20/C20 -> 0.33065715 | F20: =(B20)/C20 -> 0.035987709 | G20: =B20-B19 -> 93.08 | H20: =C20-C19 -> 868 | I20: =D20-D19 -> 302 | J20: =I20/H20 -> 0.34792627 | K20: =(G20)/H20 -> 0.10723502 | AG20: 2024-4-16 | AH20: 316.16 | AI20: 2974 | AJ20: 1000 | AK20: =AJ20/AI20 -> 0.33624748 | AL20: =(AH20)/AI20 -> 0.106308 | AM20: =AH20-AH19 -> 26.65 | AN20: =AI20-AI19 -> 96 | AO20: =AJ20-AJ19 -> 35 | AP20: =AO20/AN20 -> 0.36458333 | AQ20: =(AM20)/AN20 -> 0.27760417 | AS20: 2024-4-16 | AT20: 8.18 | AU20: 285 | AV20: 139 | AW20: =AV20/AU20 -> 0.4877193 | AX20: =(AT20)/AU20 -> 0.028701754 | AY20: =AT20-AT19 -> 8.18 | AZ20: =AU20-AU19 -> 285 | BA20: =AV20-AV19 -> 139 | BB20: =BA20/AZ20 -> 0.4877193 | BC20: =(AY20)/AZ20 -> 0.028701754 | BE20: 2024-4-16 | BI20: =BH20/BG20 -> #DIV/0! | BJ20: =(BF20)/BG20 -> #DIV/0! | BK20: =BF20-BF19 -> 0 | BL20: =BG20-BG19 -> 0 | BM20: =BH20-BH19 -> 0 | BN20: =BM20/BL20 -> #DIV/0! | BO20: =(BK20)/BL20 -> #DIV/0! | BQ20: 2024-4-16 | BU20: =BT20/BS20 -> #DIV/0! | BV20: =(BR20)/BS20 -> #DIV/0! | BW20: =BR20-BR19 -> 0 | BX20: =BS20-BS19 -> 0 | BY20: =BT20-BT19 -> 0 | BZ20: =BY20/BX20 -> #DIV/0! | CA20: =(BW20)/BX20 -> #DIV/0! | CC20: 2024-4-16 | CG20: =CF20/CE20 -> #DIV/0! | CH20: =(CD20)/CE20 -> #DIV/0! | CI20: =CD20-CD19 -> 0 | CJ20: =CE20-CE19 -> 0 | CK20: =CF20-CF19 -> 0 | CL20: =CK20/CJ20 -> #DIV/0! | CM20: =(CI20)/CJ20 -> #DIV/0! | CO20: 2024-4-16 | CS20: =CR20/CQ20 -> #DIV/0! | CT20: =(CP20)/CQ20 -> #DIV/0! | CU20: =CP20-CP19 -> 0 | CV20: =CQ20-CQ19 -> 0 | CW20: =CR20-CR19 -> 0 | CX20: =CW20/CV20 -> #DIV/0! | CY20: =(CU20)/CV20 -> #DIV/0! | DA20: 2024-4-16 | DE20: =DD20/DC20 -> #DIV/0! | DF20: =(DB20)/DC20 -> #DIV/0! | DG20: =DB20-DB19 -> 0 | DH20: =DC20-DC19 -> 0 | DI20: =DD20-DD19 -> 0 | DJ20: =DI20/DH20 -> #DIV/0! | DK20: =(DG20)/DH20 -> #DIV/0! | DM20: 2024-4-16 | DQ20: =DP20/DO20 -> #DIV/0! | DR20: =(DN20)/DO20 -> #DIV/0! | DS20: =DN20-DN19 -> 0 | DT20: =DO20-DO19 -> 0 | DU20: =DP20-DP19 -> 0 | DV20: =DU20/DT20 -> #DIV/0! | DW20: =(DS20)/DT20 -> #DIV/0! | EK20: 2024-4-16 | EO20: =EN20/EM20 -> #DIV/0! | EP20: =(EL20)/EM20 -> #DIV/0! | EQ20: =EL20-EL19 -> 0 | ER20: =EM20-EM19 -> 0 | ES20: =EN20-EN19 -> 0 | ET20: =ES20/ER20 -> #DIV/0! | EU20: =(EQ20)/ER20 -> #DIV/0! | EW20: 2024-4-16 | FA20: =EZ20/EY20 -> #DIV/0! | FB20: =EX20-EX19 -> 0 | FC20: =EY20-EY19 -> 0 | FD20: =EZ20-EZ19 -> 0 | FE20: =FD20/FC20 -> #DIV/0! | FG20: 2024-4-16 | FK20: =FJ20/FI20 -> #DIV/0! | FL20: =FH20-FH19 -> 0 | FM20: =FI20-FI19 -> 0 | FN20: =FJ20-FJ19 -> 0 | FO20: =FN20/FM20 -> #DIV/0! | FQ20: 2024-4-16 | FU20: =FT20/FS20 -> #DIV/0! | FV20: =FR20-FR19 -> 0 | FW20: =FS20-FS19 -> 0 | FX20: =FT20-FT19 -> 0 | FY20: =FX20/FW20 -> #DIV/0! | GA20: 2024-4-16 | GE20: =GD20/GC20 -> #DIV/0! | GF20: =GB20-GB19 -> 0 | GG20: =GC20-GC19 -> 0 | GH20: =GD20-GD19 -> 0 | GI20: =GH20/GG20 -> #DIV/0! | GK20: 2024-4-16 | GO20: =GN20/GM20 -> #DIV/0! | GP20: =GL20-GL19 -> 0 | GQ20: =GM20-GM19 -> 0 | GR20: =GN20-GN19 -> 0 | GS20: =GR20/GQ20 -> #DIV/0! | GU20: 2024-4-16 | GY20: =GX20/GW20 -> #DIV/0! | GZ20: =GV20-GV19 -> 0 | HA20: =GW20-GW19 -> 0 | HB20: =GX20-GX19 -> 0 | HC20: =HB20/HA20 -> #DIV/0! | HE20: 2024-4-16 | HI20: =HH20/HG20 -> #DIV/0! | HJ20: =HF20-HF19 -> 0 | HK20: =HG20-HG19 -> 0 | HL20: =HH20-HH19 -> 0 | HM20: =HL20/HK20 -> #DIV/0! | HO20: 2024-4-16 | HS20: =HR20/HQ20 -> #DIV/0! | HT20: =HP20-HP19 -> 0 | HU20: =HQ20-HQ19 -> 0 | HV20: =HR20-HR19 -> 0 | HW20: =HV20/HU20 -> #DIV/0! | HY20: 2024-4-16 | IC20: =IB20/IA20 -> #DIV/0! | ID20: =HZ20-HZ19 -> 0 | IE20: =IA20-IA19 -> 0 | IF20: =IB20-IB19 -> 0 | IG20: =IF20/IE20 -> #DIV/0!
A21: 2024-5-20 | B21: 333.23 | C21: 10544 | D21: 3470 | E21: =D21/C21 -> 0.32909712 | F21: =(B21)/C21 -> 0.031603756 | G21: =B21-B20 -> -29.85 | H21: =C21-C20 -> 455 | I21: =D21-D20 -> 134 | J21: =I21/H21 -> 0.29450549 | K21: =(G21)/H21 -> -0.065604396 | AG21: 2024-5-20 | AH21: 316.06 | AI21: 3085 | AJ21: 1033 | AK21: =AJ21/AI21 -> 0.33484603 | AL21: =(AH21)/AI21 -> 0.10245057 | AM21: =AH21-AH20 -> -0.1 | AN21: =AI21-AI20 -> 111 | AO21: =AJ21-AJ20 -> 33 | AP21: =AO21/AN21 -> 0.2972973 | AQ21: =(AM21)/AN21 -> -0.0009009009 | AS21: 2024-5-20 | AT21: -20.54 | AU21: 658 | AV21: 303 | AW21: =AV21/AU21 -> 0.46048632 | AX21: =(AT21)/AU21 -> -0.031215805 | AY21: =AT21-AT20 -> -28.72 | AZ21: =AU21-AU20 -> 373 | BA21: =AV21-AV20 -> 164 | BB21: =BA21/AZ21 -> 0.43967828 | BC21: =(AY21)/AZ21 -> -0.076997319 | BE21: 2024-5-20 | BI21: =BH21/BG21 -> #DIV/0! | BJ21: =(BF21)/BG21 -> #DIV/0! | BK21: =BF21-BF20 -> 0 | BL21: =BG21-BG20 -> 0 | BM21: =BH21-BH20 -> 0 | BN21: =BM21/BL21 -> #DIV/0! | BO21: =(BK21)/BL21 -> #DIV/0! | BQ21: 2024-5-20 | BU21: =BT21/BS21 -> #DIV/0! | BV21: =(BR21)/BS21 -> #DIV/0! | BW21: =BR21-BR20 -> 0 | BX21: =BS21-BS20 -> 0 | BY21: =BT21-BT20 -> 0 | BZ21: =BY21/BX21 -> #DIV/0! | CA21: =(BW21)/BX21 -> #DIV/0! | CC21: 2024-5-20 | CG21: =CF21/CE21 -> #DIV/0! | CH21: =(CD21)/CE21 -> #DIV/0! | CI21: =CD21-CD20 -> 0 | CJ21: =CE21-CE20 -> 0 | CK21: =CF21-CF20 -> 0 | CL21: =CK21/CJ21 -> #DIV/0! | CM21: =(CI21)/CJ21 -> #DIV/0! | CO21: 2024-5-20 | CS21: =CR21/CQ21 -> #DIV/0! | CT21: =(CP21)/CQ21 -> #DIV/0! | CU21: =CP21-CP20 -> 0 | CV21: =CQ21-CQ20 -> 0 | CW21: =CR21-CR20 -> 0 | CX21: =CW21/CV21 -> #DIV/0! | CY21: =(CU21)/CV21 -> #DIV/0! | DA21: 2024-5-20 | DE21: =DD21/DC21 -> #DIV/0! | DF21: =(DB21)/DC21 -> #DIV/0! | DG21: =DB21-DB20 -> 0 | DH21: =DC21-DC20 -> 0 | DI21: =DD21-DD20 -> 0 | DJ21: =DI21/DH21 -> #DIV/0! | DK21: =(DG21)/DH21 -> #DIV/0! | DM21: 2024-5-20 | DQ21: =DP21/DO21 -> #DIV/0! | DR21: =(DN21)/DO21 -> #DIV/0! | DS21: =DN21-DN20 -> 0 | DT21: =DO21-DO20 -> 0 | DU21: =DP21-DP20 -> 0 | DV21: =DU21/DT21 -> #DIV/0! | DW21: =(DS21)/DT21 -> #DIV/0! | EK21: 2024-5-20 | EO21: =EN21/EM21 -> #DIV/0! | EP21: =(EL21)/EM21 -> #DIV/0! | EQ21: =EL21-EL20 -> 0 | ER21: =EM21-EM20 -> 0 | ES21: =EN21-EN20 -> 0 | ET21: =ES21/ER21 -> #DIV/0! | EU21: =(EQ21)/ER21 -> #DIV/0! | EW21: 2024-5-20 | FA21: =EZ21/EY21 -> #DIV/0! | FB21: =EX21-EX20 -> 0 | FC21: =EY21-EY20 -> 0 | FD21: =EZ21-EZ20 -> 0 | FE21: =FD21/FC21 -> #DIV/0! | FG21: 2024-5-20 | FK21: =FJ21/FI21 -> #DIV/0! | FL21: =FH21-FH20 -> 0 | FM21: =FI21-FI20 -> 0 | FN21: =FJ21-FJ20 -> 0 | FO21: =FN21/FM21 -> #DIV/0! | FQ21: 2024-5-20 | FU21: =FT21/FS21 -> #DIV/0! | FV21: =FR21-FR20 -> 0 | FW21: =FS21-FS20 -> 0 | FX21: =FT21-FT20 -> 0 | FY21: =FX21/FW21 -> #DIV/0! | GA21: 2024-5-20 | GE21: =GD21/GC21 -> #DIV/0! | GF21: =GB21-GB20 -> 0 | GG21: =GC21-GC20 -> 0 | GH21: =GD21-GD20 -> 0 | GI21: =GH21/GG21 -> #DIV/0! | GK21: 2024-5-20 | GO21: =GN21/GM21 -> #DIV/0! | GP21: =GL21-GL20 -> 0 | GQ21: =GM21-GM20 -> 0 | GR21: =GN21-GN20 -> 0 | GS21: =GR21/GQ21 -> #DIV/0! | GU21: 2024-5-20 | GY21: =GX21/GW21 -> #DIV/0! | GZ21: =GV21-GV20 -> 0 | HA21: =GW21-GW20 -> 0 | HB21: =GX21-GX20 -> 0 | HC21: =HB21/HA21 -> #DIV/0! | HE21: 2024-5-20 | HI21: =HH21/HG21 -> #DIV/0! | HJ21: =HF21-HF20 -> 0 | HK21: =HG21-HG20 -> 0 | HL21: =HH21-HH20 -> 0 | HM21: =HL21/HK21 -> #DIV/0! | HO21: 2024-5-20 | HS21: =HR21/HQ21 -> #DIV/0! | HT21: =HP21-HP20 -> 0 | HU21: =HQ21-HQ20 -> 0 | HV21: =HR21-HR20 -> 0 | HW21: =HV21/HU21 -> #DIV/0! | HY21: 2024-5-20 | IC21: =IB21/IA21 -> #DIV/0! | ID21: =HZ21-HZ20 -> 0 | IE21: =IA21-IA20 -> 0 | IF21: =IB21-IB20 -> 0 | IG21: =IF21/IE21 -> #DIV/0!
A22: 2024-6-23 | B22: 278.51 | C22: 10992 | D22: 3600 | E22: =D22/C22 -> 0.32751092 | F22: =(B22)/C22 -> 0.025337518 | G22: =B22-B21 -> -54.72 | H22: =C22-C21 -> 448 | I22: =D22-D21 -> 130 | J22: =I22/H22 -> 0.29017857 | K22: =(G22)/H22 -> -0.12214286 | AG22: 2024-6-23 | AH22: 306.64 | AI22: 3509 | AJ22: 1161 | AK22: =AJ22/AI22 -> 0.33086349 | AL22: =(AH22)/AI22 -> 0.08738672 | AM22: =AH22-AH21 -> -9.42 | AN22: =AI22-AI21 -> 424 | AO22: =AJ22-AJ21 -> 128 | AP22: =AO22/AN22 -> 0.30188679 | AQ22: =(AM22)/AN22 -> -0.022216981 | AS22: 2024-6-23 | AT22: -2.07 | AU22: 756 | AV22: 362 | AW22: =AV22/AU22 -> 0.47883598 | AX22: =(AT22)/AU22 -> -0.0027380952 | AY22: =AT22-AT21 -> 18.47 | AZ22: =AU22-AU21 -> 98 | BA22: =AV22-AV21 -> 59 | BB22: =BA22/AZ22 -> 0.60204082 | BC22: =(AY22)/AZ22 -> 0.18846939 | BE22: 2024-6-23 | BI22: =BH22/BG22 -> #DIV/0! | BJ22: =(BF22)/BG22 -> #DIV/0! | BK22: =BF22-BF21 -> 0 | BL22: =BG22-BG21 -> 0 | BM22: =BH22-BH21 -> 0 | BN22: =BM22/BL22 -> #DIV/0! | BO22: =(BK22)/BL22 -> #DIV/0! | BQ22: 2024-6-23 | BU22: =BT22/BS22 -> #DIV/0! | BV22: =(BR22)/BS22 -> #DIV/0! | BW22: =BR22-BR21 -> 0 | BX22: =BS22-BS21 -> 0 | BY22: =BT22-BT21 -> 0 | BZ22: =BY22/BX22 -> #DIV/0! | CA22: =(BW22)/BX22 -> #DIV/0! | CC22: 2024-6-23 | CG22: =CF22/CE22 -> #DIV/0! | CH22: =(CD22)/CE22 -> #DIV/0! | CI22: =CD22-CD21 -> 0 | CJ22: =CE22-CE21 -> 0 | CK22: =CF22-CF21 -> 0 | CL22: =CK22/CJ22 -> #DIV/0! | CM22: =(CI22)/CJ22 -> #DIV/0! | CO22: 2024-6-23 | CS22: =CR22/CQ22 -> #DIV/0! | CT22: =(CP22)/CQ22 -> #DIV/0! | CU22: =CP22-CP21 -> 0 | CV22: =CQ22-CQ21 -> 0 | CW22: =CR22-CR21 -> 0 | CX22: =CW22/CV22 -> #DIV/0! | CY22: =(CU22)/CV22 -> #DIV/0! | DA22: 2024-6-23 | DE22: =DD22/DC22 -> #DIV/0! | DF22: =(DB22)/DC22 -> #DIV/0! | DG22: =DB22-DB21 -> 0 | DH22: =DC22-DC21 -> 0 | DI22: =DD22-DD21 -> 0 | DJ22: =DI22/DH22 -> #DIV/0! | DK22: =(DG22)/DH22 -> #DIV/0! | DM22: 2024-6-23 | DQ22: =DP22/DO22 -> #DIV/0! | DR22: =(DN22)/DO22 -> #DIV/0! | DS22: =DN22-DN21 -> 0 | DT22: =DO22-DO21 -> 0 | DU22: =DP22-DP21 -> 0 | DV22: =DU22/DT22 -> #DIV/0! | DW22: =(DS22)/DT22 -> #DIV/0! | EK22: 2024-6-23 | EO22: =EN22/EM22 -> #DIV/0! | EP22: =(EL22)/EM22 -> #DIV/0! | EQ22: =EL22-EL21 -> 0 | ER22: =EM22-EM21 -> 0 | ES22: =EN22-EN21 -> 0 | ET22: =ES22/ER22 -> #DIV/0! | EU22: =(EQ22)/ER22 -> #DIV/0! | EW22: 2024-6-23 | FA22: =EZ22/EY22 -> #DIV/0! | FB22: =EX22-EX21 -> 0 | FC22: =EY22-EY21 -> 0 | FD22: =EZ22-EZ21 -> 0 | FE22: =FD22/FC22 -> #DIV/0! | FG22: 2024-6-23 | FK22: =FJ22/FI22 -> #DIV/0! | FL22: =FH22-FH21 -> 0 | FM22: =FI22-FI21 -> 0 | FN22: =FJ22-FJ21 -> 0 | FO22: =FN22/FM22 -> #DIV/0! | FQ22: 2024-6-23 | FU22: =FT22/FS22 -> #DIV/0! | FV22: =FR22-FR21 -> 0 | FW22: =FS22-FS21 -> 0 | FX22: =FT22-FT21 -> 0 | FY22: =FX22/FW22 -> #DIV/0! | GA22: 2024-6-23 | GE22: =GD22/GC22 -> #DIV/0! | GF22: =GB22-GB21 -> 0 | GG22: =GC22-GC21 -> 0 | GH22: =GD22-GD21 -> 0 | GI22: =GH22/GG22 -> #DIV/0! | GK22: 2024-6-23 | GO22: =GN22/GM22 -> #DIV/0! | GP22: =GL22-GL21 -> 0 | GQ22: =GM22-GM21 -> 0 | GR22: =GN22-GN21 -> 0 | GS22: =GR22/GQ22 -> #DIV/0! | GU22: 2024-6-23 | GY22: =GX22/GW22 -> #DIV/0! | GZ22: =GV22-GV21 -> 0 | HA22: =GW22-GW21 -> 0 | HB22: =GX22-GX21 -> 0 | HC22: =HB22/HA22 -> #DIV/0! | HE22: 2024-6-23 | HI22: =HH22/HG22 -> #DIV/0! | HJ22: =HF22-HF21 -> 0 | HK22: =HG22-HG21 -> 0 | HL22: =HH22-HH21 -> 0 | HM22: =HL22/HK22 -> #DIV/0! | HO22: 2024-6-23 | HS22: =HR22/HQ22 -> #DIV/0! | HT22: =HP22-HP21 -> 0 | HU22: =HQ22-HQ21 -> 0 | HV22: =HR22-HR21 -> 0 | HW22: =HV22/HU22 -> #DIV/0! | HY22: 2024-6-23 | IC22: =IB22/IA22 -> #DIV/0! | ID22: =HZ22-HZ21 -> 0 | IE22: =IA22-IA21 -> 0 | IF22: =IB22-IB21 -> 0 | IG22: =IF22/IE22 -> #DIV/0!
A23: 2024-7-23 | B23: 275.33 | C23: 11361 | D23: 3716 | E23: =D23/C23 -> 0.32708388 | F23: =(B23)/C23 -> 0.024234662 | G23: =B23-B22 -> -3.18 | H23: =C23-C22 -> 369 | I23: =D23-D22 -> 116 | J23: =I23/H23 -> 0.31436314 | K23: =(G23)/H23 -> -0.0086178862 | AG23: 2024-7-23 | AH23: 297.72 | AI23: 3637 | AJ23: 1199 | AK23: =AJ23/AI23 -> 0.32966731 | AL23: =(AH23)/AI23 -> 0.081858675 | AM23: =AH23-AH22 -> -8.92 | AN23: =AI23-AI22 -> 128 | AO23: =AJ23-AJ22 -> 38 | AP23: =AO23/AN23 -> 0.296875 | AQ23: =(AM23)/AN23 -> -0.0696875 | AS23: 2024-7-23 | AT23: 2.23 | AU23: 1159 | AV23: 555 | AW23: =AV23/AU23 -> 0.47886109 | AX23: =(AT23)/AU23 -> 0.0019240725 | AY23: =AT23-AT22 -> 4.3 | AZ23: =AU23-AU22 -> 403 | BA23: =AV23-AV22 -> 193 | BB23: =BA23/AZ23 -> 0.47890819 | BC23: =(AY23)/AZ23 -> 0.010669975 | BE23: 2024-7-23 | BI23: =BH23/BG23 -> #DIV/0! | BJ23: =(BF23)/BG23 -> #DIV/0! | BK23: =BF23-BF22 -> 0 | BL23: =BG23-BG22 -> 0 | BM23: =BH23-BH22 -> 0 | BN23: =BM23/BL23 -> #DIV/0! | BO23: =(BK23)/BL23 -> #DIV/0! | BQ23: 2024-7-23 | BU23: =BT23/BS23 -> #DIV/0! | BV23: =(BR23)/BS23 -> #DIV/0! | BW23: =BR23-BR22 -> 0 | BX23: =BS23-BS22 -> 0 | BY23: =BT23-BT22 -> 0 | BZ23: =BY23/BX23 -> #DIV/0! | CA23: =(BW23)/BX23 -> #DIV/0! | CC23: 2024-7-23 | CG23: =CF23/CE23 -> #DIV/0! | CH23: =(CD23)/CE23 -> #DIV/0! | CI23: =CD23-CD22 -> 0 | CJ23: =CE23-CE22 -> 0 | CK23: =CF23-CF22 -> 0 | CL23: =CK23/CJ23 -> #DIV/0! | CM23: =(CI23)/CJ23 -> #DIV/0! | CO23: 2024-7-23 | CS23: =CR23/CQ23 -> #DIV/0! | CT23: =(CP23)/CQ23 -> #DIV/0! | CU23: =CP23-CP22 -> 0 | CV23: =CQ23-CQ22 -> 0 | CW23: =CR23-CR22 -> 0 | CX23: =CW23/CV23 -> #DIV/0! | CY23: =(CU23)/CV23 -> #DIV/0! | DA23: 2024-7-23 | DE23: =DD23/DC23 -> #DIV/0! | DF23: =(DB23)/DC23 -> #DIV/0! | DG23: =DB23-DB22 -> 0 | DH23: =DC23-DC22 -> 0 | DI23: =DD23-DD22 -> 0 | DJ23: =DI23/DH23 -> #DIV/0! | DK23: =(DG23)/DH23 -> #DIV/0! | DM23: 2024-7-23 | DQ23: =DP23/DO23 -> #DIV/0! | DR23: =(DN23)/DO23 -> #DIV/0! | DS23: =DN23-DN22 -> 0 | DT23: =DO23-DO22 -> 0 | DU23: =DP23-DP22 -> 0 | DV23: =DU23/DT23 -> #DIV/0! | DW23: =(DS23)/DT23 -> #DIV/0! | EK23: 2024-7-23 | EO23: =EN23/EM23 -> #DIV/0! | EP23: =(EL23)/EM23 -> #DIV/0! | EQ23: =EL23-EL22 -> 0 | ER23: =EM23-EM22 -> 0 | ES23: =EN23-EN22 -> 0 | ET23: =ES23/ER23 -> #DIV/0! | EU23: =(EQ23)/ER23 -> #DIV/0! | EW23: 2024-7-23 | FA23: =EZ23/EY23 -> #DIV/0! | FB23: =EX23-EX22 -> 0 | FC23: =EY23-EY22 -> 0 | FD23: =EZ23-EZ22 -> 0 | FE23: =FD23/FC23 -> #DIV/0! | FG23: 2024-7-23 | FK23: =FJ23/FI23 -> #DIV/0! | FL23: =FH23-FH22 -> 0 | FM23: =FI23-FI22 -> 0 | FN23: =FJ23-FJ22 -> 0 | FO23: =FN23/FM23 -> #DIV/0! | FQ23: 2024-7-23 | FU23: =FT23/FS23 -> #DIV/0! | FV23: =FR23-FR22 -> 0 | FW23: =FS23-FS22 -> 0 | FX23: =FT23-FT22 -> 0 | FY23: =FX23/FW23 -> #DIV/0! | GA23: 2024-7-23 | GE23: =GD23/GC23 -> #DIV/0! | GF23: =GB23-GB22 -> 0 | GG23: =GC23-GC22 -> 0 | GH23: =GD23-GD22 -> 0 | GI23: =GH23/GG23 -> #DIV/0! | GK23: 2024-7-23 | GO23: =GN23/GM23 -> #DIV/0! | GP23: =GL23-GL22 -> 0 | GQ23: =GM23-GM22 -> 0 | GR23: =GN23-GN22 -> 0 | GS23: =GR23/GQ23 -> #DIV/0! | GU23: 2024-7-23 | GY23: =GX23/GW23 -> #DIV/0! | GZ23: =GV23-GV22 -> 0 | HA23: =GW23-GW22 -> 0 | HB23: =GX23-GX22 -> 0 | HC23: =HB23/HA23 -> #DIV/0! | HE23: 2024-7-23 | HI23: =HH23/HG23 -> #DIV/0! | HJ23: =HF23-HF22 -> 0 | HK23: =HG23-HG22 -> 0 | HL23: =HH23-HH22 -> 0 | HM23: =HL23/HK23 -> #DIV/0! | HO23: 2024-7-23 | HS23: =HR23/HQ23 -> #DIV/0! | HT23: =HP23-HP22 -> 0 | HU23: =HQ23-HQ22 -> 0 | HV23: =HR23-HR22 -> 0 | HW23: =HV23/HU23 -> #DIV/0! | HY23: 2024-7-23 | IC23: =IB23/IA23 -> #DIV/0! | ID23: =HZ23-HZ22 -> 0 | IE23: =IA23-IA22 -> 0 | IF23: =IB23-IB22 -> 0 | IG23: =IF23/IE23 -> #DIV/0!
A24: 2024-8-17 | B24: 255.04 | C24: 11615 | D24: 3790 | E24: =D24/C24 -> 0.3263022 | F24: =(B24)/C24 -> 0.021957813 | G24: =B24-B23 -> -20.29 | H24: =C24-C23 -> 254 | I24: =D24-D23 -> 74 | J24: =I24/H24 -> 0.29133858 | K24: =(G24)/H24 -> -0.07988189 | AG24: 2024-8-17 | AH24: 287.94 | AI24: 1236 | AJ24: 3762 | AK24: =AJ24/AI24 -> 3.0436893 | AL24: =(AH24)/AI24 -> 0.23296117 | AM24: =AH24-AH23 -> -9.78 | AN24: =AI24-AI23 -> -2401 | AO24: =AJ24-AJ23 -> 2563 | AP24: =AO24/AN24 -> -1.0674719 | AQ24: =(AM24)/AN24 -> 0.0040733028 | AS24: 2024-8-17 | AT24: 14.51 | AU24: 1365 | AV24: 660 | AW24: =AV24/AU24 -> 0.48351648 | AX24: =(AT24)/AU24 -> 0.010630037 | AY24: =AT24-AT23 -> 12.28 | AZ24: =AU24-AU23 -> 206 | BA24: =AV24-AV23 -> 105 | BB24: =BA24/AZ24 -> 0.50970874 | BC24: =(AY24)/AZ24 -> 0.05961165 | BE24: 2024-8-17 | BI24: =BH24/BG24 -> #DIV/0! | BJ24: =(BF24)/BG24 -> #DIV/0! | BK24: =BF24-BF23 -> 0 | BL24: =BG24-BG23 -> 0 | BM24: =BH24-BH23 -> 0 | BN24: =BM24/BL24 -> #DIV/0! | BO24: =(BK24)/BL24 -> #DIV/0! | BQ24: 2024-8-17 | BU24: =BT24/BS24 -> #DIV/0! | BV24: =(BR24)/BS24 -> #DIV/0! | BW24: =BR24-BR23 -> 0 | BX24: =BS24-BS23 -> 0 | BY24: =BT24-BT23 -> 0 | BZ24: =BY24/BX24 -> #DIV/0! | CA24: =(BW24)/BX24 -> #DIV/0! | CC24: 2024-8-17 | CG24: =CF24/CE24 -> #DIV/0! | CH24: =(CD24)/CE24 -> #DIV/0! | CI24: =CD24-CD23 -> 0 | CJ24: =CE24-CE23 -> 0 | CK24: =CF24-CF23 -> 0 | CL24: =CK24/CJ24 -> #DIV/0! | CM24: =(CI24)/CJ24 -> #DIV/0! | CO24: 2024-8-17 | CS24: =CR24/CQ24 -> #DIV/0! | CT24: =(CP24)/CQ24 -> #DIV/0! | CU24: =CP24-CP23 -> 0 | CV24: =CQ24-CQ23 -> 0 | CW24: =CR24-CR23 -> 0 | CX24: =CW24/CV24 -> #DIV/0! | CY24: =(CU24)/CV24 -> #DIV/0! | DA24: 2024-8-17 | DE24: =DD24/DC24 -> #DIV/0! | DF24: =(DB24)/DC24 -> #DIV/0! | DG24: =DB24-DB23 -> 0 | DH24: =DC24-DC23 -> 0 | DI24: =DD24-DD23 -> 0 | DJ24: =DI24/DH24 -> #DIV/0! | DK24: =(DG24)/DH24 -> #DIV/0! | DM24: 2024-8-17 | DQ24: =DP24/DO24 -> #DIV/0! | DR24: =(DN24)/DO24 -> #DIV/0! | DS24: =DN24-DN23 -> 0 | DT24: =DO24-DO23 -> 0 | DU24: =DP24-DP23 -> 0 | DV24: =DU24/DT24 -> #DIV/0! | DW24: =(DS24)/DT24 -> #DIV/0! | EK24: 2024-8-17 | EO24: =EN24/EM24 -> #DIV/0! | EP24: =(EL24)/EM24 -> #DIV/0! | EQ24: =EL24-EL23 -> 0 | ER24: =EM24-EM23 -> 0 | ES24: =EN24-EN23 -> 0 | ET24: =ES24/ER24 -> #DIV/0! | EU24: =(EQ24)/ER24 -> #DIV/0! | EW24: 2024-8-17 | FA24: =EZ24/EY24 -> #DIV/0! | FB24: =EX24-EX23 -> 0 | FC24: =EY24-EY23 -> 0 | FD24: =EZ24-EZ23 -> 0 | FE24: =FD24/FC24 -> #DIV/0! | FG24: 2024-8-17 | FK24: =FJ24/FI24 -> #DIV/0! | FL24: =FH24-FH23 -> 0 | FM24: =FI24-FI23 -> 0 | FN24: =FJ24-FJ23 -> 0 | FO24: =FN24/FM24 -> #DIV/0! | FQ24: 2024-8-17 | FU24: =FT24/FS24 -> #DIV/0! | FV24: =FR24-FR23 -> 0 | FW24: =FS24-FS23 -> 0 | FX24: =FT24-FT23 -> 0 | FY24: =FX24/FW24 -> #DIV/0! | GA24: 2024-8-17 | GE24: =GD24/GC24 -> #DIV/0! | GF24: =GB24-GB23 -> 0 | GG24: =GC24-GC23 -> 0 | GH24: =GD24-GD23 -> 0 | GI24: =GH24/GG24 -> #DIV/0! | GK24: 2024-8-17 | GO24: =GN24/GM24 -> #DIV/0! | GP24: =GL24-GL23 -> 0 | GQ24: =GM24-GM23 -> 0 | GR24: =GN24-GN23 -> 0 | GS24: =GR24/GQ24 -> #DIV/0! | GU24: 2024-8-17 | GY24: =GX24/GW24 -> #DIV/0! | GZ24: =GV24-GV23 -> 0 | HA24: =GW24-GW23 -> 0 | HB24: =GX24-GX23 -> 0 | HC24: =HB24/HA24 -> #DIV/0! | HE24: 2024-8-17 | HI24: =HH24/HG24 -> #DIV/0! | HJ24: =HF24-HF23 -> 0 | HK24: =HG24-HG23 -> 0 | HL24: =HH24-HH23 -> 0 | HM24: =HL24/HK24 -> #DIV/0! | HO24: 2024-8-17 | HS24: =HR24/HQ24 -> #DIV/0! | HT24: =HP24-HP23 -> 0 | HU24: =HQ24-HQ23 -> 0 | HV24: =HR24-HR23 -> 0 | HW24: =HV24/HU24 -> #DIV/0! | HY24: 2024-8-17 | IC24: =IB24/IA24 -> #DIV/0! | ID24: =HZ24-HZ23 -> 0 | IE24: =IA24-IA23 -> 0 | IF24: =IB24-IB23 -> 0 | IG24: =IF24/IE24 -> #DIV/0!
A25: 2024-9-12 | B25: 233.63 | C25: 12067 | D25: 3928 | E25: =D25/C25 -> 0.32551587 | F25: =(B25)/C25 -> 0.019361067 | G25: =B25-B24 -> -21.41 | H25: =C25-C24 -> 452 | I25: =D25-D24 -> 138 | J25: =I25/H25 -> 0.30530973 | K25: =(G25)/H25 -> -0.047367257 | AG25: 2024-9-12 | AH25: 264.86 | AI25: 3969 | AJ25: 1294 | AK25: =AJ25/AI25 -> 0.32602671 | AL25: =(AH25)/AI25 -> 0.066732174 | AM25: =AH25-AH24 -> -23.08 | AN25: =AI25-AI24 -> 2733 | AO25: =AJ25-AJ24 -> -2468 | AP25: =AO25/AN25 -> -0.90303696 | AQ25: =(AM25)/AN25 -> -0.0084449323 | AS25: 2024-9-12 | AT25: 32.72 | AU25: 1739 | AV25: 849 | AW25: =AV25/AU25 -> 0.48821162 | AX25: =(AT25)/AU25 -> 0.018815411 | AY25: =AT25-AT24 -> 18.21 | AZ25: =AU25-AU24 -> 374 | BA25: =AV25-AV24 -> 189 | BB25: =BA25/AZ25 -> 0.50534759 | BC25: =(AY25)/AZ25 -> 0.04868984 | BE25: 2024-9-12 | BI25: =BH25/BG25 -> #DIV/0! | BJ25: =(BF25)/BG25 -> #DIV/0! | BK25: =BF25-BF24 -> 0 | BL25: =BG25-BG24 -> 0 | BM25: =BH25-BH24 -> 0 | BN25: =BM25/BL25 -> #DIV/0! | BO25: =(BK25)/BL25 -> #DIV/0! | BQ25: 2024-9-12 | BU25: =BT25/BS25 -> #DIV/0! | BV25: =(BR25)/BS25 -> #DIV/0! | BW25: =BR25-BR24 -> 0 | BX25: =BS25-BS24 -> 0 | BY25: =BT25-BT24 -> 0 | BZ25: =BY25/BX25 -> #DIV/0! | CA25: =(BW25)/BX25 -> #DIV/0! | CC25: 2024-9-12 | CG25: =CF25/CE25 -> #DIV/0! | CH25: =(CD25)/CE25 -> #DIV/0! | CI25: =CD25-CD24 -> 0 | CJ25: =CE25-CE24 -> 0 | CK25: =CF25-CF24 -> 0 | CL25: =CK25/CJ25 -> #DIV/0! | CM25: =(CI25)/CJ25 -> #DIV/0! | CO25: 2024-9-12 | CS25: =CR25/CQ25 -> #DIV/0! | CT25: =(CP25)/CQ25 -> #DIV/0! | CU25: =CP25-CP24 -> 0 | CV25: =CQ25-CQ24 -> 0 | CW25: =CR25-CR24 -> 0 | CX25: =CW25/CV25 -> #DIV/0! | CY25: =(CU25)/CV25 -> #DIV/0! | DA25: 2024-9-12 | DE25: =DD25/DC25 -> #DIV/0! | DF25: =(DB25)/DC25 -> #DIV/0! | DG25: =DB25-DB24 -> 0 | DH25: =DC25-DC24 -> 0 | DI25: =DD25-DD24 -> 0 | DJ25: =DI25/DH25 -> #DIV/0! | DK25: =(DG25)/DH25 -> #DIV/0! | DM25: 2024-9-12 | DQ25: =DP25/DO25 -> #DIV/0! | DR25: =(DN25)/DO25 -> #DIV/0! | DS25: =DN25-DN24 -> 0 | DT25: =DO25-DO24 -> 0 | DU25: =DP25-DP24 -> 0 | DV25: =DU25/DT25 -> #DIV/0! | DW25: =(DS25)/DT25 -> #DIV/0! | EK25: 2024-9-12 | EO25: =EN25/EM25 -> #DIV/0! | EP25: =(EL25)/EM25 -> #DIV/0! | EQ25: =EL25-EL24 -> 0 | ER25: =EM25-EM24 -> 0 | ES25: =EN25-EN24 -> 0 | ET25: =ES25/ER25 -> #DIV/0! | EU25: =(EQ25)/ER25 -> #DIV/0! | EW25: 2024-9-12 | FA25: =EZ25/EY25 -> #DIV/0! | FB25: =EX25-EX24 -> 0 | FC25: =EY25-EY24 -> 0 | FD25: =EZ25-EZ24 -> 0 | FE25: =FD25/FC25 -> #DIV/0! | FG25: 2024-9-12 | FK25: =FJ25/FI25 -> #DIV/0! | FL25: =FH25-FH24 -> 0 | FM25: =FI25-FI24 -> 0 | FN25: =FJ25-FJ24 -> 0 | FO25: =FN25/FM25 -> #DIV/0! | FQ25: 2024-9-12 | FU25: =FT25/FS25 -> #DIV/0! | FV25: =FR25-FR24 -> 0 | FW25: =FS25-FS24 -> 0 | FX25: =FT25-FT24 -> 0 | FY25: =FX25/FW25 -> #DIV/0! | GA25: 2024-9-12 | GE25: =GD25/GC25 -> #DIV/0! | GF25: =GB25-GB24 -> 0 | GG25: =GC25-GC24 -> 0 | GH25: =GD25-GD24 -> 0 | GI25: =GH25/GG25 -> #DIV/0! | GK25: 2024-9-12 | GO25: =GN25/GM25 -> #DIV/0! | GP25: =GL25-GL24 -> 0 | GQ25: =GM25-GM24 -> 0 | GR25: =GN25-GN24 -> 0 | GS25: =GR25/GQ25 -> #DIV/0! | GU25: 2024-9-12 | GY25: =GX25/GW25 -> #DIV/0! | GZ25: =GV25-GV24 -> 0 | HA25: =GW25-GW24 -> 0 | HB25: =GX25-GX24 -> 0 | HC25: =HB25/HA25 -> #DIV/0! | HE25: 2024-9-12 | HI25: =HH25/HG25 -> #DIV/0! | HJ25: =HF25-HF24 -> 0 | HK25: =HG25-HG24 -> 0 | HL25: =HH25-HH24 -> 0 | HM25: =HL25/HK25 -> #DIV/0! | HO25: 2024-9-12 | HS25: =HR25/HQ25 -> #DIV/0! | HT25: =HP25-HP24 -> 0 | HU25: =HQ25-HQ24 -> 0 | HV25: =HR25-HR24 -> 0 | HW25: =HV25/HU25 -> #DIV/0! | HY25: 2024-9-12 | IC25: =IB25/IA25 -> #DIV/0! | ID25: =HZ25-HZ24 -> 0 | IE25: =IA25-IA24 -> 0 | IF25: =IB25-IB24 -> 0 | IG25: =IF25/IE25 -> #DIV/0!
A26: 2024-10-16 | B26: 213.23 | C26: 12698 | D26: 4124 | E26: =D26/C26 -> 0.32477556 | F26: =(B26)/C26 -> 0.016792408 | G26: =B26-B25 -> -20.4 | H26: =C26-C25 -> 631 | I26: =D26-D25 -> 196 | J26: =I26/H26 -> 0.31061807 | K26: =(G26)/H26 -> -0.032329635 | AG26: 2024-10-16 | AH26: 256.06 | AI26: 4296 | AJ26: 1395 | AK26: =AJ26/AI26 -> 0.32472067 | AL26: =(AH26)/AI26 -> 0.059604283 | AM26: =AH26-AH25 -> -8.8 | AN26: =AI26-AI25 -> 327 | AO26: =AJ26-AJ25 -> 101 | AP26: =AO26/AN26 -> 0.3088685 | AQ26: =(AM26)/AN26 -> -0.026911315 | AS26: 2024-10-16 | AW26: =AV26/AU26 -> #DIV/0! | AX26: =(AT26)/AU26 -> #DIV/0! | AY26: =AT26-AT25 -> -32.72 | AZ26: =AU26-AU25 -> -1739 | BA26: =AV26-AV25 -> -849 | BB26: =BA26/AZ26 -> 0.48821162 | BC26: =(AY26)/AZ26 -> 0.018815411 | BE26: 2024-10-16 | BI26: =BH26/BG26 -> #DIV/0! | BJ26: =(BF26)/BG26 -> #DIV/0! | BK26: =BF26-BF25 -> 0 | BL26: =BG26-BG25 -> 0 | BM26: =BH26-BH25 -> 0 | BN26: =BM26/BL26 -> #DIV/0! | BO26: =(BK26)/BL26 -> #DIV/0! | BQ26: 2024-10-16 | BU26: =BT26/BS26 -> #DIV/0! | BV26: =(BR26)/BS26 -> #DIV/0! | BW26: =BR26-BR25 -> 0 | BX26: =BS26-BS25 -> 0 | BY26: =BT26-BT25 -> 0 | BZ26: =BY26/BX26 -> #DIV/0! | CA26: =(BW26)/BX26 -> #DIV/0! | CC26: 2024-10-16 | CG26: =CF26/CE26 -> #DIV/0! | CH26: =(CD26)/CE26 -> #DIV/0! | CI26: =CD26-CD25 -> 0 | CJ26: =CE26-CE25 -> 0 | CK26: =CF26-CF25 -> 0 | CL26: =CK26/CJ26 -> #DIV/0! | CM26: =(CI26)/CJ26 -> #DIV/0! | CO26: 2024-10-16 | CS26: =CR26/CQ26 -> #DIV/0! | CT26: =(CP26)/CQ26 -> #DIV/0! | CU26: =CP26-CP25 -> 0 | CV26: =CQ26-CQ25 -> 0 | CW26: =CR26-CR25 -> 0 | CX26: =CW26/CV26 -> #DIV/0! | CY26: =(CU26)/CV26 -> #DIV/0! | DA26: 2024-10-16 | DE26: =DD26/DC26 -> #DIV/0! | DF26: =(DB26)/DC26 -> #DIV/0! | DG26: =DB26-DB25 -> 0 | DH26: =DC26-DC25 -> 0 | DI26: =DD26-DD25 -> 0 | DJ26: =DI26/DH26 -> #DIV/0! | DK26: =(DG26)/DH26 -> #DIV/0! | DM26: 2024-10-16 | DQ26: =DP26/DO26 -> #DIV/0! | DR26: =(DN26)/DO26 -> #DIV/0! | DS26: =DN26-DN25 -> 0 | DT26: =DO26-DO25 -> 0 | DU26: =DP26-DP25 -> 0 | DV26: =DU26/DT26 -> #DIV/0! | DW26: =(DS26)/DT26 -> #DIV/0! | EK26: 2024-10-16 | EO26: =EN26/EM26 -> #DIV/0! | EP26: =(EL26)/EM26 -> #DIV/0! | EQ26: =EL26-EL25 -> 0 | ER26: =EM26-EM25 -> 0 | ES26: =EN26-EN25 -> 0 | ET26: =ES26/ER26 -> #DIV/0! | EU26: =(EQ26)/ER26 -> #DIV/0! | EW26: 2024-10-16 | FA26: =EZ26/EY26 -> #DIV/0! | FB26: =EX26-EX25 -> 0 | FC26: =EY26-EY25 -> 0 | FD26: =EZ26-EZ25 -> 0 | FE26: =FD26/FC26 -> #DIV/0! | FG26: 2024-10-16 | FK26: =FJ26/FI26 -> #DIV/0! | FL26: =FH26-FH25 -> 0 | FM26: =FI26-FI25 -> 0 | FN26: =FJ26-FJ25 -> 0 | FO26: =FN26/FM26 -> #DIV/0! | FQ26: 2024-10-16 | FU26: =FT26/FS26 -> #DIV/0! | FV26: =FR26-FR25 -> 0 | FW26: =FS26-FS25 -> 0 | FX26: =FT26-FT25 -> 0 | FY26: =FX26/FW26 -> #DIV/0! | GA26: 2024-10-16 | GE26: =GD26/GC26 -> #DIV/0! | GF26: =GB26-GB25 -> 0 | GG26: =GC26-GC25 -> 0 | GH26: =GD26-GD25 -> 0 | GI26: =GH26/GG26 -> #DIV/0! | GK26: 2024-10-16 | GO26: =GN26/GM26 -> #DIV/0! | GP26: =GL26-GL25 -> 0 | GQ26: =GM26-GM25 -> 0 | GR26: =GN26-GN25 -> 0 | GS26: =GR26/GQ26 -> #DIV/0! | GU26: 2024-10-16 | GY26: =GX26/GW26 -> #DIV/0! | GZ26: =GV26-GV25 -> 0 | HA26: =GW26-GW25 -> 0 | HB26: =GX26-GX25 -> 0 | HC26: =HB26/HA26 -> #DIV/0! | HE26: 2024-10-16 | HI26: =HH26/HG26 -> #DIV/0! | HJ26: =HF26-HF25 -> 0 | HK26: =HG26-HG25 -> 0 | HL26: =HH26-HH25 -> 0 | HM26: =HL26/HK26 -> #DIV/0! | HO26: 2024-10-16 | HS26: =HR26/HQ26 -> #DIV/0! | HT26: =HP26-HP25 -> 0 | HU26: =HQ26-HQ25 -> 0 | HV26: =HR26-HR25 -> 0 | HW26: =HV26/HU26 -> #DIV/0! | HY26: 2024-10-16 | IC26: =IB26/IA26 -> #DIV/0! | ID26: =HZ26-HZ25 -> 0 | IE26: =IA26-IA25 -> 0 | IF26: =IB26-IB25 -> 0 | IG26: =IF26/IE26 -> #DIV/0!
A27: 2024-11-18 | B27: 211.91 | C27: 13157 | D27: 4270 | E27: =D27/C27 -> 0.32454207 | F27: =(B27)/C27 -> 0.016106255 | G27: =B27-B26 -> -1.32 | H27: =C27-C26 -> 459 | I27: =D27-D26 -> 146 | J27: =I27/H27 -> 0.31808279 | K27: =(G27)/H27 -> -0.002875817 | AG27: 2024-11-18 | AH27: 273.94 | AI27: 4411 | AJ27: 1435 | AK27: =AJ27/AI27 -> 0.32532306 | AL27: =(AH27)/AI27 -> 0.062103831 | AM27: =AH27-AH26 -> 17.88 | AN27: =AI27-AI26 -> 115 | AO27: =AJ27-AJ26 -> 40 | AP27: =AO27/AN27 -> 0.34782609 | AQ27: =(AM27)/AN27 -> 0.15547826 | AS27: 2024-11-18 | AW27: =AV27/AU27 -> #DIV/0! | AX27: =(AT27)/AU27 -> #DIV/0! | AY27: =AT27-AT26 -> 0 | AZ27: =AU27-AU26 -> 0 | BA27: =AV27-AV26 -> 0 | BB27: =BA27/AZ27 -> #DIV/0! | BC27: =(AY27)/AZ27 -> #DIV/0! | BE27: 2024-11-18 | BI27: =BH27/BG27 -> #DIV/0! | BJ27: =(BF27)/BG27 -> #DIV/0! | BK27: =BF27-BF26 -> 0 | BL27: =BG27-BG26 -> 0 | BM27: =BH27-BH26 -> 0 | BN27: =BM27/BL27 -> #DIV/0! | BO27: =(BK27)/BL27 -> #DIV/0! | BQ27: 2024-11-18 | BU27: =BT27/BS27 -> #DIV/0! | BV27: =(BR27)/BS27 -> #DIV/0! | BW27: =BR27-BR26 -> 0 | BX27: =BS27-BS26 -> 0 | BY27: =BT27-BT26 -> 0 | BZ27: =BY27/BX27 -> #DIV/0! | CA27: =(BW27)/BX27 -> #DIV/0! | CC27: 2024-11-18 | CG27: =CF27/CE27 -> #DIV/0! | CH27: =(CD27)/CE27 -> #DIV/0! | CI27: =CD27-CD26 -> 0 | CJ27: =CE27-CE26 -> 0 | CK27: =CF27-CF26 -> 0 | CL27: =CK27/CJ27 -> #DIV/0! | CM27: =(CI27)/CJ27 -> #DIV/0! | CO27: 2024-11-18 | CS27: =CR27/CQ27 -> #DIV/0! | CT27: =(CP27)/CQ27 -> #DIV/0! | CU27: =CP27-CP26 -> 0 | CV27: =CQ27-CQ26 -> 0 | CW27: =CR27-CR26 -> 0 | CX27: =CW27/CV27 -> #DIV/0! | CY27: =(CU27)/CV27 -> #DIV/0! | DA27: 2024-11-18 | DE27: =DD27/DC27 -> #DIV/0! | DF27: =(DB27)/DC27 -> #DIV/0! | DG27: =DB27-DB26 -> 0 | DH27: =DC27-DC26 -> 0 | DI27: =DD27-DD26 -> 0 | DJ27: =DI27/DH27 -> #DIV/0! | DK27: =(DG27)/DH27 -> #DIV/0! | DM27: 2024-11-18 | DQ27: =DP27/DO27 -> #DIV/0! | DR27: =(DN27)/DO27 -> #DIV/0! | DS27: =DN27-DN26 -> 0 | DT27: =DO27-DO26 -> 0 | DU27: =DP27-DP26 -> 0 | DV27: =DU27/DT27 -> #DIV/0! | DW27: =(DS27)/DT27 -> #DIV/0! | EK27: 2024-11-18 | EO27: =EN27/EM27 -> #DIV/0! | EP27: =(EL27)/EM27 -> #DIV/0! | EQ27: =EL27-EL26 -> 0 | ER27: =EM27-EM26 -> 0 | ES27: =EN27-EN26 -> 0 | ET27: =ES27/ER27 -> #DIV/0! | EU27: =(EQ27)/ER27 -> #DIV/0! | EW27: 2024-11-18 | FA27: =EZ27/EY27 -> #DIV/0! | FB27: =EX27-EX26 -> 0 | FC27: =EY27-EY26 -> 0 | FD27: =EZ27-EZ26 -> 0 | FE27: =FD27/FC27 -> #DIV/0! | FG27: 2024-11-18 | FK27: =FJ27/FI27 -> #DIV/0! | FL27: =FH27-FH26 -> 0 | FM27: =FI27-FI26 -> 0 | FN27: =FJ27-FJ26 -> 0 | FO27: =FN27/FM27 -> #DIV/0! | FQ27: 2024-11-18 | FU27: =FT27/FS27 -> #DIV/0! | FV27: =FR27-FR26 -> 0 | FW27: =FS27-FS26 -> 0 | FX27: =FT27-FT26 -> 0 | FY27: =FX27/FW27 -> #DIV/0! | GA27: 2024-11-18 | GE27: =GD27/GC27 -> #DIV/0! | GF27: =GB27-GB26 -> 0 | GG27: =GC27-GC26 -> 0 | GH27: =GD27-GD26 -> 0 | GI27: =GH27/GG27 -> #DIV/0! | GK27: 2024-11-18 | GO27: =GN27/GM27 -> #DIV/0! | GP27: =GL27-GL26 -> 0 | GQ27: =GM27-GM26 -> 0 | GR27: =GN27-GN26 -> 0 | GS27: =GR27/GQ27 -> #DIV/0! | GU27: 2024-11-18 | GY27: =GX27/GW27 -> #DIV/0! | GZ27: =GV27-GV26 -> 0 | HA27: =GW27-GW26 -> 0 | HB27: =GX27-GX26 -> 0 | HC27: =HB27/HA27 -> #DIV/0! | HE27: 2024-11-18 | HI27: =HH27/HG27 -> #DIV/0! | HJ27: =HF27-HF26 -> 0 | HK27: =HG27-HG26 -> 0 | HL27: =HH27-HH26 -> 0 | HM27: =HL27/HK27 -> #DIV/0! | HO27: 2024-11-18 | HS27: =HR27/HQ27 -> #DIV/0! | HT27: =HP27-HP26 -> 0 | HU27: =HQ27-HQ26 -> 0 | HV27: =HR27-HR26 -> 0 | HW27: =HV27/HU27 -> #DIV/0! | HY27: 2024-11-18 | IC27: =IB27/IA27 -> #DIV/0! | ID27: =HZ27-HZ26 -> 0 | IE27: =IA27-IA26 -> 0 | IF27: =IB27-IB26 -> 0 | IG27: =IF27/IE27 -> #DIV/0!
A28: 2024-12-18 | B28: 201.16 | C28: 13640 | D28: 4420 | E28: =D28/C28 -> 0.32404692 | F28: =(B28)/C28 -> 0.014747801 | G28: =B28-B27 -> -10.75 | H28: =C28-C27 -> 483 | I28: =D28-D27 -> 150 | J28: =I28/H28 -> 0.31055901 | K28: =(G28)/H28 -> -0.022256729 | AG28: 2024-12-18 | AH28: 303.94 | AI28: 4537 | AJ28: 1481 | AK28: =AJ28/AI28 -> 0.32642715 | AL28: =(AH28)/AI28 -> 0.066991404 | AM28: =AH28-AH27 -> 30 | AN28: =AI28-AI27 -> 126 | AO28: =AJ28-AJ27 -> 46 | AP28: =AO28/AN28 -> 0.36507937 | AQ28: =(AM28)/AN28 -> 0.23809524 | AS28: 2024-12-18 | AW28: =AV28/AU28 -> #DIV/0! | AX28: =(AT28)/AU28 -> #DIV/0! | AY28: =AT28-AT27 -> 0 | AZ28: =AU28-AU27 -> 0 | BA28: =AV28-AV27 -> 0 | BB28: =BA28/AZ28 -> #DIV/0! | BC28: =(AY28)/AZ28 -> #DIV/0! | BE28: 2024-12-18 | BI28: =BH28/BG28 -> #DIV/0! | BJ28: =(BF28)/BG28 -> #DIV/0! | BK28: =BF28-BF27 -> 0 | BL28: =BG28-BG27 -> 0 | BM28: =BH28-BH27 -> 0 | BN28: =BM28/BL28 -> #DIV/0! | BO28: =(BK28)/BL28 -> #DIV/0! | BQ28: 2024-12-18 | BU28: =BT28/BS28 -> #DIV/0! | BV28: =(BR28)/BS28 -> #DIV/0! | BW28: =BR28-BR27 -> 0 | BX28: =BS28-BS27 -> 0 | BY28: =BT28-BT27 -> 0 | BZ28: =BY28/BX28 -> #DIV/0! | CA28: =(BW28)/BX28 -> #DIV/0! | CC28: 2024-12-18 | CG28: =CF28/CE28 -> #DIV/0! | CH28: =(CD28)/CE28 -> #DIV/0! | CI28: =CD28-CD27 -> 0 | CJ28: =CE28-CE27 -> 0 | CK28: =CF28-CF27 -> 0 | CL28: =CK28/CJ28 -> #DIV/0! | CM28: =(CI28)/CJ28 -> #DIV/0! | CO28: 2024-12-18 | CS28: =CR28/CQ28 -> #DIV/0! | CT28: =(CP28)/CQ28 -> #DIV/0! | CU28: =CP28-CP27 -> 0 | CV28: =CQ28-CQ27 -> 0 | CW28: =CR28-CR27 -> 0 | CX28: =CW28/CV28 -> #DIV/0! | CY28: =(CU28)/CV28 -> #DIV/0! | DA28: 2024-12-18 | DE28: =DD28/DC28 -> #DIV/0! | DF28: =(DB28)/DC28 -> #DIV/0! | DG28: =DB28-DB27 -> 0 | DH28: =DC28-DC27 -> 0 | DI28: =DD28-DD27 -> 0 | DJ28: =DI28/DH28 -> #DIV/0! | DK28: =(DG28)/DH28 -> #DIV/0! | DM28: 2024-12-18 | DQ28: =DP28/DO28 -> #DIV/0! | DR28: =(DN28)/DO28 -> #DIV/0! | DS28: =DN28-DN27 -> 0 | DT28: =DO28-DO27 -> 0 | DU28: =DP28-DP27 -> 0 | DV28: =DU28/DT28 -> #DIV/0! | DW28: =(DS28)/DT28 -> #DIV/0! | EK28: 2024-12-18 | EO28: =EN28/EM28 -> #DIV/0! | EP28: =(EL28)/EM28 -> #DIV/0! | EQ28: =EL28-EL27 -> 0 | ER28: =EM28-EM27 -> 0 | ES28: =EN28-EN27 -> 0 | ET28: =ES28/ER28 -> #DIV/0! | EU28: =(EQ28)/ER28 -> #DIV/0! | EW28: 2024-12-18 | FA28: =EZ28/EY28 -> #DIV/0! | FB28: =EX28-EX27 -> 0 | FC28: =EY28-EY27 -> 0 | FD28: =EZ28-EZ27 -> 0 | FE28: =FD28/FC28 -> #DIV/0! | FG28: 2024-12-18 | FK28: =FJ28/FI28 -> #DIV/0! | FL28: =FH28-FH27 -> 0 | FM28: =FI28-FI27 -> 0 | FN28: =FJ28-FJ27 -> 0 | FO28: =FN28/FM28 -> #DIV/0! | FQ28: 2024-12-18 | FU28: =FT28/FS28 -> #DIV/0! | FV28: =FR28-FR27 -> 0 | FW28: =FS28-FS27 -> 0 | FX28: =FT28-FT27 -> 0 | FY28: =FX28/FW28 -> #DIV/0! | GA28: 2024-12-18 | GE28: =GD28/GC28 -> #DIV/0! | GF28: =GB28-GB27 -> 0 | GG28: =GC28-GC27 -> 0 | GH28: =GD28-GD27 -> 0 | GI28: =GH28/GG28 -> #DIV/0! | GK28: 2024-12-18 | GO28: =GN28/GM28 -> #DIV/0! | GP28: =GL28-GL27 -> 0 | GQ28: =GM28-GM27 -> 0 | GR28: =GN28-GN27 -> 0 | GS28: =GR28/GQ28 -> #DIV/0! | GU28: 2024-12-18 | GY28: =GX28/GW28 -> #DIV/0! | GZ28: =GV28-GV27 -> 0 | HA28: =GW28-GW27 -> 0 | HB28: =GX28-GX27 -> 0 | HC28: =HB28/HA28 -> #DIV/0! | HE28: 2024-12-18 | HI28: =HH28/HG28 -> #DIV/0! | HJ28: =HF28-HF27 -> 0 | HK28: =HG28-HG27 -> 0 | HL28: =HH28-HH27 -> 0 | HM28: =HL28/HK28 -> #DIV/0! | HO28: 2024-12-18 | HS28: =HR28/HQ28 -> #DIV/0! | HT28: =HP28-HP27 -> 0 | HU28: =HQ28-HQ27 -> 0 | HV28: =HR28-HR27 -> 0 | HW28: =HV28/HU28 -> #DIV/0! | HY28: 2024-12-18 | IC28: =IB28/IA28 -> #DIV/0! | ID28: =HZ28-HZ27 -> 0 | IE28: =IA28-IA27 -> 0 | IF28: =IB28-IB27 -> 0 | IG28: =IF28/IE28 -> #DIV/0!
A29: 2025-01-19 | B29: 225.29 | C29: 13892 | D29: 4509 | E29: =D29/C29 -> 0.3245753 | F29: =(B29)/C29 -> 0.016217247 | G29: =B29-B28 -> 24.13 | H29: =C29-C28 -> 252 | I29: =D29-D28 -> 89 | J29: =I29/H29 -> 0.3531746 | K29: =(G29)/H29 -> 0.095753968 | AG29: 2025-01-19 | AH29: 323.4 | AI29: 4602 | AJ29: 1507 | AK29: =AJ29/AI29 -> 0.32746632 | AL29: =(AH29)/AI29 -> 0.070273794 | AM29: =AH29-AH28 -> 19.46 | AN29: =AI29-AI28 -> 65 | AO29: =AJ29-AJ28 -> 26 | AP29: =AO29/AN29 -> 0.4 | AQ29: =(AM29)/AN29 -> 0.29938462 | AS29: 2025-01-19 | AW29: =AV29/AU29 -> #DIV/0! | AX29: =(AT29)/AU29 -> #DIV/0! | AY29: =AT29-AT28 -> 0 | AZ29: =AU29-AU28 -> 0 | BA29: =AV29-AV28 -> 0 | BB29: =BA29/AZ29 -> #DIV/0! | BC29: =(AY29)/AZ29 -> #DIV/0! | BE29: 2025-01-19 | BI29: =BH29/BG29 -> #DIV/0! | BJ29: =(BF29)/BG29 -> #DIV/0! | BK29: =BF29-BF28 -> 0 | BL29: =BG29-BG28 -> 0 | BM29: =BH29-BH28 -> 0 | BN29: =BM29/BL29 -> #DIV/0! | BO29: =(BK29)/BL29 -> #DIV/0! | BQ29: 2025-01-19 | BU29: =BT29/BS29 -> #DIV/0! | BV29: =(BR29)/BS29 -> #DIV/0! | BW29: =BR29-BR28 -> 0 | BX29: =BS29-BS28 -> 0 | BY29: =BT29-BT28 -> 0 | BZ29: =BY29/BX29 -> #DIV/0! | CA29: =(BW29)/BX29 -> #DIV/0! | CC29: 2025-01-19 | CG29: =CF29/CE29 -> #DIV/0! | CH29: =(CD29)/CE29 -> #DIV/0! | CI29: =CD29-CD28 -> 0 | CJ29: =CE29-CE28 -> 0 | CK29: =CF29-CF28 -> 0 | CL29: =CK29/CJ29 -> #DIV/0! | CM29: =(CI29)/CJ29 -> #DIV/0! | CO29: 2025-01-19 | CS29: =CR29/CQ29 -> #DIV/0! | CT29: =(CP29)/CQ29 -> #DIV/0! | CU29: =CP29-CP28 -> 0 | CV29: =CQ29-CQ28 -> 0 | CW29: =CR29-CR28 -> 0 | CX29: =CW29/CV29 -> #DIV/0! | CY29: =(CU29)/CV29 -> #DIV/0! | DA29: 2025-01-19 | DE29: =DD29/DC29 -> #DIV/0! | DF29: =(DB29)/DC29 -> #DIV/0! | DG29: =DB29-DB28 -> 0 | DH29: =DC29-DC28 -> 0 | DI29: =DD29-DD28 -> 0 | DJ29: =DI29/DH29 -> #DIV/0! | DK29: =(DG29)/DH29 -> #DIV/0! | DM29: 2025-01-19 | DQ29: =DP29/DO29 -> #DIV/0! | DR29: =(DN29)/DO29 -> #DIV/0! | DS29: =DN29-DN28 -> 0 | DT29: =DO29-DO28 -> 0 | DU29: =DP29-DP28 -> 0 | DV29: =DU29/DT29 -> #DIV/0! | DW29: =(DS29)/DT29 -> #DIV/0! | EK29: 2025-01-19 | EO29: =EN29/EM29 -> #DIV/0! | EP29: =(EL29)/EM29 -> #DIV/0! | EQ29: =EL29-EL28 -> 0 | ER29: =EM29-EM28 -> 0 | ES29: =EN29-EN28 -> 0 | ET29: =ES29/ER29 -> #DIV/0! | EU29: =(EQ29)/ER29 -> #DIV/0! | EW29: 2025-01-19 | FA29: =EZ29/EY29 -> #DIV/0! | FB29: =EX29-EX28 -> 0 | FC29: =EY29-EY28 -> 0 | FD29: =EZ29-EZ28 -> 0 | FE29: =FD29/FC29 -> #DIV/0! | FG29: 2025-01-19 | FK29: =FJ29/FI29 -> #DIV/0! | FL29: =FH29-FH28 -> 0 | FM29: =FI29-FI28 -> 0 | FN29: =FJ29-FJ28 -> 0 | FO29: =FN29/FM29 -> #DIV/0! | FQ29: 2025-01-19 | FU29: =FT29/FS29 -> #DIV/0! | FV29: =FR29-FR28 -> 0 | FW29: =FS29-FS28 -> 0 | FX29: =FT29-FT28 -> 0 | FY29: =FX29/FW29 -> #DIV/0! | GA29: 2025-01-19 | GE29: =GD29/GC29 -> #DIV/0! | GF29: =GB29-GB28 -> 0 | GG29: =GC29-GC28 -> 0 | GH29: =GD29-GD28 -> 0 | GI29: =GH29/GG29 -> #DIV/0! | GK29: 2025-01-19 | GO29: =GN29/GM29 -> #DIV/0! | GP29: =GL29-GL28 -> 0 | GQ29: =GM29-GM28 -> 0 | GR29: =GN29-GN28 -> 0 | GS29: =GR29/GQ29 -> #DIV/0! | GU29: 2025-01-19 | GY29: =GX29/GW29 -> #DIV/0! | GZ29: =GV29-GV28 -> 0 | HA29: =GW29-GW28 -> 0 | HB29: =GX29-GX28 -> 0 | HC29: =HB29/HA29 -> #DIV/0! | HE29: 2025-01-19 | HI29: =HH29/HG29 -> #DIV/0! | HJ29: =HF29-HF28 -> 0 | HK29: =HG29-HG28 -> 0 | HL29: =HH29-HH28 -> 0 | HM29: =HL29/HK29 -> #DIV/0! | HO29: 2025-01-19 | HS29: =HR29/HQ29 -> #DIV/0! | HT29: =HP29-HP28 -> 0 | HU29: =HQ29-HQ28 -> 0 | HV29: =HR29-HR28 -> 0 | HW29: =HV29/HU29 -> #DIV/0! | HY29: 2025-01-19 | IC29: =IB29/IA29 -> #DIV/0! | ID29: =HZ29-HZ28 -> 0 | IE29: =IA29-IA28 -> 0 | IF29: =IB29-IB28 -> 0 | IG29: =IF29/IE29 -> #DIV/0!
A30: 2025-02-15 | B30: 257.757 | C30: 14212 | D30: 4622 | E30: =D30/C30 -> 0.32521813 | F30: =(B30)/C30 -> 0.018136575 | G30: =B30-B29 -> 32.467 | H30: =C30-C29 -> 320 | I30: =D30-D29 -> 113 | J30: =I30/H30 -> 0.353125 | K30: =(G30)/H30 -> 0.10145938 | AG30: 2025-02-15 | AH30: 344.14 | AI30: 4671 | AJ30: 1535 | AK30: =AJ30/AI30 -> 0.32862342 | AL30: =(AH30)/AI30 -> 0.073675872 | AM30: =AH30-AH29 -> 20.74 | AN30: =AI30-AI29 -> 69 | AO30: =AJ30-AJ29 -> 28 | AP30: =AO30/AN30 -> 0.4057971 | AQ30: =(AM30)/AN30 -> 0.30057971 | AS30: 2025-02-15 | AW30: =AV30/AU30 -> #DIV/0! | AX30: =(AT30)/AU30 -> #DIV/0! | AY30: =AT30-AT29 -> 0 | AZ30: =AU30-AU29 -> 0 | BA30: =AV30-AV29 -> 0 | BB30: =BA30/AZ30 -> #DIV/0! | BC30: =(AY30)/AZ30 -> #DIV/0! | BE30: 2025-02-15 | BI30: =BH30/BG30 -> #DIV/0! | BJ30: =(BF30)/BG30 -> #DIV/0! | BK30: =BF30-BF29 -> 0 | BL30: =BG30-BG29 -> 0 | BM30: =BH30-BH29 -> 0 | BN30: =BM30/BL30 -> #DIV/0! | BO30: =(BK30)/BL30 -> #DIV/0! | BQ30: 2025-02-15 | BU30: =BT30/BS30 -> #DIV/0! | BV30: =(BR30)/BS30 -> #DIV/0! | BW30: =BR30-BR29 -> 0 | BX30: =BS30-BS29 -> 0 | BY30: =BT30-BT29 -> 0 | BZ30: =BY30/BX30 -> #DIV/0! | CA30: =(BW30)/BX30 -> #DIV/0! | CC30: 2025-02-15 | CG30: =CF30/CE30 -> #DIV/0! | CH30: =(CD30)/CE30 -> #DIV/0! | CI30: =CD30-CD29 -> 0 | CJ30: =CE30-CE29 -> 0 | CK30: =CF30-CF29 -> 0 | CL30: =CK30/CJ30 -> #DIV/0! | CM30: =(CI30)/CJ30 -> #DIV/0! | CO30: 2025-02-15 | CS30: =CR30/CQ30 -> #DIV/0! | CT30: =(CP30)/CQ30 -> #DIV/0! | CU30: =CP30-CP29 -> 0 | CV30: =CQ30-CQ29 -> 0 | CW30: =CR30-CR29 -> 0 | CX30: =CW30/CV30 -> #DIV/0! | CY30: =(CU30)/CV30 -> #DIV/0! | DA30: 2025-02-15 | DE30: =DD30/DC30 -> #DIV/0! | DF30: =(DB30)/DC30 -> #DIV/0! | DG30: =DB30-DB29 -> 0 | DH30: =DC30-DC29 -> 0 | DI30: =DD30-DD29 -> 0 | DJ30: =DI30/DH30 -> #DIV/0! | DK30: =(DG30)/DH30 -> #DIV/0! | DM30: 2025-02-15 | DQ30: =DP30/DO30 -> #DIV/0! | DR30: =(DN30)/DO30 -> #DIV/0! | DS30: =DN30-DN29 -> 0 | DT30: =DO30-DO29 -> 0 | DU30: =DP30-DP29 -> 0 | DV30: =DU30/DT30 -> #DIV/0! | DW30: =(DS30)/DT30 -> #DIV/0! | EK30: 2025-02-15 | EO30: =EN30/EM30 -> #DIV/0! | EP30: =(EL30)/EM30 -> #DIV/0! | EQ30: =EL30-EL29 -> 0 | ER30: =EM30-EM29 -> 0 | ES30: =EN30-EN29 -> 0 | ET30: =ES30/ER30 -> #DIV/0! | EU30: =(EQ30)/ER30 -> #DIV/0! | EW30: 2025-02-15 | FA30: =EZ30/EY30 -> #DIV/0! | FB30: =EX30-EX29 -> 0 | FC30: =EY30-EY29 -> 0 | FD30: =EZ30-EZ29 -> 0 | FE30: =FD30/FC30 -> #DIV/0! | FG30: 2025-02-15 | FK30: =FJ30/FI30 -> #DIV/0! | FL30: =FH30-FH29 -> 0 | FM30: =FI30-FI29 -> 0 | FN30: =FJ30-FJ29 -> 0 | FO30: =FN30/FM30 -> #DIV/0! | FQ30: 2025-02-15 | FU30: =FT30/FS30 -> #DIV/0! | FV30: =FR30-FR29 -> 0 | FW30: =FS30-FS29 -> 0 | FX30: =FT30-FT29 -> 0 | FY30: =FX30/FW30 -> #DIV/0! | GA30: 2025-02-15 | GE30: =GD30/GC30 -> #DIV/0! | GF30: =GB30-GB29 -> 0 | GG30: =GC30-GC29 -> 0 | GH30: =GD30-GD29 -> 0 | GI30: =GH30/GG30 -> #DIV/0! | GK30: 2025-02-15 | GO30: =GN30/GM30 -> #DIV/0! | GP30: =GL30-GL29 -> 0 | GQ30: =GM30-GM29 -> 0 | GR30: =GN30-GN29 -> 0 | GS30: =GR30/GQ30 -> #DIV/0! | GU30: 2025-02-15 | GY30: =GX30/GW30 -> #DIV/0! | GZ30: =GV30-GV29 -> 0 | HA30: =GW30-GW29 -> 0 | HB30: =GX30-GX29 -> 0 | HC30: =HB30/HA30 -> #DIV/0! | HE30: 2025-02-15 | HI30: =HH30/HG30 -> #DIV/0! | HJ30: =HF30-HF29 -> 0 | HK30: =HG30-HG29 -> 0 | HL30: =HH30-HH29 -> 0 | HM30: =HL30/HK30 -> #DIV/0! | HO30: 2025-02-15 | HS30: =HR30/HQ30 -> #DIV/0! | HT30: =HP30-HP29 -> 0 | HU30: =HQ30-HQ29 -> 0 | HV30: =HR30-HR29 -> 0 | HW30: =HV30/HU30 -> #DIV/0! | HY30: 2025-02-15 | IC30: =IB30/IA30 -> #DIV/0! | ID30: =HZ30-HZ29 -> 0 | IE30: =IA30-IA29 -> 0 | IF30: =IB30-IB29 -> 0 | IG30: =IF30/IE30 -> #DIV/0!
A31: 2025-03-18 | B31: 300.59 | C31: 14682 | D31: 4786 | E31: =D31/C31 -> 0.32597739 | F31: =(B31)/C31 -> 0.020473369 | G31: =B31-B30 -> 42.833 | H31: =C31-C30 -> 470 | I31: =D31-D30 -> 164 | J31: =I31/H31 -> 0.34893617 | K31: =(G31)/H31 -> 0.091134043 | AG31: 2025-03-18 | AH31: 335.65 | AI31: 4780 | AJ31: 1565 | AK31: =AJ31/AI31 -> 0.32740586 | AL31: =(AH31)/AI31 -> 0.070219665 | AM31: =AH31-AH30 -> -8.49 | AN31: =AI31-AI30 -> 109 | AO31: =AJ31-AJ30 -> 30 | AP31: =AO31/AN31 -> 0.27522936 | AQ31: =(AM31)/AN31 -> -0.077889908 | AS31: 2025-03-18 | AW31: =AV31/AU31 -> #DIV/0! | AX31: =(AT31)/AU31 -> #DIV/0! | AY31: =AT31-AT30 -> 0 | AZ31: =AU31-AU30 -> 0 | BA31: =AV31-AV30 -> 0 | BB31: =BA31/AZ31 -> #DIV/0! | BC31: =(AY31)/AZ31 -> #DIV/0! | BE31: 2025-03-18 | BI31: =BH31/BG31 -> #DIV/0! | BJ31: =(BF31)/BG31 -> #DIV/0! | BK31: =BF31-BF30 -> 0 | BL31: =BG31-BG30 -> 0 | BM31: =BH31-BH30 -> 0 | BN31: =BM31/BL31 -> #DIV/0! | BO31: =(BK31)/BL31 -> #DIV/0! | BQ31: 2025-03-18 | BU31: =BT31/BS31 -> #DIV/0! | BV31: =(BR31)/BS31 -> #DIV/0! | BW31: =BR31-BR30 -> 0 | BX31: =BS31-BS30 -> 0 | BY31: =BT31-BT30 -> 0 | BZ31: =BY31/BX31 -> #DIV/0! | CA31: =(BW31)/BX31 -> #DIV/0! | CC31: 2025-03-18 | CG31: =CF31/CE31 -> #DIV/0! | CH31: =(CD31)/CE31 -> #DIV/0! | CI31: =CD31-CD30 -> 0 | CJ31: =CE31-CE30 -> 0 | CK31: =CF31-CF30 -> 0 | CL31: =CK31/CJ31 -> #DIV/0! | CM31: =(CI31)/CJ31 -> #DIV/0! | CO31: 2025-03-18 | CS31: =CR31/CQ31 -> #DIV/0! | CT31: =(CP31)/CQ31 -> #DIV/0! | CU31: =CP31-CP30 -> 0 | CV31: =CQ31-CQ30 -> 0 | CW31: =CR31-CR30 -> 0 | CX31: =CW31/CV31 -> #DIV/0! | CY31: =(CU31)/CV31 -> #DIV/0! | DA31: 2025-03-18 | DE31: =DD31/DC31 -> #DIV/0! | DF31: =(DB31)/DC31 -> #DIV/0! | DG31: =DB31-DB30 -> 0 | DH31: =DC31-DC30 -> 0 | DI31: =DD31-DD30 -> 0 | DJ31: =DI31/DH31 -> #DIV/0! | DK31: =(DG31)/DH31 -> #DIV/0! | DM31: 2025-03-18 | DQ31: =DP31/DO31 -> #DIV/0! | DR31: =(DN31)/DO31 -> #DIV/0! | DS31: =DN31-DN30 -> 0 | DT31: =DO31-DO30 -> 0 | DU31: =DP31-DP30 -> 0 | DV31: =DU31/DT31 -> #DIV/0! | DW31: =(DS31)/DT31 -> #DIV/0! | EK31: 2025-03-18 | EO31: =EN31/EM31 -> #DIV/0! | EP31: =(EL31)/EM31 -> #DIV/0! | EQ31: =EL31-EL30 -> 0 | ER31: =EM31-EM30 -> 0 | ES31: =EN31-EN30 -> 0 | ET31: =ES31/ER31 -> #DIV/0! | EU31: =(EQ31)/ER31 -> #DIV/0! | EW31: 2025-03-18 | FA31: =EZ31/EY31 -> #DIV/0! | FB31: =EX31-EX30 -> 0 | FC31: =EY31-EY30 -> 0 | FD31: =EZ31-EZ30 -> 0 | FE31: =FD31/FC31 -> #DIV/0! | FG31: 2025-03-18 | FK31: =FJ31/FI31 -> #DIV/0! | FL31: =FH31-FH30 -> 0 | FM31: =FI31-FI30 -> 0 | FN31: =FJ31-FJ30 -> 0 | FO31: =FN31/FM31 -> #DIV/0! | FQ31: 2025-03-18 | FU31: =FT31/FS31 -> #DIV/0! | FV31: =FR31-FR30 -> 0 | FW31: =FS31-FS30 -> 0 | FX31: =FT31-FT30 -> 0 | FY31: =FX31/FW31 -> #DIV/0! | GA31: 2025-03-18 | GE31: =GD31/GC31 -> #DIV/0! | GF31: =GB31-GB30 -> 0 | GG31: =GC31-GC30 -> 0 | GH31: =GD31-GD30 -> 0 | GI31: =GH31/GG31 -> #DIV/0! | GK31: 2025-03-18 | GO31: =GN31/GM31 -> #DIV/0! | GP31: =GL31-GL30 -> 0 | GQ31: =GM31-GM30 -> 0 | GR31: =GN31-GN30 -> 0 | GS31: =GR31/GQ31 -> #DIV/0! | GU31: 2025-03-18 | GY31: =GX31/GW31 -> #DIV/0! | GZ31: =GV31-GV30 -> 0 | HA31: =GW31-GW30 -> 0 | HB31: =GX31-GX30 -> 0 | HC31: =HB31/HA31 -> #DIV/0! | HE31: 2025-03-18 | HI31: =HH31/HG31 -> #DIV/0! | HJ31: =HF31-HF30 -> 0 | HK31: =HG31-HG30 -> 0 | HL31: =HH31-HH30 -> 0 | HM31: =HL31/HK31 -> #DIV/0! | HO31: 2025-03-18 | HS31: =HR31/HQ31 -> #DIV/0! | HT31: =HP31-HP30 -> 0 | HU31: =HQ31-HQ30 -> 0 | HV31: =HR31-HR30 -> 0 | HW31: =HV31/HU31 -> #DIV/0! | HY31: 2025-03-18 | IC31: =IB31/IA31 -> #DIV/0! | ID31: =HZ31-HZ30 -> 0 | IE31: =IA31-IA30 -> 0 | IF31: =IB31-IB30 -> 0 | IG31: =IF31/IE31 -> #DIV/0!
A32: 2025-04-16 | B32: 274.18 | C32: 15737 | D32: 5113 | E32: =D32/C32 -> 0.32490309 | F32: =(B32)/C32 -> 0.017422635 | G32: =B32-B31 -> -26.41 | H32: =C32-C31 -> 1055 | I32: =D32-D31 -> 327 | J32: =I32/H32 -> 0.30995261 | K32: =(G32)/H32 -> -0.025033175 | AG32: 2025-04-16 | AH32: 303.52 | AI32: 5410 | AJ32: 1752 | AK32: =AJ32/AI32 -> 0.32384473 | AL32: =(AH32)/AI32 -> 0.056103512 | AM32: =AH32-AH31 -> -32.13 | AN32: =AI32-AI31 -> 630 | AO32: =AJ32-AJ31 -> 187 | AP32: =AO32/AN32 -> 0.2968254 | AQ32: =(AM32)/AN32 -> -0.051 | AS32: 2025-04-16 | AW32: =AV32/AU32 -> #DIV/0! | AX32: =(AT32)/AU32 -> #DIV/0! | AY32: =AT32-AT31 -> 0 | AZ32: =AU32-AU31 -> 0 | BA32: =AV32-AV31 -> 0 | BB32: =BA32/AZ32 -> #DIV/0! | BC32: =(AY32)/AZ32 -> #DIV/0! | BE32: 2025-04-16 | BF32: 40.43 | BG32: 125 | BH32: 13 | BI32: =BH32/BG32 -> 0.104 | BJ32: =(BF32)/BG32 -> 0.32344 | BK32: =BF32-BF31 -> 40.43 | BL32: =BG32-BG31 -> 125 | BM32: =BH32-BH31 -> 13 | BN32: =BM32/BL32 -> 0.104 | BO32: =(BK32)/BL32 -> 0.32344 | BQ32: 2025-04-16 | BR32: 12.9 | BS32: 110 | BT32: 10 | BU32: =BT32/BS32 -> 0.090909091 | BV32: =(BR32)/BS32 -> 0.11727273 | BW32: =BR32-BR31 -> 12.9 | BX32: =BS32-BS31 -> 110 | BY32: =BT32-BT31 -> 10 | BZ32: =BY32/BX32 -> 0.090909091 | CA32: =(BW32)/BX32 -> 0.11727273 | CC32: 2025-04-16 | CG32: =CF32/CE32 -> #DIV/0! | CH32: =(CD32)/CE32 -> #DIV/0! | CI32: =CD32-CD31 -> 0 | CJ32: =CE32-CE31 -> 0 | CK32: =CF32-CF31 -> 0 | CL32: =CK32/CJ32 -> #DIV/0! | CM32: =(CI32)/CJ32 -> #DIV/0! | CO32: 2025-04-16 | CS32: =CR32/CQ32 -> #DIV/0! | CT32: =(CP32)/CQ32 -> #DIV/0! | CU32: =CP32-CP31 -> 0 | CV32: =CQ32-CQ31 -> 0 | CW32: =CR32-CR31 -> 0 | CX32: =CW32/CV32 -> #DIV/0! | CY32: =(CU32)/CV32 -> #DIV/0! | DA32: 2025-04-16 | DE32: =DD32/DC32 -> #DIV/0! | DF32: =(DB32)/DC32 -> #DIV/0! | DG32: =DB32-DB31 -> 0 | DH32: =DC32-DC31 -> 0 | DI32: =DD32-DD31 -> 0 | DJ32: =DI32/DH32 -> #DIV/0! | DK32: =(DG32)/DH32 -> #DIV/0! | DM32: 2025-04-16 | DQ32: =DP32/DO32 -> #DIV/0! | DR32: =(DN32)/DO32 -> #DIV/0! | DS32: =DN32-DN31 -> 0 | DT32: =DO32-DO31 -> 0 | DU32: =DP32-DP31 -> 0 | DV32: =DU32/DT32 -> #DIV/0! | DW32: =(DS32)/DT32 -> #DIV/0! | EK32: 2025-04-16 | EO32: =EN32/EM32 -> #DIV/0! | EP32: =(EL32)/EM32 -> #DIV/0! | EQ32: =EL32-EL31 -> 0 | ER32: =EM32-EM31 -> 0 | ES32: =EN32-EN31 -> 0 | ET32: =ES32/ER32 -> #DIV/0! | EU32: =(EQ32)/ER32 -> #DIV/0! | EW32: 2025-04-16 | FA32: =EZ32/EY32 -> #DIV/0! | FB32: =EX32-EX31 -> 0 | FC32: =EY32-EY31 -> 0 | FD32: =EZ32-EZ31 -> 0 | FE32: =FD32/FC32 -> #DIV/0! | FG32: 2025-04-16 | FK32: =FJ32/FI32 -> #DIV/0! | FL32: =FH32-FH31 -> 0 | FM32: =FI32-FI31 -> 0 | FN32: =FJ32-FJ31 -> 0 | FO32: =FN32/FM32 -> #DIV/0! | FQ32: 2025-04-16 | FU32: =FT32/FS32 -> #DIV/0! | FV32: =FR32-FR31 -> 0 | FW32: =FS32-FS31 -> 0 | FX32: =FT32-FT31 -> 0 | FY32: =FX32/FW32 -> #DIV/0! | GA32: 2025-04-16 | GE32: =GD32/GC32 -> #DIV/0! | GF32: =GB32-GB31 -> 0 | GG32: =GC32-GC31 -> 0 | GH32: =GD32-GD31 -> 0 | GI32: =GH32/GG32 -> #DIV/0! | GK32: 2025-04-16 | GO32: =GN32/GM32 -> #DIV/0! | GP32: =GL32-GL31 -> 0 | GQ32: =GM32-GM31 -> 0 | GR32: =GN32-GN31 -> 0 | GS32: =GR32/GQ32 -> #DIV/0! | GU32: 2025-04-16 | GY32: =GX32/GW32 -> #DIV/0! | GZ32: =GV32-GV31 -> 0 | HA32: =GW32-GW31 -> 0 | HB32: =GX32-GX31 -> 0 | HC32: =HB32/HA32 -> #DIV/0! | HE32: 2025-04-16 | HI32: =HH32/HG32 -> #DIV/0! | HJ32: =HF32-HF31 -> 0 | HK32: =HG32-HG31 -> 0 | HL32: =HH32-HH31 -> 0 | HM32: =HL32/HK32 -> #DIV/0! | HO32: 2025-04-16 | HS32: =HR32/HQ32 -> #DIV/0! | HT32: =HP32-HP31 -> 0 | HU32: =HQ32-HQ31 -> 0 | HV32: =HR32-HR31 -> 0 | HW32: =HV32/HU32 -> #DIV/0! | HY32: 2025-04-16 | IC32: =IB32/IA32 -> #DIV/0! | ID32: =HZ32-HZ31 -> 0 | IE32: =IA32-IA31 -> 0 | IF32: =IB32-IB31 -> 0 | IG32: =IF32/IE32 -> #DIV/0!
A33: 2025-05-16 | B33: 249.46 | C33: 16268 | D33: 5273 | E33: =D33/C33 -> 0.32413327 | F33: =(B33)/C33 -> 0.015334399 | G33: =B33-B32 -> -24.72 | H33: =C33-C32 -> 531 | I33: =D33-D32 -> 160 | J33: =I33/H33 -> 0.30131827 | K33: =(G33)/H33 -> -0.046553672 | AG33: 2025-05-16 | AH33: 282.13 | AI33: 5554 | AJ33: 1787 | AK33: =AJ33/AI33 -> 0.32175009 | AL33: =(AH33)/AI33 -> 0.050797623 | AM33: =AH33-AH32 -> -21.39 | AN33: =AI33-AI32 -> 144 | AO33: =AJ33-AJ32 -> 35 | AP33: =AO33/AN33 -> 0.24305556 | AQ33: =(AM33)/AN33 -> -0.14854167 | AS33: 2025-05-16 | AW33: =AV33/AU33 -> #DIV/0! | AX33: =(AT33)/AU33 -> #DIV/0! | AY33: =AT33-AT32 -> 0 | AZ33: =AU33-AU32 -> 0 | BA33: =AV33-AV32 -> 0 | BB33: =BA33/AZ33 -> #DIV/0! | BC33: =(AY33)/AZ33 -> #DIV/0! | BE33: 2025-05-16 | BF33: 9.52 | BG33: 206 | BH33: 21 | BI33: =BH33/BG33 -> 0.10194175 | BJ33: =(BF33)/BG33 -> 0.046213592 | BK33: =BF33-BF32 -> -30.91 | BL33: =BG33-BG32 -> 81 | BM33: =BH33-BH32 -> 8 | BN33: =BM33/BL33 -> 0.098765432 | BO33: =(BK33)/BL33 -> -0.38160494 | BQ33: 2025-05-16 | BR33: -8.46 | BS33: 178 | BT33: 17 | BU33: =BT33/BS33 -> 0.095505618 | BV33: =(BR33)/BS33 -> -0.04752809 | BW33: =BR33-BR32 -> -21.36 | BX33: =BS33-BS32 -> 68 | BY33: =BT33-BT32 -> 7 | BZ33: =BY33/BX33 -> 0.10294118 | CA33: =(BW33)/BX33 -> -0.31411765 | CC33: 2025-05-16 | CG33: =CF33/CE33 -> #DIV/0! | CH33: =(CD33)/CE33 -> #DIV/0! | CI33: =CD33-CD32 -> 0 | CJ33: =CE33-CE32 -> 0 | CK33: =CF33-CF32 -> 0 | CL33: =CK33/CJ33 -> #DIV/0! | CM33: =(CI33)/CJ33 -> #DIV/0! | CO33: 2025-05-16 | CS33: =CR33/CQ33 -> #DIV/0! | CT33: =(CP33)/CQ33 -> #DIV/0! | CU33: =CP33-CP32 -> 0 | CV33: =CQ33-CQ32 -> 0 | CW33: =CR33-CR32 -> 0 | CX33: =CW33/CV33 -> #DIV/0! | CY33: =(CU33)/CV33 -> #DIV/0! | DA33: 2025-05-16 | DE33: =DD33/DC33 -> #DIV/0! | DF33: =(DB33)/DC33 -> #DIV/0! | DG33: =DB33-DB32 -> 0 | DH33: =DC33-DC32 -> 0 | DI33: =DD33-DD32 -> 0 | DJ33: =DI33/DH33 -> #DIV/0! | DK33: =(DG33)/DH33 -> #DIV/0! | DM33: 2025-05-16 | DQ33: =DP33/DO33 -> #DIV/0! | DR33: =(DN33)/DO33 -> #DIV/0! | DS33: =DN33-DN32 -> 0 | DT33: =DO33-DO32 -> 0 | DU33: =DP33-DP32 -> 0 | DV33: =DU33/DT33 -> #DIV/0! | DW33: =(DS33)/DT33 -> #DIV/0! | EK33: 2025-05-16 | EO33: =EN33/EM33 -> #DIV/0! | EP33: =(EL33)/EM33 -> #DIV/0! | EQ33: =EL33-EL32 -> 0 | ER33: =EM33-EM32 -> 0 | ES33: =EN33-EN32 -> 0 | ET33: =ES33/ER33 -> #DIV/0! | EU33: =(EQ33)/ER33 -> #DIV/0! | EW33: 2025-05-16 | FA33: =EZ33/EY33 -> #DIV/0! | FB33: =EX33-EX32 -> 0 | FC33: =EY33-EY32 -> 0 | FD33: =EZ33-EZ32 -> 0 | FE33: =FD33/FC33 -> #DIV/0! | FG33: 2025-05-16 | FK33: =FJ33/FI33 -> #DIV/0! | FL33: =FH33-FH32 -> 0 | FM33: =FI33-FI32 -> 0 | FN33: =FJ33-FJ32 -> 0 | FO33: =FN33/FM33 -> #DIV/0! | FQ33: 2025-05-16 | FU33: =FT33/FS33 -> #DIV/0! | FV33: =FR33-FR32 -> 0 | FW33: =FS33-FS32 -> 0 | FX33: =FT33-FT32 -> 0 | FY33: =FX33/FW33 -> #DIV/0! | GA33: 2025-05-16 | GE33: =GD33/GC33 -> #DIV/0! | GF33: =GB33-GB32 -> 0 | GG33: =GC33-GC32 -> 0 | GH33: =GD33-GD32 -> 0 | GI33: =GH33/GG33 -> #DIV/0! | GK33: 2025-05-16 | GO33: =GN33/GM33 -> #DIV/0! | GP33: =GL33-GL32 -> 0 | GQ33: =GM33-GM32 -> 0 | GR33: =GN33-GN32 -> 0 | GS33: =GR33/GQ33 -> #DIV/0! | GU33: 2025-05-16 | GY33: =GX33/GW33 -> #DIV/0! | GZ33: =GV33-GV32 -> 0 | HA33: =GW33-GW32 -> 0 | HB33: =GX33-GX32 -> 0 | HC33: =HB33/HA33 -> #DIV/0! | HE33: 2025-05-16 | HI33: =HH33/HG33 -> #DIV/0! | HJ33: =HF33-HF32 -> 0 | HK33: =HG33-HG32 -> 0 | HL33: =HH33-HH32 -> 0 | HM33: =HL33/HK33 -> #DIV/0! | HO33: 2025-05-16 | HS33: =HR33/HQ33 -> #DIV/0! | HT33: =HP33-HP32 -> 0 | HU33: =HQ33-HQ32 -> 0 | HV33: =HR33-HR32 -> 0 | HW33: =HV33/HU33 -> #DIV/0! | HY33: 2025-05-16 | IC33: =IB33/IA33 -> #DIV/0! | ID33: =HZ33-HZ32 -> 0 | IE33: =IA33-IA32 -> 0 | IF33: =IB33-IB32 -> 0 | IG33: =IF33/IE33 -> #DIV/0!
A34: 2025-06-16 | B34: 224.74 | C34: 16646 | D34: 5385 | E34: =D34/C34 -> 0.32350114 | F34: =(B34)/C34 -> 0.013501141 | G34: =B34-B33 -> -24.72 | H34: =C34-C33 -> 378 | I34: =D34-D33 -> 112 | J34: =I34/H34 -> 0.2962963 | K34: =(G34)/H34 -> -0.065396825 | AG34: 2025-06-16 | AH34: 265.2 | AI34: 5654 | AJ34: 1812 | AK34: =AJ34/AI34 -> 0.32048108 | AL34: =(AH34)/AI34 -> 0.046904846 | AM34: =AH34-AH33 -> -16.93 | AN34: =AI34-AI33 -> 100 | AO34: =AJ34-AJ33 -> 25 | AP34: =AO34/AN34 -> 0.25 | AQ34: =(AM34)/AN34 -> -0.1693 | AS34: 2025-06-16 | AW34: =AV34/AU34 -> #DIV/0! | AX34: =(AT34)/AU34 -> #DIV/0! | AY34: =AT34-AT33 -> 0 | AZ34: =AU34-AU33 -> 0 | BA34: =AV34-AV33 -> 0 | BB34: =BA34/AZ34 -> #DIV/0! | BC34: =(AY34)/AZ34 -> #DIV/0! | BE34: 2025-06-16 | BF34: -2.16 | BG34: 261 | BH34: 26 | BI34: =BH34/BG34 -> 0.099616858 | BJ34: =(BF34)/BG34 -> -0.0082758621 | BK34: =BF34-BF33 -> -11.68 | BL34: =BG34-BG33 -> 55 | BM34: =BH34-BH33 -> 5 | BN34: =BM34/BL34 -> 0.090909091 | BO34: =(BK34)/BL34 -> -0.21236364 | BQ34: 2025-06-16 | BR34: -11.32 | BS34: 222 | BT34: 21 | BU34: =BT34/BS34 -> 0.094594595 | BV34: =(BR34)/BS34 -> -0.050990991 | BW34: =BR34-BR33 -> -2.86 | BX34: =BS34-BS33 -> 44 | BY34: =BT34-BT33 -> 4 | BZ34: =BY34/BX34 -> 0.090909091 | CA34: =(BW34)/BX34 -> -0.065 | CC34: 2025-06-16 | CG34: =CF34/CE34 -> #DIV/0! | CH34: =(CD34)/CE34 -> #DIV/0! | CI34: =CD34-CD33 -> 0 | CJ34: =CE34-CE33 -> 0 | CK34: =CF34-CF33 -> 0 | CL34: =CK34/CJ34 -> #DIV/0! | CM34: =(CI34)/CJ34 -> #DIV/0! | CO34: 2025-06-16 | CS34: =CR34/CQ34 -> #DIV/0! | CT34: =(CP34)/CQ34 -> #DIV/0! | CU34: =CP34-CP33 -> 0 | CV34: =CQ34-CQ33 -> 0 | CW34: =CR34-CR33 -> 0 | CX34: =CW34/CV34 -> #DIV/0! | CY34: =(CU34)/CV34 -> #DIV/0! | DA34: 2025-06-16 | DE34: =DD34/DC34 -> #DIV/0! | DF34: =(DB34)/DC34 -> #DIV/0! | DG34: =DB34-DB33 -> 0 | DH34: =DC34-DC33 -> 0 | DI34: =DD34-DD33 -> 0 | DJ34: =DI34/DH34 -> #DIV/0! | DK34: =(DG34)/DH34 -> #DIV/0! | DM34: 2025-06-16 | DQ34: =DP34/DO34 -> #DIV/0! | DR34: =(DN34)/DO34 -> #DIV/0! | DS34: =DN34-DN33 -> 0 | DT34: =DO34-DO33 -> 0 | DU34: =DP34-DP33 -> 0 | DV34: =DU34/DT34 -> #DIV/0! | DW34: =(DS34)/DT34 -> #DIV/0! | EK34: 2025-06-16 | EO34: =EN34/EM34 -> #DIV/0! | EP34: =(EL34)/EM34 -> #DIV/0! | EQ34: =EL34-EL33 -> 0 | ER34: =EM34-EM33 -> 0 | ES34: =EN34-EN33 -> 0 | ET34: =ES34/ER34 -> #DIV/0! | EU34: =(EQ34)/ER34 -> #DIV/0! | EW34: 2025-06-16 | FA34: =EZ34/EY34 -> #DIV/0! | FB34: =EX34-EX33 -> 0 | FC34: =EY34-EY33 -> 0 | FD34: =EZ34-EZ33 -> 0 | FE34: =FD34/FC34 -> #DIV/0! | FG34: 2025-06-16 | FK34: =FJ34/FI34 -> #DIV/0! | FL34: =FH34-FH33 -> 0 | FM34: =FI34-FI33 -> 0 | FN34: =FJ34-FJ33 -> 0 | FO34: =FN34/FM34 -> #DIV/0! | FQ34: 2025-06-16 | FU34: =FT34/FS34 -> #DIV/0! | FV34: =FR34-FR33 -> 0 | FW34: =FS34-FS33 -> 0 | FX34: =FT34-FT33 -> 0 | FY34: =FX34/FW34 -> #DIV/0! | GA34: 2025-06-16 | GE34: =GD34/GC34 -> #DIV/0! | GF34: =GB34-GB33 -> 0 | GG34: =GC34-GC33 -> 0 | GH34: =GD34-GD33 -> 0 | GI34: =GH34/GG34 -> #DIV/0! | GK34: 2025-06-16 | GO34: =GN34/GM34 -> #DIV/0! | GP34: =GL34-GL33 -> 0 | GQ34: =GM34-GM33 -> 0 | GR34: =GN34-GN33 -> 0 | GS34: =GR34/GQ34 -> #DIV/0! | GU34: 2025-06-16 | GY34: =GX34/GW34 -> #DIV/0! | GZ34: =GV34-GV33 -> 0 | HA34: =GW34-GW33 -> 0 | HB34: =GX34-GX33 -> 0 | HC34: =HB34/HA34 -> #DIV/0! | HE34: 2025-06-16 | HI34: =HH34/HG34 -> #DIV/0! | HJ34: =HF34-HF33 -> 0 | HK34: =HG34-HG33 -> 0 | HL34: =HH34-HH33 -> 0 | HM34: =HL34/HK34 -> #DIV/0! | HO34: 2025-06-16 | HS34: =HR34/HQ34 -> #DIV/0! | HT34: =HP34-HP33 -> 0 | HU34: =HQ34-HQ33 -> 0 | HV34: =HR34-HR33 -> 0 | HW34: =HV34/HU34 -> #DIV/0! | HY34: 2025-06-16 | IC34: =IB34/IA34 -> #DIV/0! | ID34: =HZ34-HZ33 -> 0 | IE34: =IA34-IA33 -> 0 | IF34: =IB34-IB33 -> 0 | IG34: =IF34/IE34 -> #DIV/0!
A35: 2025-07-15 | B35: 199.52 | C35: 16878 | D35: 5451 | E35: =D35/C35 -> 0.32296481 | F35: =(B35)/C35 -> 0.011821306 | G35: =B35-B34 -> -25.22 | H35: =C35-C34 -> 232 | I35: =D35-D34 -> 66 | J35: =I35/H35 -> 0.28448276 | K35: =(G35)/H35 -> -0.1087069 | M35: 2025-07-15 | N35: 369.91 | O35: 118 | P35: 63 | Q35: =P35/O35 -> 0.53389831 | R35: =N35-N34 -> 369.91 | S35: =O35-O34 -> 118 | T35: =P35-P34 -> 63 | U35: =T35/S35 -> 0.53389831 | W35: 2025-07-15 | X35: =N35/20 -> 18.4955 | Y35: =O35 -> 118 | Z35: =P35 -> 63 | AA35: =Z35/Y35 -> 0.53389831 | AB35: =X35-X34 -> 18.4955 | AC35: =Y35-Y34 -> 118 | AD35: =Z35-Z34 -> 63 | AE35: =AD35/AC35 -> 0.53389831 | AG35: 2025-07-15 | AH35: 263.08 | AI35: 5714 | AJ35: 1830 | AK35: =AJ35/AI35 -> 0.32026601 | AL35: =(AH35)/AI35 -> 0.046041302 | AM35: =AH35-AH34 -> -2.12 | AN35: =AI35-AI34 -> 60 | AO35: =AJ35-AJ34 -> 18 | AP35: =AO35/AN35 -> 0.3 | AQ35: =(AM35)/AN35 -> -0.035333333 | AS35: 2025-07-15 | AT35: 44.04 | AU35: 1873 | AV35: 919 | AW35: =AV35/AU35 -> 0.4906567 | AX35: =(AT35)/AU35 -> 0.023513081 | AY35: =AT35-AT34 -> 44.04 | AZ35: =AU35-AU34 -> 1873 | BA35: =AV35-AV34 -> 919 | BB35: =BA35/AZ35 -> 0.4906567 | BC35: =(AY35)/AZ35 -> 0.023513081 | BE35: 2025-07-15 | BF35: -26.62 | BG35: 300 | BH35: 28 | BI35: =BH35/BG35 -> 0.093333333 | BJ35: =(BF35)/BG35 -> -0.088733333 | BK35: =BF35-BF34 -> -24.46 | BL35: =BG35-BG34 -> 39 | BM35: =BH35-BH34 -> 2 | BN35: =BM35/BL35 -> 0.051282051 | BO35: =(BK35)/BL35 -> -0.62717949 | BQ35: 2025-07-15 | BR35: -31.52 | BS35: 253 | BT35: 22 | BU35: =BT35/BS35 -> 0.086956522 | BV35: =(BR35)/BS35 -> -0.12458498 | BW35: =BR35-BR34 -> -20.2 | BX35: =BS35-BS34 -> 31 | BY35: =BT35-BT34 -> 1 | BZ35: =BY35/BX35 -> 0.032258065 | CA35: =(BW35)/BX35 -> -0.6516129 | CC35: 2025-07-15 | CD35: 0.38 | CE35: 165 | CF35: 55 | CG35: =CF35/CE35 -> 0.33333333 | CH35: =(CD35)/CE35 -> 0.0023030303 | CI35: =CD35-CD34 -> 0.38 | CJ35: =CE35-CE34 -> 165 | CK35: =CF35-CF34 -> 55 | CL35: =CK35/CJ35 -> 0.33333333 | CM35: =(CI35)/CJ35 -> 0.0023030303 | CO35: 2025-07-15 | CP35: 0.12 | CQ35: 41 | CR35: 13 | CS35: =CR35/CQ35 -> 0.31707317 | CT35: =(CP35)/CQ35 -> 0.0029268293 | CU35: =CP35-CP34 -> 0.12 | CV35: =CQ35-CQ34 -> 41 | CW35: =CR35-CR34 -> 13 | CX35: =CW35/CV35 -> 0.31707317 | CY35: =(CU35)/CV35 -> 0.0029268293 | DA35: 2025-07-15 | DB35: -1.95 | DC35: 165 | DD35: 83 | DE35: =DD35/DC35 -> 0.5030303 | DF35: =(DB35)/DC35 -> -0.011818182 | DG35: =DB35-DB34 -> -1.95 | DH35: =DC35-DC34 -> 165 | DI35: =DD35-DD34 -> 83 | DJ35: =DI35/DH35 -> 0.5030303 | DK35: =(DG35)/DH35 -> -0.011818182 | DM35: 2025-07-15 | DN35: 8.46 | DO35: 165 | DP35: 79 | DQ35: =DP35/DO35 -> 0.47878788 | DR35: =(DN35)/DO35 -> 0.051272727 | DS35: =DN35-DN34 -> 8.46 | DT35: =DO35-DO34 -> 165 | DU35: =DP35-DP34 -> 79 | DV35: =DU35/DT35 -> 0.47878788 | DW35: =(DS35)/DT35 -> 0.051272727 | DY35: 2025-07-15 | DZ35: 23.86 | EA35: 165 | EB35: 90 | EC35: =EB35/EA35 -> 0.54545455 | ED35: =(DZ35)/EA35 -> 0.14460606 | EE35: =DZ35-DZ34 -> 23.86 | EF35: =EA35-EA34 -> 165 | EG35: =EB35-EB34 -> 90 | EH35: =EG35/EF35 -> 0.54545455 | EI35: =(EE35)/EF35 -> 0.14460606 | EK35: 2025-07-15 | EL35: 7.59 | EM35: 165 | EN35: 106 | EO35: =EN35/EM35 -> 0.64242424 | EP35: =(EL35)/EM35 -> 0.046 | EQ35: =EL35-EL34 -> 7.59 | ER35: =EM35-EM34 -> 165 | ES35: =EN35-EN34 -> 106 | ET35: =ES35/ER35 -> 0.64242424 | EU35: =(EQ35)/ER35 -> 0.046 | EW35: 2025-07-15 | FA35: =EZ35/EY35 -> #DIV/0! | FB35: =EX35-EX34 -> 0 | FC35: =EY35-EY34 -> 0 | FD35: =EZ35-EZ34 -> 0 | FE35: =FD35/FC35 -> #DIV/0! | FG35: 2025-07-15 | FK35: =FJ35/FI35 -> #DIV/0! | FL35: =FH35-FH34 -> 0 | FM35: =FI35-FI34 -> 0 | FN35: =FJ35-FJ34 -> 0 | FO35: =FN35/FM35 -> #DIV/0! | FQ35: 2025-07-15 | FU35: =FT35/FS35 -> #DIV/0! | FV35: =FR35-FR34 -> 0 | FW35: =FS35-FS34 -> 0 | FX35: =FT35-FT34 -> 0 | FY35: =FX35/FW35 -> #DIV/0! | GA35: 2025-07-15 | GE35: =GD35/GC35 -> #DIV/0! | GF35: =GB35-GB34 -> 0 | GG35: =GC35-GC34 -> 0 | GH35: =GD35-GD34 -> 0 | GI35: =GH35/GG35 -> #DIV/0! | GK35: 2025-07-15 | GO35: =GN35/GM35 -> #DIV/0! | GP35: =GL35-GL34 -> 0 | GQ35: =GM35-GM34 -> 0 | GR35: =GN35-GN34 -> 0 | GS35: =GR35/GQ35 -> #DIV/0! | GU35: 2025-07-15 | GY35: =GX35/GW35 -> #DIV/0! | GZ35: =GV35-GV34 -> 0 | HA35: =GW35-GW34 -> 0 | HB35: =GX35-GX34 -> 0 | HC35: =HB35/HA35 -> #DIV/0! | HE35: 2025-07-15 | HI35: =HH35/HG35 -> #DIV/0! | HJ35: =HF35-HF34 -> 0 | HK35: =HG35-HG34 -> 0 | HL35: =HH35-HH34 -> 0 | HM35: =HL35/HK35 -> #DIV/0! | HO35: 2025-07-15 | HS35: =HR35/HQ35 -> #DIV/0! | HT35: =HP35-HP34 -> 0 | HU35: =HQ35-HQ34 -> 0 | HV35: =HR35-HR34 -> 0 | HW35: =HV35/HU35 -> #DIV/0! | HY35: 2025-07-15 | IC35: =IB35/IA35 -> #DIV/0! | ID35: =HZ35-HZ34 -> 0 | IE35: =IA35-IA34 -> 0 | IF35: =IB35-IB34 -> 0 | IG35: =IF35/IE35 -> #DIV/0!
A36: 2025-08-13 | B36: 218.72 | C36: 17149 | D36: 5543 | E36: =D36/C36 -> 0.32322584 | F36: =(B36)/C36 -> 0.012754096 | G36: =B36-B35 -> 19.2 | H36: =C36-C35 -> 271 | I36: =D36-D35 -> 92 | J36: =I36/H36 -> 0.33948339 | K36: =(G36)/H36 -> 0.070848708 | M36: =DY36 -> 2025-08-13 | N36: 739.76 | O36: 272 | P36: 144 | Q36: =P36/O36 -> 0.52941176 | R36: =N36-N35 -> 369.85 | S36: =O36-O35 -> 154 | T36: =P36-P35 -> 81 | U36: =T36/S36 -> 0.52597403 | W36: =M36 -> 2025-08-13 | X36: =N36/20 -> 36.988 | Y36: =O36 -> 272 | Z36: =P36 -> 144 | AA36: =Z36/Y36 -> 0.52941176 | AB36: =X36-X35 -> 18.4925 | AC36: =Y36-Y35 -> 154 | AD36: =Z36-Z35 -> 81 | AE36: =AD36/AC36 -> 0.52597403 | AG36: 2025-08-13 | AH36: 270.67 | AI36: 5775 | AJ36: 1851 | AK36: =AJ36/AI36 -> 0.32051948 | AL36: =(AH36)/AI36 -> 0.046869264 | AM36: =AH36-AH35 -> 7.59 | AN36: =AI36-AI35 -> 61 | AO36: =AJ36-AJ35 -> 21 | AP36: =AO36/AN36 -> 0.3442623 | AQ36: =(AM36)/AN36 -> 0.12442623 | AS36: 2025-08-13 | AT36: 62.54 | AU36: 2094 | AV36: 1035 | AW36: =AV36/AU36 -> 0.49426934 | AX36: =(AT36)/AU36 -> 0.029866285 | AY36: =AT36-AT35 -> 18.5 | AZ36: =AU36-AU35 -> 221 | BA36: =AV36-AV35 -> 116 | BB36: =BA36/AZ36 -> 0.52488688 | BC36: =(AY36)/AZ36 -> 0.083710407 | BE36: 2025-08-13 | BF36: -9.7 | BG36: 342 | BH36: 34 | BI36: =BH36/BG36 -> 0.099415205 | BJ36: =(BF36)/BG36 -> -0.028362573 | BK36: =BF36-BF35 -> 16.92 | BL36: =BG36-BG35 -> 42 | BM36: =BH36-BH35 -> 6 | BN36: =BM36/BL36 -> 0.14285714 | BO36: =(BK36)/BL36 -> 0.40285714 | BQ36: 2025-08-13 | BR36: 9.37 | BS36: 291 | BT36: 27 | BU36: =BT36/BS36 -> 0.092783505 | BV36: =(BR36)/BS36 -> 0.032199313 | BW36: =BR36-BR35 -> 40.89 | BX36: =BS36-BS35 -> 38 | BY36: =BT36-BT35 -> 5 | BZ36: =BY36/BX36 -> 0.13157895 | CA36: =(BW36)/BX36 -> 1.0760526 | CC36: 2025-08-13 | CD36: 19.31 | CE36: 340 | CF36: 120 | CG36: =CF36/CE36 -> 0.35294118 | CH36: =(CD36)/CE36 -> 0.056794118 | CI36: =CD36-CD35 -> 18.93 | CJ36: =CE36-CE35 -> 175 | CK36: =CF36-CF35 -> 65 | CL36: =CK36/CJ36 -> 0.37142857 | CM36: =(CI36)/CJ36 -> 0.10817143 | CO36: 2025-08-13 | CP36: 36.31 | CQ36: 114 | CR36: 48 | CS36: =CR36/CQ36 -> 0.42105263 | CT36: =(CP36)/CQ36 -> 0.31850877 | CU36: =CP36-CP35 -> 36.19 | CV36: =CQ36-CQ35 -> 73 | CW36: =CR36-CR35 -> 35 | CX36: =CW36/CV36 -> 0.47945205 | CY36: =(CU36)/CV36 -> 0.49575342 | DA36: 2025-08-13 | DB36: -0.75 | DC36: 340 | DD36: 174 | DE36: =DD36/DC36 -> 0.51176471 | DF36: =(DB36)/DC36 -> -0.0022058824 | DG36: =DB36-DB35 -> 1.2 | DH36: =DC36-DC35 -> 175 | DI36: =DD36-DD35 -> 91 | DJ36: =DI36/DH36 -> 0.52 | DK36: =(DG36)/DH36 -> 0.0068571429 | DM36: 2025-08-13 | DN36: 17.54 | DO36: 340 | DP36: 162 | DQ36: =DP36/DO36 -> 0.47647059 | DR36: =(DN36)/DO36 -> 0.051588235 | DS36: =DN36-DN35 -> 9.08 | DT36: =DO36-DO35 -> 175 | DU36: =DP36-DP35 -> 83 | DV36: =DU36/DT36 -> 0.47428571 | DW36: =(DS36)/DT36 -> 0.051885714 | DY36: =A36 -> 2025-08-13 | DZ36: 43.13 | EA36: 340 | EB36: 183 | EC36: =EB36/EA36 -> 0.53823529 | ED36: =(DZ36)/EA36 -> 0.12685294 | EE36: =DZ36-DZ35 -> 19.27 | EF36: =EA36-EA35 -> 175 | EG36: =EB36-EB35 -> 93 | EH36: =EG36/EF36 -> 0.53142857 | EI36: =(EE36)/EF36 -> 0.11011429 | EK36: 2025-08-13 | EL36: 21.39 | EM36: 340 | EN36: 223 | EO36: =EN36/EM36 -> 0.65588235 | EP36: =(EL36)/EM36 -> 0.062911765 | EQ36: =EL36-EL35 -> 13.8 | ER36: =EM36-EM35 -> 175 | ES36: =EN36-EN35 -> 117 | ET36: =ES36/ER36 -> 0.66857143 | EU36: =(EQ36)/ER36 -> 0.078857143 | EW36: 2025-08-13 | FA36: =EZ36/EY36 -> #DIV/0! | FB36: =EX36-EX35 -> 0 | FC36: =EY36-EY35 -> 0 | FD36: =EZ36-EZ35 -> 0 | FE36: =FD36/FC36 -> #DIV/0! | FG36: 2025-08-13 | FK36: =FJ36/FI36 -> #DIV/0! | FL36: =FH36-FH35 -> 0 | FM36: =FI36-FI35 -> 0 | FN36: =FJ36-FJ35 -> 0 | FO36: =FN36/FM36 -> #DIV/0! | FQ36: 2025-08-13 | FU36: =FT36/FS36 -> #DIV/0! | FV36: =FR36-FR35 -> 0 | FW36: =FS36-FS35 -> 0 | FX36: =FT36-FT35 -> 0 | FY36: =FX36/FW36 -> #DIV/0! | GA36: 2025-08-13 | GE36: =GD36/GC36 -> #DIV/0! | GF36: =GB36-GB35 -> 0 | GG36: =GC36-GC35 -> 0 | GH36: =GD36-GD35 -> 0 | GI36: =GH36/GG36 -> #DIV/0! | GK36: 2025-08-13 | GO36: =GN36/GM36 -> #DIV/0! | GP36: =GL36-GL35 -> 0 | GQ36: =GM36-GM35 -> 0 | GR36: =GN36-GN35 -> 0 | GS36: =GR36/GQ36 -> #DIV/0! | GU36: 2025-08-13 | GY36: =GX36/GW36 -> #DIV/0! | GZ36: =GV36-GV35 -> 0 | HA36: =GW36-GW35 -> 0 | HB36: =GX36-GX35 -> 0 | HC36: =HB36/HA36 -> #DIV/0! | HE36: 2025-08-13 | HI36: =HH36/HG36 -> #DIV/0! | HJ36: =HF36-HF35 -> 0 | HK36: =HG36-HG35 -> 0 | HL36: =HH36-HH35 -> 0 | HM36: =HL36/HK36 -> #DIV/0! | HO36: 2025-08-13 | HS36: =HR36/HQ36 -> #DIV/0! | HT36: =HP36-HP35 -> 0 | HU36: =HQ36-HQ35 -> 0 | HV36: =HR36-HR35 -> 0 | HW36: =HV36/HU36 -> #DIV/0! | HY36: 2025-08-13 | IC36: =IB36/IA36 -> #DIV/0! | ID36: =HZ36-HZ35 -> 0 | IE36: =IA36-IA35 -> 0 | IF36: =IB36-IB35 -> 0 | IG36: =IF36/IE36 -> #DIV/0!
A37: 2025-09-15 | B37: 129.96 | C37: 17683 | D37: 5684 | E37: =D37/C37 -> 0.32143867 | F37: =(B37)/C37 -> 0.0073494317 | G37: =B37-B36 -> -88.76 | H37: =C37-C36 -> 534 | I37: =D37-D36 -> 141 | J37: =I37/H37 -> 0.26404494 | K37: =(G37)/H37 -> -0.16621723 | M37: =DY37 -> 2025-09-15 | N37: 779.31 | O37: 553 | P37: 273 | Q37: =P37/O37 -> 0.49367089 | R37: =N37-N36 -> 39.55 | S37: =O37-O36 -> 281 | T37: =P37-P36 -> 129 | U37: =T37/S37 -> 0.45907473 | W37: =M37 -> 2025-09-15 | X37: =N37/20 -> 38.9655 | Y37: =O37 -> 553 | Z37: =P37 -> 273 | AA37: =Z37/Y37 -> 0.49367089 | AB37: =X37-X36 -> 1.9775 | AC37: =Y37-Y36 -> 281 | AD37: =Z37-Z36 -> 129 | AE37: =AD37/AC37 -> 0.45907473 | AG37: 2025-09-15 | AH37: 258.53 | AI37: 5931 | AJ37: 1895 | AK37: =AJ37/AI37 -> 0.31950767 | AL37: =(AH37)/AI37 -> 0.043589614 | AM37: =AH37-AH36 -> -12.14 | AN37: =AI37-AI36 -> 156 | AO37: =AJ37-AJ36 -> 44 | AP37: =AO37/AN37 -> 0.28205128 | AQ37: =(AM37)/AN37 -> -0.077820513 | AS37: 2025-09-15 | AT37: 24.91 | AU37: 2574 | AV37: 1248 | AW37: =AV37/AU37 -> 0.48484848 | AX37: =(AT37)/AU37 -> 0.0096775447 | AY37: =AT37-AT36 -> -37.63 | AZ37: =AU37-AU36 -> 480 | BA37: =AV37-AV36 -> 213 | BB37: =BA37/AZ37 -> 0.44375 | BC37: =(AY37)/AZ37 -> -0.078395833 | BE37: 2025-09-15 | BF37: -8.7 | BG37: 441 | BH37: 46 | BI37: =BH37/BG37 -> 0.10430839 | BJ37: =(BF37)/BG37 -> -0.019727891 | BK37: =BF37-BF36 -> 1 | BL37: =BG37-BG36 -> 99 | BM37: =BH37-BH36 -> 12 | BN37: =BM37/BL37 -> 0.12121212 | BO37: =(BK37)/BL37 -> 0.01010101 | BQ37: 2025-09-15 | BR37: 16.85 | BS37: 373 | BT37: 37 | BU37: =BT37/BS37 -> 0.09919571 | BV37: =(BR37)/BS37 -> 0.045174263 | BW37: =BR37-BR36 -> 7.48 | BX37: =BS37-BS36 -> 82 | BY37: =BT37-BT36 -> 10 | BZ37: =BY37/BX37 -> 0.12195122 | CA37: =(BW37)/BX37 -> 0.091219512 | CC37: 2025-09-15 | CD37: 35.38 | CE37: 652 | CF37: 230 | CG37: =CF37/CE37 -> 0.35276074 | CH37: =(CD37)/CE37 -> 0.054263804 | CI37: =CD37-CD36 -> 16.07 | CJ37: =CE37-CE36 -> 312 | CK37: =CF37-CF36 -> 110 | CL37: =CK37/CJ37 -> 0.3525641 | CM37: =(CI37)/CJ37 -> 0.05150641 | CO37: 2025-09-15 | CP37: 23.28 | CQ37: 206 | CR37: 74 | CS37: =CR37/CQ37 -> 0.3592233 | CT37: =(CP37)/CQ37 -> 0.11300971 | CU37: =CP37-CP36 -> -13.03 | CV37: =CQ37-CQ36 -> 92 | CW37: =CR37-CR36 -> 26 | CX37: =CW37/CV37 -> 0.2826087 | CY37: =(CU37)/CV37 -> -0.14163043 | DA37: 2025-09-15 | DB37: -5.31 | DC37: 652 | DD37: 332 | DE37: =DD37/DC37 -> 0.50920245 | DF37: =(DB37)/DC37 -> -0.0081441718 | DG37: =DB37-DB36 -> -4.56 | DH37: =DC37-DC36 -> 312 | DI37: =DD37-DD36 -> 158 | DJ37: =DI37/DH37 -> 0.50641026 | DK37: =(DG37)/DH37 -> -0.014615385 | DM37: 2025-09-15 | DN37: 13.2 | DO37: 652 | DP37: 299 | DQ37: =DP37/DO37 -> 0.45858896 | DR37: =(DN37)/DO37 -> 0.020245399 | DS37: =DN37-DN36 -> -4.34 | DT37: =DO37-DO36 -> 312 | DU37: =DP37-DP36 -> 137 | DV37: =DU37/DT37 -> 0.43910256 | DW37: =(DS37)/DT37 -> -0.013910256 | DY37: =A37 -> 2025-09-15 | DZ37: 47.44 | EA37: 652 | EB37: 329 | EC37: =EB37/EA37 -> 0.50460123 | ED37: =(DZ37)/EA37 -> 0.072760736 | EE37: =DZ37-DZ36 -> 4.31 | EF37: =EA37-EA36 -> 312 | EG37: =EB37-EB36 -> 146 | EH37: =EG37/EF37 -> 0.46794872 | EI37: =(EE37)/EF37 -> 0.013814103 | EK37: 2025-09-15 | EL37: 22.73 | EM37: 652 | EN37: 408 | EO37: =EN37/EM37 -> 0.62576687 | EP37: =(EL37)/EM37 -> 0.034861963 | EQ37: =EL37-EL36 -> 1.34 | ER37: =EM37-EM36 -> 312 | ES37: =EN37-EN36 -> 185 | ET37: =ES37/ER37 -> 0.59294872 | EU37: =(EQ37)/ER37 -> 0.0042948718 | EW37: 2025-09-15 | FA37: =EZ37/EY37 -> #DIV/0! | FB37: =EX37-EX36 -> 0 | FC37: =EY37-EY36 -> 0 | FD37: =EZ37-EZ36 -> 0 | FE37: =FD37/FC37 -> #DIV/0! | FG37: 2025-09-15 | FK37: =FJ37/FI37 -> #DIV/0! | FL37: =FH37-FH36 -> 0 | FM37: =FI37-FI36 -> 0 | FN37: =FJ37-FJ36 -> 0 | FO37: =FN37/FM37 -> #DIV/0! | FQ37: 2025-09-15 | FU37: =FT37/FS37 -> #DIV/0! | FV37: =FR37-FR36 -> 0 | FW37: =FS37-FS36 -> 0 | FX37: =FT37-FT36 -> 0 | FY37: =FX37/FW37 -> #DIV/0! | GA37: 2025-09-15 | GE37: =GD37/GC37 -> #DIV/0! | GF37: =GB37-GB36 -> 0 | GG37: =GC37-GC36 -> 0 | GH37: =GD37-GD36 -> 0 | GI37: =GH37/GG37 -> #DIV/0! | GK37: 2025-09-15 | GO37: =GN37/GM37 -> #DIV/0! | GP37: =GL37-GL36 -> 0 | GQ37: =GM37-GM36 -> 0 | GR37: =GN37-GN36 -> 0 | GS37: =GR37/GQ37 -> #DIV/0! | GU37: 2025-09-15 | GY37: =GX37/GW37 -> #DIV/0! | GZ37: =GV37-GV36 -> 0 | HA37: =GW37-GW36 -> 0 | HB37: =GX37-GX36 -> 0 | HC37: =HB37/HA37 -> #DIV/0! | HE37: 2025-09-15 | HI37: =HH37/HG37 -> #DIV/0! | HJ37: =HF37-HF36 -> 0 | HK37: =HG37-HG36 -> 0 | HL37: =HH37-HH36 -> 0 | HM37: =HL37/HK37 -> #DIV/0! | HO37: 2025-09-15 | HS37: =HR37/HQ37 -> #DIV/0! | HT37: =HP37-HP36 -> 0 | HU37: =HQ37-HQ36 -> 0 | HV37: =HR37-HR36 -> 0 | HW37: =HV37/HU37 -> #DIV/0! | HY37: 2025-09-15 | IC37: =IB37/IA37 -> #DIV/0! | ID37: =HZ37-HZ36 -> 0 | IE37: =IA37-IA36 -> 0 | IF37: =IB37-IB36 -> 0 | IG37: =IF37/IE37 -> #DIV/0!
A38: 2025-10-15 | B38: 163.12 | C38: 18046 | D38: 5810 | E38: =D38/C38 -> 0.321955 | F38: =(B38)/C38 -> 0.0090391222 | G38: =B38-B37 -> 33.16 | H38: =C38-C37 -> 363 | I38: =D38-D37 -> 126 | J38: =I38/H38 -> 0.34710744 | K38: =(G38)/H38 -> 0.091349862 | M38: =DY38 -> 2025-10-15 | N38: 1144.19 | O38: 754 | P38: 374 | Q38: =P38/O38 -> 0.49602122 | R38: =N38-N37 -> 364.88 | S38: =O38-O37 -> 201 | T38: =P38-P37 -> 101 | U38: =T38/S38 -> 0.50248756 | W38: =M38 -> 2025-10-15 | X38: =N38/20 -> 57.2095 | Y38: =O38 -> 754 | Z38: =P38 -> 374 | AA38: =Z38/Y38 -> 0.49602122 | AB38: =X38-X37 -> 18.244 | AC38: =Y38-Y37 -> 201 | AD38: =Z38-Z37 -> 101 | AE38: =AD38/AC38 -> 0.50248756 | AG38: 2025-10-15 | AH38: 271.78 | AI38: 6026 | AJ38: 1928 | AK38: =AJ38/AI38 -> 0.3199469 | AL38: =(AH38)/AI38 -> 0.045101228 | AM38: =AH38-AH37 -> 13.25 | AN38: =AI38-AI37 -> 95 | AO38: =AJ38-AJ37 -> 33 | AP38: =AO38/AN38 -> 0.34736842 | AQ38: =(AM38)/AN38 -> 0.13947368 | AS38: 2025-10-15 | AT38: 35.69 | AU38: 2813 | AV38: 1368 | AW38: =AV38/AU38 -> 0.48631354 | AX38: =(AT38)/AU38 -> 0.012687522 | AY38: =AT38-AT37 -> 10.78 | AZ38: =AU38-AU37 -> 239 | BA38: =AV38-AV37 -> 120 | BB38: =BA38/AZ38 -> 0.50209205 | BC38: =(AY38)/AZ38 -> 0.045104603 | BE38: 2025-10-15 | BF38: 9.93 | BG38: 501 | BH38: 54 | BI38: =BH38/BG38 -> 0.10778443 | BJ38: =(BF38)/BG38 -> 0.019820359 | BK38: =BF38-BF37 -> 18.63 | BL38: =BG38-BG37 -> 60 | BM38: =BH38-BH37 -> 8 | BN38: =BM38/BL38 -> 0.13333333 | BO38: =(BK38)/BL38 -> 0.3105 | BQ38: 2025-10-15 | BR38: 33.49 | BS38: 424 | BT38: 43 | BU38: =BT38/BS38 -> 0.10141509 | BV38: =(BR38)/BS38 -> 0.078985849 | BW38: =BR38-BR37 -> 16.64 | BX38: =BS38-BS37 -> 51 | BY38: =BT38-BT37 -> 6 | BZ38: =BY38/BX38 -> 0.11764706 | CA38: =(BW38)/BX38 -> 0.32627451 | CC38: 2025-10-15 | CD38: 67.3 | CE38: 883 | CF38: 319 | CG38: =CF38/CE38 -> 0.3612684 | CH38: =(CD38)/CE38 -> 0.076217441 | CI38: =CD38-CD37 -> 31.92 | CJ38: =CE38-CE37 -> 231 | CK38: =CF38-CF37 -> 89 | CL38: =CK38/CJ38 -> 0.38528139 | CM38: =(CI38)/CJ38 -> 0.13818182 | CO38: 2025-10-15 | CP38: 24.05 | CQ38: 380 | CR38: 130 | CS38: =CR38/CQ38 -> 0.34210526 | CT38: =(CP38)/CQ38 -> 0.063289474 | CU38: =CP38-CP37 -> 0.77 | CV38: =CQ38-CQ37 -> 174 | CW38: =CR38-CR37 -> 56 | CX38: =CW38/CV38 -> 0.32183908 | CY38: =(CU38)/CV38 -> 0.0044252874 | DA38: 2025-10-15 | DB38: 19.02 | DC38: 883 | DD38: 463 | DE38: =DD38/DC38 -> 0.52434881 | DF38: =(DB38)/DC38 -> 0.021540204 | DG38: =DB38-DB37 -> 24.33 | DH38: =DC38-DC37 -> 231 | DI38: =DD38-DD37 -> 131 | DJ38: =DI38/DH38 -> 0.56709957 | DK38: =(DG38)/DH38 -> 0.10532468 | DM38: 2025-10-15 | DN38: 41.93 | DO38: 883 | DP38: 414 | DQ38: =DP38/DO38 -> 0.46885617 | DR38: =(DN38)/DO38 -> 0.047485844 | DS38: =DN38-DN37 -> 28.73 | DT38: =DO38-DO37 -> 231 | DU38: =DP38-DP37 -> 115 | DV38: =DU38/DT38 -> 0.4978355 | DW38: =(DS38)/DT38 -> 0.12437229 | DY38: =A38 -> 2025-10-15 | DZ38: 60 | EA38: 883 | EB38: 446 | EC38: =EB38/EA38 -> 0.50509626 | ED38: =(DZ38)/EA38 -> 0.06795017 | EE38: =DZ38-DZ37 -> 12.56 | EF38: =EA38-EA37 -> 231 | EG38: =EB38-EB37 -> 117 | EH38: =EG38/EF38 -> 0.50649351 | EI38: =(EE38)/EF38 -> 0.054372294 | EK38: 2025-10-15 | EL38: 43.22 | EM38: 883 | EN38: 565 | EO38: =EN38/EM38 -> 0.6398641 | EP38: =(EL38)/EM38 -> 0.048946772 | EQ38: =EL38-EL37 -> 20.49 | ER38: =EM38-EM37 -> 231 | ES38: =EN38-EN37 -> 157 | ET38: =ES38/ER38 -> 0.67965368 | EU38: =(EQ38)/ER38 -> 0.088701299 | EW38: 2025-10-15 | FA38: =EZ38/EY38 -> #DIV/0! | FB38: =EX38-EX37 -> 0 | FC38: =EY38-EY37 -> 0 | FD38: =EZ38-EZ37 -> 0 | FE38: =FD38/FC38 -> #DIV/0! | FG38: 2025-10-15 | FK38: =FJ38/FI38 -> #DIV/0! | FL38: =FH38-FH37 -> 0 | FM38: =FI38-FI37 -> 0 | FN38: =FJ38-FJ37 -> 0 | FO38: =FN38/FM38 -> #DIV/0! | FQ38: 2025-10-15 | FU38: =FT38/FS38 -> #DIV/0! | FV38: =FR38-FR37 -> 0 | FW38: =FS38-FS37 -> 0 | FX38: =FT38-FT37 -> 0 | FY38: =FX38/FW38 -> #DIV/0! | GA38: 2025-10-15 | GE38: =GD38/GC38 -> #DIV/0! | GF38: =GB38-GB37 -> 0 | GG38: =GC38-GC37 -> 0 | GH38: =GD38-GD37 -> 0 | GI38: =GH38/GG38 -> #DIV/0! | GK38: 2025-10-15 | GO38: =GN38/GM38 -> #DIV/0! | GP38: =GL38-GL37 -> 0 | GQ38: =GM38-GM37 -> 0 | GR38: =GN38-GN37 -> 0 | GS38: =GR38/GQ38 -> #DIV/0! | GU38: 2025-10-15 | GY38: =GX38/GW38 -> #DIV/0! | GZ38: =GV38-GV37 -> 0 | HA38: =GW38-GW37 -> 0 | HB38: =GX38-GX37 -> 0 | HC38: =HB38/HA38 -> #DIV/0! | HE38: 2025-10-15 | HI38: =HH38/HG38 -> #DIV/0! | HJ38: =HF38-HF37 -> 0 | HK38: =HG38-HG37 -> 0 | HL38: =HH38-HH37 -> 0 | HM38: =HL38/HK38 -> #DIV/0! | HO38: 2025-10-15 | HS38: =HR38/HQ38 -> #DIV/0! | HT38: =HP38-HP37 -> 0 | HU38: =HQ38-HQ37 -> 0 | HV38: =HR38-HR37 -> 0 | HW38: =HV38/HU38 -> #DIV/0! | HY38: 2025-10-15 | IC38: =IB38/IA38 -> #DIV/0! | ID38: =HZ38-HZ37 -> 0 | IE38: =IA38-IA37 -> 0 | IF38: =IB38-IB37 -> 0 | IG38: =IF38/IE38 -> #DIV/0!
A39: 2025-11-14 | B39: 156.07 | C39: 18308 | D39: 5891 | E39: =D39/C39 -> 0.3217719 | F39: =(B39)/C39 -> 0.0085246887 | G39: =B39-B38 -> -7.05 | H39: =C39-C38 -> 262 | I39: =D39-D38 -> 81 | J39: =I39/H39 -> 0.30916031 | K39: =(G39)/H39 -> -0.026908397 | M39: =DY39 -> 2025-11-14 | N39: 1129.2 | O39: 885 | P39: 431 | Q39: =P39/O39 -> 0.48700565 | R39: =N39-N38 -> -14.99 | S39: =O39-O38 -> 131 | T39: =P39-P38 -> 57 | U39: =T39/S39 -> 0.4351145 | W39: =M39 -> 2025-11-14 | X39: =N39/20 -> 56.46 | Y39: =O39 -> 885 | Z39: =P39 -> 431 | AA39: =Z39/Y39 -> 0.48700565 | AB39: =X39-X38 -> -0.7495 | AC39: =Y39-Y38 -> 131 | AD39: =Z39-Z38 -> 57 | AE39: =AD39/AC39 -> 0.4351145 | AG39: 2025-11-14 | AH39: 275.73 | AI39: 6082 | AJ39: 1946 | AK39: =AJ39/AI39 -> 0.31996054 | AL39: =(AH39)/AI39 -> 0.045335416 | AM39: =AH39-AH38 -> 3.95 | AN39: =AI39-AI38 -> 56 | AO39: =AJ39-AJ38 -> 18 | AP39: =AO39/AN39 -> 0.32142857 | AQ39: =(AM39)/AN39 -> 0.070535714 | AS39: 2025-11-14 | AT39: 33.23 | AU39: 2824 | AV39: 1372 | AW39: =AV39/AU39 -> 0.48583569 | AX39: =(AT39)/AU39 -> 0.011766997 | AY39: =AT39-AT38 -> -2.46 | AZ39: =AU39-AU38 -> 11 | BA39: =AV39-AV38 -> 4 | BB39: =BA39/AZ39 -> 0.36363636 | BC39: =(AY39)/AZ39 -> -0.22363636 | BE39: 2025-11-14 | BF39: -5.52 | BG39: 542 | BH39: 57 | BI39: =BH39/BG39 -> 0.10516605 | BJ39: =(BF39)/BG39 -> -0.010184502 | BK39: =BF39-BF38 -> -15.45 | BL39: =BG39-BG38 -> 41 | BM39: =BH39-BH38 -> 3 | BN39: =BM39/BL39 -> 0.073170732 | BO39: =(BK39)/BL39 -> -0.37682927 | BQ39: 2025-11-14 | BR39: 36.99 | BS39: 458 | BT39: 46 | BU39: =BT39/BS39 -> 0.10043668 | BV39: =(BR39)/BS39 -> 0.080764192 | BW39: =BR39-BR38 -> 3.5 | BX39: =BS39-BS38 -> 34 | BY39: =BT39-BT38 -> 3 | BZ39: =BY39/BX39 -> 0.088235294 | CA39: =(BW39)/BX39 -> 0.10294118 | CC39: 2025-11-14 | CD39: 72.09 | CE39: 1025 | CF39: 368 | CG39: =CF39/CE39 -> 0.35902439 | CH39: =(CD39)/CE39 -> 0.070331707 | CI39: =CD39-CD38 -> 4.79 | CJ39: =CE39-CE38 -> 142 | CK39: =CF39-CF38 -> 49 | CL39: =CK39/CJ39 -> 0.34507042 | CM39: =(CI39)/CJ39 -> 0.033732394 | CO39: 2025-11-14 | CP39: 14.3 | CQ39: 695 | CR39: 533 | CS39: =CR39/CQ39 -> 0.76690647 | CT39: =(CP39)/CQ39 -> 0.02057554 | CU39: =CP39-CP38 -> -9.75 | CV39: =CQ39-CQ38 -> 315 | CW39: =CR39-CR38 -> 403 | CX39: =CW39/CV39 -> 1.2793651 | CY39: =(CU39)/CV39 -> -0.030952381 | DA39: 2025-11-14 | DB39: 11.61 | DC39: 1025 | DD39: 533 | DE39: =DD39/DC39 -> 0.52 | DF39: =(DB39)/DC39 -> 0.011326829 | DG39: =DB39-DB38 -> -7.41 | DH39: =DC39-DC38 -> 142 | DI39: =DD39-DD38 -> 70 | DJ39: =DI39/DH39 -> 0.49295775 | DK39: =(DG39)/DH39 -> -0.052183099 | DM39: 2025-11-14 | DN39: 40.57 | DO39: 1025 | DP39: 470 | DQ39: =DP39/DO39 -> 0.45853659 | DR39: =(DN39)/DO39 -> 0.039580488 | DS39: =DN39-DN38 -> -1.36 | DT39: =DO39-DO38 -> 142 | DU39: =DP39-DP38 -> 56 | DV39: =DU39/DT39 -> 0.3943662 | DW39: =(DS39)/DT39 -> -0.0095774648 | DY39: =A39 -> 2025-11-14 | DZ39: 50.3 | EA39: 1025 | EB39: 505 | EC39: =EB39/EA39 -> 0.49268293 | ED39: =(DZ39)/EA39 -> 0.049073171 | EE39: =DZ39-DZ38 -> -9.7 | EF39: =EA39-EA38 -> 142 | EG39: =EB39-EB38 -> 59 | EH39: =EG39/EF39 -> 0.41549296 | EI39: =(EE39)/EF39 -> -0.068309859 | EK39: 2025-11-14 | EL39: 27.95 | EM39: 1025 | EN39: 642 | EO39: =EN39/EM39 -> 0.62634146 | EP39: =(EL39)/EM39 -> 0.027268293 | EQ39: =EL39-EL38 -> -15.27 | ER39: =EM39-EM38 -> 142 | ES39: =EN39-EN38 -> 77 | ET39: =ES39/ER39 -> 0.54225352 | EU39: =(EQ39)/ER39 -> -0.10753521 | EW39: 2025-11-14 | FA39: =EZ39/EY39 -> #DIV/0! | FB39: =EX39-EX38 -> 0 | FC39: =EY39-EY38 -> 0 | FD39: =EZ39-EZ38 -> 0 | FE39: =FD39/FC39 -> #DIV/0! | FG39: 2025-11-14 | FK39: =FJ39/FI39 -> #DIV/0! | FL39: =FH39-FH38 -> 0 | FM39: =FI39-FI38 -> 0 | FN39: =FJ39-FJ38 -> 0 | FO39: =FN39/FM39 -> #DIV/0! | FQ39: 2025-11-14 | FU39: =FT39/FS39 -> #DIV/0! | FV39: =FR39-FR38 -> 0 | FW39: =FS39-FS38 -> 0 | FX39: =FT39-FT38 -> 0 | FY39: =FX39/FW39 -> #DIV/0! | GA39: 2025-11-14 | GE39: =GD39/GC39 -> #DIV/0! | GF39: =GB39-GB38 -> 0 | GG39: =GC39-GC38 -> 0 | GH39: =GD39-GD38 -> 0 | GI39: =GH39/GG39 -> #DIV/0! | GK39: 2025-11-14 | GO39: =GN39/GM39 -> #DIV/0! | GP39: =GL39-GL38 -> 0 | GQ39: =GM39-GM38 -> 0 | GR39: =GN39-GN38 -> 0 | GS39: =GR39/GQ39 -> #DIV/0! | GU39: 2025-11-14 | GY39: =GX39/GW39 -> #DIV/0! | GZ39: =GV39-GV38 -> 0 | HA39: =GW39-GW38 -> 0 | HB39: =GX39-GX38 -> 0 | HC39: =HB39/HA39 -> #DIV/0! | HE39: 2025-11-14 | HI39: =HH39/HG39 -> #DIV/0! | HJ39: =HF39-HF38 -> 0 | HK39: =HG39-HG38 -> 0 | HL39: =HH39-HH38 -> 0 | HM39: =HL39/HK39 -> #DIV/0! | HO39: 2025-11-14 | HS39: =HR39/HQ39 -> #DIV/0! | HT39: =HP39-HP38 -> 0 | HU39: =HQ39-HQ38 -> 0 | HV39: =HR39-HR38 -> 0 | HW39: =HV39/HU39 -> #DIV/0! | HY39: 2025-11-14 | IC39: =IB39/IA39 -> #DIV/0! | ID39: =HZ39-HZ38 -> 0 | IE39: =IA39-IA38 -> 0 | IF39: =IB39-IB38 -> 0 | IG39: =IF39/IE39 -> #DIV/0!
A40: 2025-12-15 | B40: 159.02 | C40: 18542 | D40: 5965 | E40: =D40/C40 -> 0.32170208 | F40: =(B40)/C40 -> 0.0085762054 | G40: =B40-B39 -> 2.95 | H40: =C40-C39 -> 234 | I40: =D40-D39 -> 74 | J40: =I40/H40 -> 0.31623932 | K40: =(G40)/H40 -> 0.012606838 | M40: =DY40 -> 2025-12-15 | N40: 979.37 | O40: 1039 | P40: 500 | Q40: =P40/O40 -> 0.48123195 | R40: =N40-N39 -> -149.83 | S40: =O40-O39 -> 154 | T40: =P40-P39 -> 69 | U40: =T40/S40 -> 0.44805195 | W40: =M40 -> 2025-12-15 | X40: =N40/20 -> 48.9685 | Y40: =O40 -> 1039 | Z40: =P40 -> 500 | AA40: =Z40/Y40 -> 0.48123195 | AB40: =X40-X39 -> -7.4915 | AC40: =Y40-Y39 -> 154 | AD40: =Z40-Z39 -> 69 | AE40: =AD40/AC40 -> 0.44805195 | AG40: 2025-12-15 | AH40: 258.88 | AI40: 6148 | AJ40: 1961 | AK40: =AJ40/AI40 -> 0.31896552 | AL40: =(AH40)/AI40 -> 0.042108003 | AM40: =AH40-AH39 -> -16.85 | AN40: =AI40-AI39 -> 66 | AO40: =AJ40-AJ39 -> 15 | AP40: =AO40/AN40 -> 0.22727273 | AQ40: =(AM40)/AN40 -> -0.25530303 | AS40: 2025-12-15 | AT40: 38.87 | AU40: 3082 | AV40: 1497 | AW40: =AV40/AU40 -> 0.48572356 | AX40: =(AT40)/AU40 -> 0.01261194 | AY40: =AT40-AT39 -> 5.64 | AZ40: =AU40-AU39 -> 258 | BA40: =AV40-AV39 -> 125 | BB40: =BA40/AZ40 -> 0.48449612 | BC40: =(AY40)/AZ40 -> 0.021860465 | BE40: 2025-12-15 | BF40: 4.28 | BG40: 595 | BH40: 62 | BI40: =BH40/BG40 -> 0.10420168 | BJ40: =(BF40)/BG40 -> 0.0071932773 | BK40: =BF40-BF39 -> 9.8 | BL40: =BG40-BG39 -> 53 | BM40: =BH40-BH39 -> 5 | BN40: =BM40/BL40 -> 0.094339623 | BO40: =(BK40)/BL40 -> 0.18490566 | BQ40: 2025-12-15 | BR40: 70.29 | BS40: 500 | BT40: 50 | BU40: =BT40/BS40 -> 0.1 | BV40: =(BR40)/BS40 -> 0.14058 | BW40: =BR40-BR39 -> 33.3 | BX40: =BS40-BS39 -> 42 | BY40: =BT40-BT39 -> 4 | BZ40: =BY40/BX40 -> 0.095238095 | CA40: =(BW40)/BX40 -> 0.79285714 | CC40: 2025-12-15 | CD40: 53.04 | CE40: 1222 | CF40: 428 | CG40: =CF40/CE40 -> 0.3502455 | CH40: =(CD40)/CE40 -> 0.043404255 | CI40: =CD40-CD39 -> -19.05 | CJ40: =CE40-CE39 -> 197 | CK40: =CF40-CF39 -> 60 | CL40: =CK40/CJ40 -> 0.30456853 | CM40: =(CI40)/CJ40 -> -0.096700508 | CO40: 2025-12-15 | CP40: 29.1 | CQ40: 1102 | CR40: 364 | CS40: =CR40/CQ40 -> 0.33030853 | CT40: =(CP40)/CQ40 -> 0.026406534 | CU40: =CP40-CP39 -> 14.8 | CV40: =CQ40-CQ39 -> 407 | CW40: =CR40-CR39 -> -169 | CX40: =CW40/CV40 -> -0.41523342 | CY40: =(CU40)/CV40 -> 0.036363636 | DA40: 2025-12-15 | DB40: -2.22 | DC40: 1222 | DD40: 627 | DE40: =DD40/DC40 -> 0.51309329 | DF40: =(DB40)/DC40 -> -0.0018166939 | DG40: =DB40-DB39 -> -13.83 | DH40: =DC40-DC39 -> 197 | DI40: =DD40-DD39 -> 94 | DJ40: =DI40/DH40 -> 0.47715736 | DK40: =(DG40)/DH40 -> -0.070203046 | DM40: 2025-12-15 | DN40: 26.47 | DO40: 1222 | DP40: 549 | DQ40: =DP40/DO40 -> 0.4492635 | DR40: =(DN40)/DO40 -> 0.021661211 | DS40: =DN40-DN39 -> -14.1 | DT40: =DO40-DO39 -> 197 | DU40: =DP40-DP39 -> 79 | DV40: =DU40/DT40 -> 0.40101523 | DW40: =(DS40)/DT40 -> -0.071573604 | DY40: =A40 -> 2025-12-15 | DZ40: 46.89 | EA40: 1192 | EB40: 583 | EC40: =EB40/EA40 -> 0.48909396 | ED40: =(DZ40)/EA40 -> 0.039337248 | EE40: =DZ40-DZ39 -> -3.41 | EF40: =EA40-EA39 -> 167 | EG40: =EB40-EB39 -> 78 | EH40: =EG40/EF40 -> 0.46706587 | EI40: =(EE40)/EF40 -> -0.020419162 | EK40: 2025-12-15 | EL40: 40.83 | EM40: 1222 | EN40: 594 | EO40: =EN40/EM40 -> 0.48608838 | EP40: =(EL40)/EM40 -> 0.033412439 | EQ40: =EL40-EL39 -> 12.88 | ER40: =EM40-EM39 -> 197 | ES40: =EN40-EN39 -> -48 | ET40: =ES40/ER40 -> -0.24365482 | EU40: =(EQ40)/ER40 -> 0.065380711 | EW40: 2025-12-15 | EX40: -2.18 | EY40: 254 | EZ40: 80 | FA40: =EZ40/EY40 -> 0.31496063 | FB40: =EX40-EX39 -> -2.18 | FC40: =EY40-EY39 -> 254 | FD40: =EZ40-EZ39 -> 80 | FE40: =FD40/FC40 -> 0.31496063 | FG40: 2025-12-15 | FH40: -13.8 | FI40: 71 | FJ40: 18 | FK40: =FJ40/FI40 -> 0.25352113 | FL40: =FH40-FH39 -> -13.8 | FM40: =FI40-FI39 -> 71 | FN40: =FJ40-FJ39 -> 18 | FO40: =FN40/FM40 -> 0.25352113 | FQ40: 2025-12-15 | FR40: -21.56 | FS40: 191 | FT40: 58 | FU40: =FT40/FS40 -> 0.30366492 | FV40: =FR40-FR39 -> -21.56 | FW40: =FS40-FS39 -> 191 | FX40: =FT40-FT39 -> 58 | FY40: =FX40/FW40 -> 0.30366492 | GA40: 2025-12-15 | GB40: -28.58 | GC40: 191 | GD40: 70 | GE40: =GD40/GC40 -> 0.36649215 | GF40: =GB40-GB39 -> -28.58 | GG40: =GC40-GC39 -> 191 | GH40: =GD40-GD39 -> 70 | GI40: =GH40/GG40 -> 0.36649215 | GK40: 2025-12-15 | GL40: -25.13 | GM40: 191 | GN40: 72 | GO40: =GN40/GM40 -> 0.37696335 | GP40: =GL40-GL39 -> -25.13 | GQ40: =GM40-GM39 -> 191 | GR40: =GN40-GN39 -> 72 | GS40: =GR40/GQ40 -> 0.37696335 | GU40: 2025-12-15 | GV40: 12.24 | GW40: 200 | GX40: 96 | GY40: =GX40/GW40 -> 0.48 | GZ40: =GV40-GV39 -> 12.24 | HA40: =GW40-GW39 -> 200 | HB40: =GX40-GX39 -> 96 | HC40: =HB40/HA40 -> 0.48 | HE40: 2025-12-15 | HF40: 3.16 | HG40: 25 | HH40: 3 | HI40: =HH40/HG40 -> 0.12 | HJ40: =HF40-HF39 -> 3.16 | HK40: =HG40-HG39 -> 25 | HL40: =HH40-HH39 -> 3 | HM40: =HL40/HK40 -> 0.12 | HO40: 2025-12-15 | HP40: -0.95 | HQ40: 19 | HR40: 1 | HS40: =HR40/HQ40 -> 0.052631579 | HT40: =HP40-HP39 -> -0.95 | HU40: =HQ40-HQ39 -> 19 | HV40: =HR40-HR39 -> 1 | HW40: =HV40/HU40 -> 0.052631579 | HY40: 2025-12-15 | HZ40: -0.95 | IA40: 227 | IB40: 146 | IC40: =IB40/IA40 -> 0.64317181 | ID40: =HZ40-HZ39 -> -0.95 | IE40: =IA40-IA39 -> 227 | IF40: =IB40-IB39 -> 146 | IG40: =IF40/IE40 -> 0.64317181
A41: 2026-1-13 | B41: 124.52 | C41: 18808 | D41: 6039 | E41: =D41/C41 -> 0.32108677 | F41: =(B41)/C41 -> 0.006620587 | G41: =B41-B40 -> -34.5 | H41: =C41-C40 -> 266 | I41: =D41-D40 -> 74 | J41: =I41/H41 -> 0.27819549 | K41: =(G41)/H41 -> -0.12969925 | M41: 2026-1-13 | N41: 692.85 | O41: 1170 | P41: 555 | Q41: =P41/O41 -> 0.47435897 | R41: =N41-N40 -> -286.52 | S41: =O41-O40 -> 131 | T41: =P41-P40 -> 55 | U41: =T41/S41 -> 0.41984733 | W41: 2026-1-13 | X41: =N41/20 -> 34.6425 | Y41: =O41 -> 1170 | Z41: =P41 -> 555 | AA41: =Z41/Y41 -> 0.47435897 | AB41: =X41-X40 -> -14.326 | AC41: =Y41-Y40 -> 131 | AD41: =Z41-Z40 -> 55 | AE41: =AD41/AC41 -> 0.41984733 | AG41: 2026-1-13 | AH41: 235.48 | AI41: 6204 | AJ41: 1971 | AK41: =AJ41/AI41 -> 0.31769826 | AL41: =(AH41)/AI41 -> 0.037956157 | AM41: =AH41-AH40 -> -23.4 | AN41: =AI41-AI40 -> 56 | AO41: =AJ41-AJ40 -> 10 | AP41: =AO41/AN41 -> 0.17857143 | AQ41: =(AM41)/AN41 -> -0.41785714 | AS41: 2026-1-13 | AT41: 39.83 | AU41: 3235 | AV41: 1570 | AW41: =AV41/AU41 -> 0.48531685 | AX41: =(AT41)/AU41 -> 0.01231221 | AY41: =AT41-AT40 -> 0.96 | AZ41: =AU41-AU40 -> 153 | BA41: =AV41-AV40 -> 73 | BB41: =BA41/AZ41 -> 0.47712418 | BC41: =(AY41)/AZ41 -> 0.0062745098 | BE41: 2026-1-13 | BF41: -26.17 | BG41: 641 | BH41: 65 | BI41: =BH41/BG41 -> 0.10140406 | BJ41: =(BF41)/BG41 -> -0.040826833 | BK41: =BF41-BF40 -> -30.45 | BL41: =BG41-BG40 -> 46 | BM41: =BH41-BH40 -> 3 | BN41: =BM41/BL41 -> 0.065217391 | BO41: =(BK41)/BL41 -> -0.66195652 | BQ41: 2026-1-13 | BR41: 42.39 | BS41: 543 | BT41: 52 | BU41: =BT41/BS41 -> 0.095764273 | BV41: =(BR41)/BS41 -> 0.078066298 | BW41: =BR41-BR40 -> -27.9 | BX41: =BS41-BS40 -> 43 | BY41: =BT41-BT40 -> 2 | BZ41: =BY41/BX41 -> 0.046511628 | CA41: =(BW41)/BX41 -> -0.64883721 | CC41: 2026-1-13 | CD41: 48.23 | CE41: 1330 | CF41: 463 | CG41: =CF41/CE41 -> 0.3481203 | CH41: =(CD41)/CE41 -> 0.036263158 | CI41: =CD41-CD40 -> -4.81 | CJ41: =CE41-CE40 -> 108 | CK41: =CF41-CF40 -> 35 | CL41: =CK41/CJ41 -> 0.32407407 | CM41: =(CI41)/CJ41 -> -0.044537037 | CO41: 2026-1-13 | CP41: 12.35 | CQ41: 1393 | CR41: 442 | CS41: =CR41/CQ41 -> 0.31730079 | CT41: =(CP41)/CQ41 -> 0.0088657574 | CU41: =CP41-CP40 -> -16.75 | CV41: =CQ41-CQ40 -> 291 | CW41: =CR41-CR40 -> 78 | CX41: =CW41/CV41 -> 0.26804124 | CY41: =(CU41)/CV41 -> -0.057560137 | DA41: 2026-1-13 | DB41: -0.89 | DC41: 1330 | DD41: 688 | DE41: =DD41/DC41 -> 0.51729323 | DF41: =(DB41)/DC41 -> -0.00066917293 | DG41: =DB41-DB40 -> 1.33 | DH41: =DC41-DC40 -> 108 | DI41: =DD41-DD40 -> 61 | DJ41: =DI41/DH41 -> 0.56481481 | DK41: =(DG41)/DH41 -> 0.012314815 | DM41: 2026-1-13 | DN41: 21.85 | DO41: 1330 | DP41: 595 | DQ41: =DP41/DO41 -> 0.44736842 | DR41: =(DN41)/DO41 -> 0.016428571 | DS41: =DN41-DN40 -> -4.62 | DT41: =DO41-DO40 -> 108 | DU41: =DP41-DP40 -> 46 | DV41: =DU41/DT41 -> 0.42592593 | DW41: =(DS41)/DT41 -> -0.042777778 | DY41: =DM41 -> 2026-1-13 | DZ41: 33.16 | EA41: 1330 | EB41: 642 | EC41: =EB41/EA41 -> 0.48270677 | ED41: =(DZ41)/EA41 -> 0.024932331 | EE41: =DZ41-DZ40 -> -13.73 | EF41: =EA41-EA40 -> 138 | EG41: =EB41-EB40 -> 59 | EH41: =EG41/EF41 -> 0.42753623 | EI41: =(EE41)/EF41 -> -0.099492754 | EK41: 2026-1-13 | EL41: 5.18 | EM41: 1330 | EN41: 819 | EO41: =EN41/EM41 -> 0.61578947 | EP41: =(EL41)/EM41 -> 0.0038947368 | EQ41: =EL41-EL40 -> -35.65 | ER41: =EM41-EM40 -> 108 | ES41: =EN41-EN40 -> 225 | ET41: =ES41/ER41 -> 2.0833333 | EU41: =(EQ41)/ER41 -> -0.33009259 | EW41: 2026-1-13 | EX41: -0.45 | EY41: 420 | EZ41: 133 | FA41: =EZ41/EY41 -> 0.31666667 | FB41: =EX41-EX40 -> 1.73 | FC41: =EY41-EY40 -> 166 | FD41: =EZ41-EZ40 -> 53 | FE41: =FD41/FC41 -> 0.31927711 | FG41: 2026-1-13 | FH41: -23.72 | FI41: 123 | FJ41: 31 | FK41: =FJ41/FI41 -> 0.25203252 | FL41: =FH41-FH40 -> -9.92 | FM41: =FI41-FI40 -> 52 | FN41: =FJ41-FJ40 -> 13 | FO41: =FN41/FM41 -> 0.25 | FQ41: 2026-1-13 | FR41: -24.93 | FS41: 299 | FT41: 93 | FU41: =FT41/FS41 -> 0.31103679 | FV41: =FR41-FR40 -> -3.37 | FW41: =FS41-FS40 -> 108 | FX41: =FT41-FT40 -> 35 | FY41: =FX41/FW41 -> 0.32407407 | GA41: 2026-1-13 | GB41: -38.81 | GC41: 299 | GD41: 111 | GE41: =GD41/GC41 -> 0.37123746 | GF41: =GB41-GB40 -> -10.23 | GG41: =GC41-GC40 -> 108 | GH41: =GD41-GD40 -> 41 | GI41: =GH41/GG41 -> 0.37962963 | GK41: 2026-1-13 | GL41: -42.23 | GM41: 299 | GN41: 112 | GO41: =GN41/GM41 -> 0.37458194 | GP41: =GL41-GL40 -> -17.1 | GQ41: =GM41-GM40 -> 108 | GR41: =GN41-GN40 -> 40 | GS41: =GR41/GQ41 -> 0.37037037 | GU41: 2026-1-13 | GV41: 24.52 | GW41: 304 | GX41: 151 | GY41: =GX41/GW41 -> 0.49671053 | GZ41: =GV41-GV40 -> 12.28 | HA41: =GW41-GW40 -> 104 | HB41: =GX41-GX40 -> 55 | HC41: =HB41/HA41 -> 0.52884615 | HE41: 2026-1-13 | HF41: 5.87 | HG41: 47 | HH41: 5 | HI41: =HH41/HG41 -> 0.10638298 | HJ41: =HF41-HF40 -> 2.71 | HK41: =HG41-HG40 -> 22 | HL41: =HH41-HH40 -> 2 | HM41: =HL41/HK41 -> 0.090909091 | HO41: 2026-1-13 | HP41: 2.78 | HQ41: 36 | HR41: 3 | HS41: =HR41/HQ41 -> 0.083333333 | HT41: =HP41-HP40 -> 3.73 | HU41: =HQ41-HQ40 -> 17 | HV41: =HR41-HR40 -> 2 | HW41: =HV41/HU41 -> 0.11764706 | HY41: 2026-1-13 | HZ41: 29.56 | IA41: 354 | IB41: 234 | IC41: =IB41/IA41 -> 0.66101695 | ID41: =HZ41-HZ40 -> 30.51 | IE41: =IA41-IA40 -> 127 | IF41: =IB41-IB40 -> 88 | IG41: =IF41/IE41 -> 0.69291339
